BEGIN:VCALENDAR
VERSION:2.0
PRODID:-//Baptist Trumpet - ECPv6.15.20//NONSGML v1.0//EN
CALSCALE:GREGORIAN
METHOD:PUBLISH
X-WR-CALNAME:Baptist Trumpet
X-ORIGINAL-URL:https://baptisttrumpet.com
X-WR-CALDESC:Events for Baptist Trumpet
REFRESH-INTERVAL;VALUE=DURATION:PT1H
X-Robots-Tag:noindex
X-PUBLISHED-TTL:PT1H
BEGIN:VTIMEZONE
TZID:America/Chicago
BEGIN:DAYLIGHT
TZOFFSETFROM:-0600
TZOFFSETTO:-0500
TZNAME:CDT
DTSTART:20190310T080000
END:DAYLIGHT
BEGIN:STANDARD
TZOFFSETFROM:-0500
TZOFFSETTO:-0600
TZNAME:CST
DTSTART:20191103T070000
END:STANDARD
BEGIN:DAYLIGHT
TZOFFSETFROM:-0600
TZOFFSETTO:-0500
TZNAME:CDT
DTSTART:20200308T080000
END:DAYLIGHT
BEGIN:STANDARD
TZOFFSETFROM:-0500
TZOFFSETTO:-0600
TZNAME:CST
DTSTART:20201101T070000
END:STANDARD
BEGIN:DAYLIGHT
TZOFFSETFROM:-0600
TZOFFSETTO:-0500
TZNAME:CDT
DTSTART:20210314T080000
END:DAYLIGHT
BEGIN:STANDARD
TZOFFSETFROM:-0500
TZOFFSETTO:-0600
TZNAME:CST
DTSTART:20211107T070000
END:STANDARD
END:VTIMEZONE
BEGIN:VEVENT
DTSTART;TZID=America/Chicago:20200726T103000
DTEND;TZID=America/Chicago:20200726T150000
DTSTAMP:20260421T133047
CREATED:20200616T210152Z
LAST-MODIFIED:20200616T210152Z
UID:5002-1595759400-1595775600@baptisttrumpet.com
SUMMARY:Homecoming - Union Grove\, Blevins
DESCRIPTION:   Union Grove\, Blevins\, July 26\, 10:30 a.m.\, Old Fashion Day\, Jerry Evans (morning message)\, Dee Ruple (afternoon message)\, lunch after morning service; Donald Thompson\, pastor.
URL:https://baptisttrumpet.com/event/homecoming-union-grove-blevins-3/
LOCATION:113
CATEGORIES:Homecoming
END:VEVENT
BEGIN:VEVENT
DTSTART;TZID=America/Chicago:20200726T103000
DTEND;TZID=America/Chicago:20200726T170000
DTSTAMP:20260421T133047
CREATED:20200317T183954Z
LAST-MODIFIED:20200317T183954Z
UID:4636-1595759400-1595782800@baptisttrumpet.com
SUMMARY:Homecoming - Bodcaw #1\, Bodcaw
DESCRIPTION:   Bodcaw #1\, Rosston\, July 26\, 10:30 a.m.\, Taylor Bruce (devotional)\, Mike Puckett (message); Lane Garner\, pastor.
URL:https://baptisttrumpet.com/event/homecoming-bodcaw-1-bodcaw-4/
CATEGORIES:Homecoming
END:VEVENT
END:VCALENDAR