BEGIN:VCALENDAR
VERSION:2.0
PRODID:-//Baptist Trumpet - ECPv6.15.20//NONSGML v1.0//EN
CALSCALE:GREGORIAN
METHOD:PUBLISH
X-ORIGINAL-URL:https://baptisttrumpet.com
X-WR-CALDESC:Events for Baptist Trumpet
REFRESH-INTERVAL;VALUE=DURATION:PT1H
X-Robots-Tag:noindex
X-PUBLISHED-TTL:PT1H
BEGIN:VTIMEZONE
TZID:America/Chicago
BEGIN:DAYLIGHT
TZOFFSETFROM:-0600
TZOFFSETTO:-0500
TZNAME:CDT
DTSTART:20190310T080000
END:DAYLIGHT
BEGIN:STANDARD
TZOFFSETFROM:-0500
TZOFFSETTO:-0600
TZNAME:CST
DTSTART:20191103T070000
END:STANDARD
BEGIN:DAYLIGHT
TZOFFSETFROM:-0600
TZOFFSETTO:-0500
TZNAME:CDT
DTSTART:20200308T080000
END:DAYLIGHT
BEGIN:STANDARD
TZOFFSETFROM:-0500
TZOFFSETTO:-0600
TZNAME:CST
DTSTART:20201101T070000
END:STANDARD
BEGIN:DAYLIGHT
TZOFFSETFROM:-0600
TZOFFSETTO:-0500
TZNAME:CDT
DTSTART:20210314T080000
END:DAYLIGHT
BEGIN:STANDARD
TZOFFSETFROM:-0500
TZOFFSETTO:-0600
TZNAME:CST
DTSTART:20211107T070000
END:STANDARD
END:VTIMEZONE
BEGIN:VEVENT
DTSTART;TZID=America/Chicago:20200927T100000
DTEND;TZID=America/Chicago:20200927T190000
DTSTAMP:20260421T105639
CREATED:20200901T204228Z
LAST-MODIFIED:20200901T204228Z
UID:5333-1601200800-1601233200@baptisttrumpet.com
SUMMARY:Homecoming - Prospect\, Jonesboro
DESCRIPTION:   Prospect\, Jonesboro\, Sept. 27\, morning service\, fish fry in the evening service; Mike Book\, pastor.
URL:https://baptisttrumpet.com/event/homecoming-prospect-jonesboro-2/
CATEGORIES:Homecoming
END:VEVENT
END:VCALENDAR