BEGIN:VCALENDAR
VERSION:2.0
PRODID:-//Baptist Trumpet - ECPv6.15.20//NONSGML v1.0//EN
CALSCALE:GREGORIAN
METHOD:PUBLISH
X-WR-CALNAME:Baptist Trumpet
X-ORIGINAL-URL:https://baptisttrumpet.com
X-WR-CALDESC:Events for Baptist Trumpet
REFRESH-INTERVAL;VALUE=DURATION:PT1H
X-Robots-Tag:noindex
X-PUBLISHED-TTL:PT1H
BEGIN:VTIMEZONE
TZID:America/Chicago
BEGIN:DAYLIGHT
TZOFFSETFROM:-0600
TZOFFSETTO:-0500
TZNAME:CDT
DTSTART:20190310T080000
END:DAYLIGHT
BEGIN:STANDARD
TZOFFSETFROM:-0500
TZOFFSETTO:-0600
TZNAME:CST
DTSTART:20191103T070000
END:STANDARD
BEGIN:DAYLIGHT
TZOFFSETFROM:-0600
TZOFFSETTO:-0500
TZNAME:CDT
DTSTART:20200308T080000
END:DAYLIGHT
BEGIN:STANDARD
TZOFFSETFROM:-0500
TZOFFSETTO:-0600
TZNAME:CST
DTSTART:20201101T070000
END:STANDARD
BEGIN:DAYLIGHT
TZOFFSETFROM:-0600
TZOFFSETTO:-0500
TZNAME:CDT
DTSTART:20210314T080000
END:DAYLIGHT
BEGIN:STANDARD
TZOFFSETFROM:-0500
TZOFFSETTO:-0600
TZNAME:CST
DTSTART:20211107T070000
END:STANDARD
END:VTIMEZONE
BEGIN:VEVENT
DTSTART;TZID=America/Chicago:20201122T104000
DTEND;TZID=America/Chicago:20201122T143000
DTSTAMP:20260421T094224
CREATED:20200901T204345Z
LAST-MODIFIED:20200901T204345Z
UID:5335-1606041600-1606055400@baptisttrumpet.com
SUMMARY:CANCELED - 150th Homecoming\, Oak Grove\, Jonesboro
DESCRIPTION:   150th Homecoming\, Oak Grove\, Jonesboro\, Nov. 22\, 10:40 a.m. service\, 12 p.m. lunch.; Wynndel King\, pastor.
URL:https://baptisttrumpet.com/event/150th-homecoming-oak-grove-jonesboro/
LOCATION:Oak Grove Baptist Church\, Jonesboro\, 2187 Highway 349\, Jonesboro\, AR\, 72404\, United States
CATEGORIES:Homecoming
END:VEVENT
BEGIN:VEVENT
DTSTART;TZID=America/Chicago:20201122T110000
DTEND;TZID=America/Chicago:20201122T143000
DTSTAMP:20260421T094224
CREATED:20200901T204529Z
LAST-MODIFIED:20200901T204529Z
UID:5337-1606042800-1606055400@baptisttrumpet.com
SUMMARY:CANCELED - Homecoming - Marcus Hill\, Enola
DESCRIPTION:   Marcus Hill\, Enola\, Nov. 22\, 11 a.m.; Kim Leach\, pastor.
URL:https://baptisttrumpet.com/event/homecoming-marcus-hill-enola-4/
LOCATION:Header Template – Default PRO
CATEGORIES:Homecoming
END:VEVENT
END:VCALENDAR