BEGIN:VCALENDAR
VERSION:2.0
PRODID:-//Baptist Trumpet - ECPv6.15.20//NONSGML v1.0//EN
CALSCALE:GREGORIAN
METHOD:PUBLISH
X-WR-CALNAME:Baptist Trumpet
X-ORIGINAL-URL:https://baptisttrumpet.com
X-WR-CALDESC:Events for Baptist Trumpet
REFRESH-INTERVAL;VALUE=DURATION:PT1H
X-Robots-Tag:noindex
X-PUBLISHED-TTL:PT1H
BEGIN:VTIMEZONE
TZID:America/Chicago
BEGIN:DAYLIGHT
TZOFFSETFROM:-0600
TZOFFSETTO:-0500
TZNAME:CDT
DTSTART:20180311T080000
END:DAYLIGHT
BEGIN:STANDARD
TZOFFSETFROM:-0500
TZOFFSETTO:-0600
TZNAME:CST
DTSTART:20181104T070000
END:STANDARD
BEGIN:DAYLIGHT
TZOFFSETFROM:-0600
TZOFFSETTO:-0500
TZNAME:CDT
DTSTART:20190310T080000
END:DAYLIGHT
BEGIN:STANDARD
TZOFFSETFROM:-0500
TZOFFSETTO:-0600
TZNAME:CST
DTSTART:20191103T070000
END:STANDARD
BEGIN:DAYLIGHT
TZOFFSETFROM:-0600
TZOFFSETTO:-0500
TZNAME:CDT
DTSTART:20200308T080000
END:DAYLIGHT
BEGIN:STANDARD
TZOFFSETFROM:-0500
TZOFFSETTO:-0600
TZNAME:CST
DTSTART:20201101T070000
END:STANDARD
BEGIN:DAYLIGHT
TZOFFSETFROM:-0600
TZOFFSETTO:-0500
TZNAME:CDT
DTSTART:20210314T080000
END:DAYLIGHT
BEGIN:STANDARD
TZOFFSETFROM:-0500
TZOFFSETTO:-0600
TZNAME:CST
DTSTART:20211107T070000
END:STANDARD
END:VTIMEZONE
BEGIN:VEVENT
DTSTART;TZID=America/Chicago:20200726T103000
DTEND;TZID=America/Chicago:20200726T170000
DTSTAMP:20260421T044312
CREATED:20200317T183954Z
LAST-MODIFIED:20200317T183954Z
UID:4636-1595759400-1595782800@baptisttrumpet.com
SUMMARY:Homecoming - Bodcaw #1\, Bodcaw
DESCRIPTION:   Bodcaw #1\, Rosston\, July 26\, 10:30 a.m.\, Taylor Bruce (devotional)\, Mike Puckett (message); Lane Garner\, pastor.
URL:https://baptisttrumpet.com/event/homecoming-bodcaw-1-bodcaw-4/
LOCATION:AR
CATEGORIES:Homecoming
END:VEVENT
BEGIN:VEVENT
DTSTART;TZID=America/Chicago:20200726T103000
DTEND;TZID=America/Chicago:20200726T150000
DTSTAMP:20260421T044312
CREATED:20200616T210152Z
LAST-MODIFIED:20200616T210152Z
UID:5002-1595759400-1595775600@baptisttrumpet.com
SUMMARY:Homecoming - Union Grove\, Blevins
DESCRIPTION:   Union Grove\, Blevins\, July 26\, 10:30 a.m.\, Old Fashion Day\, Jerry Evans (morning message)\, Dee Ruple (afternoon message)\, lunch after morning service; Donald Thompson\, pastor.
URL:https://baptisttrumpet.com/event/homecoming-union-grove-blevins-3/
LOCATION:113
CATEGORIES:Homecoming
END:VEVENT
BEGIN:VEVENT
DTSTART;TZID=America/Chicago:20200719T103000
DTEND;TZID=America/Chicago:20200719T150000
DTSTAMP:20260421T044312
CREATED:20200609T192432Z
LAST-MODIFIED:20200609T192432Z
UID:4944-1595154600-1595170800@baptisttrumpet.com
SUMMARY:Homecoming - Bluff Springs\, Rosston
DESCRIPTION:   Bluff Springs\, Rosston\, July 19\, 10:30 a.m.\, Stan Parrish\, speaker\, followed by lunch at the church and singing in the afternoon. Donnie Dillard\, pastor.
URL:https://baptisttrumpet.com/event/homecoming-bluff-springs-rosston-2/
LOCATION:AR
CATEGORIES:Homecoming
END:VEVENT
BEGIN:VEVENT
DTSTART;TZID=America/Chicago:20200503T100000
DTEND;TZID=America/Chicago:20200503T130000
DTSTAMP:20260421T044312
CREATED:20200317T183900Z
LAST-MODIFIED:20200317T183900Z
UID:4634-1588500000-1588510800@baptisttrumpet.com
SUMMARY:Homecoming - Woodberry\, Hampton
DESCRIPTION:   Woodberry\, Hampton\, May 3\, 10 a.m. singing\, 11 a.m. preaching\, fellowship to follow; Robbie Duncan\, pastor.
URL:https://baptisttrumpet.com/event/homecoming-woodberry-hampton/
LOCATION:AR
CATEGORIES:Homecoming
END:VEVENT
BEGIN:VEVENT
DTSTART;TZID=America/Chicago:20200322T093000
DTEND;TZID=America/Chicago:20200322T140000
DTSTAMP:20260421T044312
CREATED:20200317T184133Z
LAST-MODIFIED:20200317T184133Z
UID:4638-1584869400-1584885600@baptisttrumpet.com
SUMMARY:160th Homecoming - First\, McNeil - POSTPONED
DESCRIPTION:   Postponed – 160th Homecoming\, First\, McNeil\, March 22\, 9:40 a.m.\, Danny Bullock\, speaker; Ken Williams\, pastor.
URL:https://baptisttrumpet.com/event/160th-homecoming-first-mcneil-postponed/
LOCATION:First Baptist Church – McNeil\, 2000 Columbia Road 45\, McNeil\, AR\, 71752\, United States
CATEGORIES:Homecoming
END:VEVENT
BEGIN:VEVENT
DTSTART;TZID=America/Chicago:20200315T103000
DTEND;TZID=America/Chicago:20200315T150000
DTSTAMP:20260421T044312
CREATED:20200204T203533Z
LAST-MODIFIED:20200204T203533Z
UID:4438-1584268200-1584284400@baptisttrumpet.com
SUMMARY:Homecoming - College View\, Magnolia
DESCRIPTION:   College View\, Magnolia\, March 15\, 10:30 a.m.\, Philip Attebery\, speaker\, Neil Dumas\, worship; Paul Bullock\, pastor.
URL:https://baptisttrumpet.com/event/homecoming-college-view-magnolia/
LOCATION:College View Baptist – Magnolia\, 2121 N Washington\, Magnolia\, AR\, 71753\, United States
CATEGORIES:Homecoming
END:VEVENT
BEGIN:VEVENT
DTSTART;TZID=America/Chicago:20191215T100000
DTEND;TZID=America/Chicago:20191215T150000
DTSTAMP:20260421T044312
CREATED:20191205T131738Z
LAST-MODIFIED:20191205T131738Z
UID:4137-1576404000-1576422000@baptisttrumpet.com
SUMMARY:125th Anniversary\, Friendship\, Greenbrier
DESCRIPTION:   125th Anniversary\, Friendship\, Greenbrier\, Dec. 15\, 10 a.m. Sunday School\, 10:30 a.m. Worship followed by potluck lunch\, 1:30 p.m. Willis Family Singers. Dwayne Thomas\, pastor.
URL:https://baptisttrumpet.com/event/125th-anniversary-friendship-greenbrier/
LOCATION:Friendship Baptist Church- Greenbrier\, 170 Cash Springs Rd.\, Greenbrier\, AR\, 72058\, United States
CATEGORIES:Homecoming
END:VEVENT
BEGIN:VEVENT
DTSTART;TZID=America/Chicago:20191027T100000
DTEND;TZID=America/Chicago:20191027T140000
DTSTAMP:20260421T044312
CREATED:20191008T194606Z
LAST-MODIFIED:20191008T194606Z
UID:3847-1572170400-1572184800@baptisttrumpet.com
SUMMARY:Homecoming - Elm Grove\, Lunsford
DESCRIPTION:Elm Grove\, Lunsford\, Oct. 27\, 10 a.m. services with lunch to follow; Blake Hogan\, guest speaker; Dal Hogan\, pastor.
URL:https://baptisttrumpet.com/event/homecoming-elm-grove-lunsford/
LOCATION:Elm Grove Baptist Church\, 2331 Hwy 69\, Lake City\, AR\, 72437\, United States
CATEGORIES:Homecoming
END:VEVENT
BEGIN:VEVENT
DTSTART;TZID=America/Chicago:20191020T100000
DTEND;TZID=America/Chicago:20191020T123000
DTSTAMP:20260421T044312
CREATED:20190917T212140Z
LAST-MODIFIED:20190917T212140Z
UID:3753-1571565600-1571574600@baptisttrumpet.com
SUMMARY:80th Anniversary Homecoming\, Pilgrims Rest\, Magnolia
DESCRIPTION:80th Anniversary Homecoming\, Pilgrims Rest\, Magnolia\, Oct. 20\, 10 a.m.; Robert Gunnels\, pastor.
URL:https://baptisttrumpet.com/event/80th-anniversary-homecoming-pilgrims-rest-magnolia/
LOCATION:Pilgrims Rest Baptist Church – Magnolia\, 1320 Columbia Road 15\, Magnolia\, AR\, 71753\, United States
CATEGORIES:Homecoming
END:VEVENT
BEGIN:VEVENT
DTSTART;TZID=America/Chicago:20191006T103000
DTEND;TZID=America/Chicago:20191006T150000
DTSTAMP:20260421T044312
CREATED:20190820T212409Z
LAST-MODIFIED:20190820T212409Z
UID:3564-1570357800-1570374000@baptisttrumpet.com
SUMMARY:131st Anniversary Homecoming\, First\, Waldo
DESCRIPTION:131st Anniversary Homecoming\, First\, Waldo\, Oct. 6; Worship (10:30 a.m.)\, Roy Tilley\, speaker\, lunch followed by singing (1 p.m.); David Watkins\, pastor.
URL:https://baptisttrumpet.com/event/131st-anniversary-homecoming-first-waldo/
LOCATION:First Baptist Church – Waldo\, 201 N Olive St\, Waldo\, AR\, 71770\, United States
CATEGORIES:Homecoming
END:VEVENT
BEGIN:VEVENT
DTSTART;TZID=America/Chicago:20190929T100000
DTEND;TZID=America/Chicago:20190929T140000
DTSTAMP:20260421T044312
CREATED:20190813T201005Z
LAST-MODIFIED:20190813T201005Z
UID:3510-1569751200-1569765600@baptisttrumpet.com
SUMMARY:Homecoming - Central\, Trumann
DESCRIPTION:Central\, Trumann\, Sept. 29\, The Bonham Family Concert (10 a.m.)\, Bill Maxwell\, speaker (11 a.m.)\, lunch at the church; Joel McMasters\, pastor.
URL:https://baptisttrumpet.com/event/homecoming-central-trumann/
LOCATION:Central Baptist Church – Trumann\, 610 W Speedway St\, Trumann\, 72472\, United States
CATEGORIES:Homecoming
END:VEVENT
BEGIN:VEVENT
DTSTART;TZID=America/Chicago:20190922T100000
DTEND;TZID=America/Chicago:20190922T133000
DTSTAMP:20260421T044312
CREATED:20190917T211948Z
LAST-MODIFIED:20190917T211948Z
UID:3751-1569146400-1569159000@baptisttrumpet.com
SUMMARY:Homecoming - Prospect\, Jonesboro
DESCRIPTION:Prospect\, Jonesboro\, Sept. 22\, 10 a.m.\, special music by The Poes and Holcombs\, Paul White\, speaker\, potluck lunch following service; Michael Book\, pastor.
URL:https://baptisttrumpet.com/event/homecoming-prospect-jonesboro/
LOCATION:AR
CATEGORIES:Homecoming
END:VEVENT
BEGIN:VEVENT
DTSTART;TZID=America/Chicago:20190922T000000
DTEND;TZID=America/Chicago:20190922T235959
DTSTAMP:20260421T044312
CREATED:20190717T153758Z
LAST-MODIFIED:20190717T153758Z
UID:3027-1569110400-1569196799@baptisttrumpet.com
SUMMARY:20th Homecoming\, Highland Hills\, Highland
DESCRIPTION:20th Homecoming\, Highland Hills\, Highland\, Sept. 22; Paul Vincent\, pastor.
URL:https://baptisttrumpet.com/event/20th-homecoming-highland-hills-highland/
LOCATION:Highland Hills Baptist Church- Highland\, 2021 Hwy 62 412\, Highland\, AR\, 72542\, United States
CATEGORIES:Homecoming
END:VEVENT
BEGIN:VEVENT
DTSTART;TZID=America/Chicago:20190915T110000
DTEND;TZID=America/Chicago:20190915T153000
DTSTAMP:20260421T044312
CREATED:20190828T124203Z
LAST-MODIFIED:20190828T124203Z
UID:3649-1568545200-1568561400@baptisttrumpet.com
SUMMARY:Homecoming - Mt. Nebo\, Hope
DESCRIPTION:   Mt. Nebo\, Hope\, Sept. 15\, Worship (11 a.m.)\, potluck lunch followed by The Punches Bluegrass Gospel (1:30 p.m.)\, Lane Garner\, guest speaker; Bruce Porter\, pastor.
URL:https://baptisttrumpet.com/event/homecoming-mt-nebo-hope-3/
LOCATION:AR
CATEGORIES:Homecoming
END:VEVENT
BEGIN:VEVENT
DTSTART;TZID=America/Chicago:20190915T000000
DTEND;TZID=America/Chicago:20190915T235959
DTSTAMP:20260421T044312
CREATED:20190723T222302Z
LAST-MODIFIED:20190723T222302Z
UID:3058-1568505600-1568591999@baptisttrumpet.com
SUMMARY:115th Anniversary Homecoming\, Landmark\, England
DESCRIPTION:   115th Anniversary Homecoming\, Landmark\, England\, Sept. 15; 9:45 a.m. Sunday School\, 10:45 a.m. worship\, potluck lunch\, 1:30 p.m. afternoon service; David Jimerson\, speaker; David Inzer\, pastor.
URL:https://baptisttrumpet.com/event/115th-anniversary-homecoming-landmark-england/
LOCATION:Landmark Baptist Church- England\, 501 Stuttgart Hwy.\, England\, AR\, 71046\, United States
CATEGORIES:Homecoming
END:VEVENT
BEGIN:VEVENT
DTSTART;TZID=America/Chicago:20190908T100000
DTEND;TZID=America/Chicago:20190908T140000
DTSTAMP:20260421T044312
CREATED:20190828T124110Z
LAST-MODIFIED:20190828T124110Z
UID:3647-1567936800-1567951200@baptisttrumpet.com
SUMMARY:Homecoming - 73rd Anniversary Sunday\, Okay Community\, Saratoga
DESCRIPTION:   73rd Anniversary Sunday\, Okay Community\, Saratoga\, Sept. 8\, 10 a.m. Sunday School\, 11 a.m. worship followed by lunch at the church; For information\, call (870) 388-9200.
URL:https://baptisttrumpet.com/event/homecoming-73rd-anniversary-sunday-okay-community-saratoga/
LOCATION:AR
CATEGORIES:Homecoming
END:VEVENT
BEGIN:VEVENT
DTSTART;TZID=America/Chicago:20190908T100000
DTEND;TZID=America/Chicago:20190908T140000
DTSTAMP:20260421T044312
CREATED:20190813T200729Z
LAST-MODIFIED:20190813T200729Z
UID:3508-1567936800-1567951200@baptisttrumpet.com
SUMMARY:Homecoming - Rock Hill\, Jonesboro
DESCRIPTION:Rock Hill\, Jonesboro\, Sept. 8\, 10 a.m. Sunday School and worship with singing and special speaker\, lunch at noon; Rich Norris\, interim pastor
URL:https://baptisttrumpet.com/event/homecoming-rock-hill-jonesboro-2/
LOCATION:AR
CATEGORIES:Homecoming
END:VEVENT
BEGIN:VEVENT
DTSTART;TZID=America/Chicago:20190825T103000
DTEND;TZID=America/Chicago:20190825T150000
DTSTAMP:20260421T044312
CREATED:20190806T204158Z
LAST-MODIFIED:20190806T204158Z
UID:3177-1566729000-1566745200@baptisttrumpet.com
SUMMARY:75th Homecoming\, Shady Grove\, Piggott
DESCRIPTION:75th Homecoming\, Shady Grove\, Piggott\, Aug. 25\, 10:30 a.m. worship\, lunch at the church. Robert Gunnels\, pastor.
URL:https://baptisttrumpet.com/event/75th-homecoming-shady-grove-piggott/
LOCATION:AR
CATEGORIES:Homecoming
END:VEVENT
BEGIN:VEVENT
DTSTART;TZID=America/Chicago:20190825T100000
DTEND;TZID=America/Chicago:20190825T150000
DTSTAMP:20260421T044312
CREATED:20190710T142135Z
LAST-MODIFIED:20190710T142135Z
UID:2971-1566727200-1566745200@baptisttrumpet.com
SUMMARY:Homecoming - Faustina\, Hampton
DESCRIPTION:Faustina\, Hampton\, Aug. 25\, 10 a.m. Sunday School\, 11 a.m. worship\, potluck lunch\, Brandon Evans\, speaker; Gene Boyette\, pastor.
URL:https://baptisttrumpet.com/event/homecoming-faustina-hampton-3/
LOCATION:Retina BaptistTrumpet_Logo_BlackRedCMYK
CATEGORIES:Homecoming
END:VEVENT
BEGIN:VEVENT
DTSTART;TZID=America/Chicago:20190818T103000
DTEND;TZID=America/Chicago:20190818T170000
DTSTAMP:20260421T044312
CREATED:20190806T203912Z
LAST-MODIFIED:20190806T203912Z
UID:3172-1566124200-1566147600@baptisttrumpet.com
SUMMARY:178th Homecoming\, Macedonia\, Jonesboro
DESCRIPTION:   178th Homecoming\, Macedonia\, Jonesboro\, Aug. 18\, 10:30 a.m. Special music by The Crossroads\, lunch after church\, singing in the afternoon. Don Seat\, pastor.
URL:https://baptisttrumpet.com/event/178th-homecoming-macedonia-jonesboro/
LOCATION:AR
CATEGORIES:Homecoming
END:VEVENT
BEGIN:VEVENT
DTSTART;TZID=America/Chicago:20190818T000000
DTEND;TZID=America/Chicago:20190818T235959
DTSTAMP:20260421T044312
CREATED:20190806T204107Z
LAST-MODIFIED:20190806T204107Z
UID:3174-1566086400-1566172799@baptisttrumpet.com
SUMMARY:Homecoming - Valley View\, Jonesboro
DESCRIPTION:   Valley View\, Jonesboro\, Aug. 18\, Special music by The Poes at 1 p.m. Mike Wallace\, pastor.
URL:https://baptisttrumpet.com/event/homecoming-valley-view-jonesboro/
LOCATION:Valley View Baptist Church\, 2456 Hwy 349\, Jonesboro\, AR\, 72104\, United States
CATEGORIES:Homecoming
END:VEVENT
BEGIN:VEVENT
DTSTART;TZID=America/Chicago:20190811T090000
DTEND;TZID=America/Chicago:20190811T130000
DTSTAMP:20260421T044312
CREATED:20190717T153449Z
LAST-MODIFIED:20190717T153449Z
UID:3023-1565514000-1565528400@baptisttrumpet.com
SUMMARY:Homecoming - Beacon\, Taylor
DESCRIPTION:Beacon\, Taylor\, Aug. 11\, 9 a.m. Sunday School\, 10 a.m. worship\, 12 p.m. Brady Rhodes concert. Karry Easley\, pastor.
URL:https://baptisttrumpet.com/event/homecoming-beacon-taylor-2/
LOCATION:Beacon Baptist Church\, 10061 Highway 371 S\, Taylor\, AR\, 71861\, United States
CATEGORIES:Homecoming
END:VEVENT
BEGIN:VEVENT
DTSTART;TZID=America/Chicago:20190810T170000
DTEND;TZID=America/Chicago:20190811T150000
DTSTAMP:20260421T044312
CREATED:20190710T141759Z
LAST-MODIFIED:20190710T141759Z
UID:2967-1565456400-1565535600@baptisttrumpet.com
SUMMARY:Homecoming - 50th Homecoming\, Fairview\, Blytheville
DESCRIPTION:50th Homecoming\, Fairview\, Blytheville\, Aug. 10-11\, 5 p.m. dinner\, 6 p.m. service\, Jerry Jolly\, speaker (Sat.); 10:45 a.m. service\, Larry Haynes and Coy Camp\, speakers\, with lunch at the church (Sun.); Mike Silvey\, pastor.
URL:https://baptisttrumpet.com/event/homecoming-50th-homecoming-fairview-blytheville/
LOCATION:Fairview Baptist Church – Blytheville\, 1100 N Franklin Street\, Blytheville\, AR\, 72315\, United States
CATEGORIES:Homecoming
END:VEVENT
BEGIN:VEVENT
DTSTART;TZID=America/Chicago:20190804T103000
DTEND;TZID=America/Chicago:20190804T150000
DTSTAMP:20260421T044312
CREATED:20190710T141607Z
LAST-MODIFIED:20190710T141607Z
UID:2965-1564914600-1564930800@baptisttrumpet.com
SUMMARY:Homecoming - Homecoming and Building Dedication\, Barney\, Enola
DESCRIPTION:Homecoming and Building Dedication\, Barney\, Enola\, Aug. 4\, 10:30 a.m.\, lunch at the church\, singing in the afternoon by The Willis Family Singing by Grace. James Willis\, speaker; Reagan Shearer\, pastor.
URL:https://baptisttrumpet.com/event/homecoming-homecoming-and-building-dedication-barney-enola/
LOCATION:AR
CATEGORIES:Homecoming
END:VEVENT
BEGIN:VEVENT
DTSTART;TZID=America/Chicago:20190804T100000
DTEND;TZID=America/Chicago:20190804T120000
DTSTAMP:20260421T044312
CREATED:20190723T222139Z
LAST-MODIFIED:20190723T222139Z
UID:3055-1564912800-1564920000@baptisttrumpet.com
SUMMARY:Homecoming - Sand Springs\, Damascus
DESCRIPTION:Sand Springs\, Damascus\, Aug. 4\, 10 a.m.; Gaylon King\, pastor/speaker.
URL:https://baptisttrumpet.com/event/homecoming-sand-springs-damascus/
LOCATION:Sand Springs Baptist Church\, Damascus\, 5189 Hwy 124\, AR\, 72039\, United States
CATEGORIES:Homecoming
END:VEVENT
BEGIN:VEVENT
DTSTART;TZID=America/Chicago:20190728T103000
DTEND;TZID=America/Chicago:20190728T170000
DTSTAMP:20260421T044312
CREATED:20190709T215409Z
LAST-MODIFIED:20190709T215409Z
UID:2961-1564309800-1564333200@baptisttrumpet.com
SUMMARY:Homecoming - 100th Homecoming\, Cross Roads\, Warren
DESCRIPTION:100th Homecoming\, Cross Roads\, Warren\, July 28\, 10:30 a.m.; Dwayne Ashcraft and Tony Atkins\, speakers; lunch at the church\, followed by the Haygoods in concert; Sidney McGraw\, pastor.
URL:https://baptisttrumpet.com/event/homecoming-100th-homecoming-cross-roads-warren/
LOCATION:Fewer Emojis Please
CATEGORIES:Homecoming
END:VEVENT
BEGIN:VEVENT
DTSTART;TZID=America/Chicago:20190728T100000
DTEND;TZID=America/Chicago:20190728T150000
DTSTAMP:20260421T044312
CREATED:20190710T141445Z
LAST-MODIFIED:20190710T141445Z
UID:2963-1564308000-1564326000@baptisttrumpet.com
SUMMARY:Homecoming - 141st Homecoming\, Russell\, Russell
DESCRIPTION:141st Homecoming\, Russell\, Russell\, July 28\, 10 a.m. Sunday School\, 11 a.m. worship\, noon meal and Robbie Hannah in concert at 1:30 p.m. Randy Zinn\, pastor.
URL:https://baptisttrumpet.com/event/homecoming-141st-homecoming-russell-russell/
LOCATION:AR
CATEGORIES:Homecoming
END:VEVENT
BEGIN:VEVENT
DTSTART;TZID=America/Chicago:20190721T103000
DTEND;TZID=America/Chicago:20190721T143000
DTSTAMP:20260421T044312
CREATED:20190411T174026Z
LAST-MODIFIED:20190411T174026Z
UID:2527-1563705000-1563719400@baptisttrumpet.com
SUMMARY:Homecoming- Bodcaw #1\, Bodcaw
DESCRIPTION:Bodcaw #1\, Bodcaw\, July 21\, 10:30 a.m.; Taylor Bruce\, speaker; John Ed Dorman\, devotional; lunch at the church\, singing the in the afternoon; Lane Garner\, pastor.
URL:https://baptisttrumpet.com/event/homecoming-bodcaw-1-bodcaw-3/
LOCATION:AR
CATEGORIES:Homecoming
END:VEVENT
BEGIN:VEVENT
DTSTART;TZID=America/Chicago:20190721T103000
DTEND;TZID=America/Chicago:20190721T140000
DTSTAMP:20260421T044312
CREATED:20190411T174219Z
LAST-MODIFIED:20190411T174219Z
UID:2529-1563705000-1563717600@baptisttrumpet.com
SUMMARY:Homecoming-Bodcaw #2\, Rosston
DESCRIPTION:Bodcaw #2\, Rosston\, July 21\, 10:30 a.m.; Jerry Evans\, speaker; Ed Phillips\, pastor.
URL:https://baptisttrumpet.com/event/homecoming-bodcaw-2-rosston-2/
LOCATION:404 Template – Default PRO
CATEGORIES:Homecoming
END:VEVENT
BEGIN:VEVENT
DTSTART;TZID=America/Chicago:20190721T100000
DTEND;TZID=America/Chicago:20190721T143000
DTSTAMP:20260421T044312
CREATED:20190624T005606Z
LAST-MODIFIED:20190624T005606Z
UID:2879-1563703200-1563719400@baptisttrumpet.com
SUMMARY:Homecoming- Flat Rock\, Quitman
DESCRIPTION:Flat Rock\, Quitman\, July 21\, 10 a.m. Sunday School; 11 a.m. special singing by the Willis Family\, message following; lunch at the church\, with singing with the Willis family in the afternoon. Preston Kelso\, pastor.
URL:https://baptisttrumpet.com/event/homecoming-flat-rock-quitman-3/
LOCATION:Home
CATEGORIES:Homecoming
END:VEVENT
END:VCALENDAR