BEGIN:VCALENDAR
VERSION:2.0
PRODID:-//Baptist Trumpet - ECPv6.15.20//NONSGML v1.0//EN
CALSCALE:GREGORIAN
METHOD:PUBLISH
X-WR-CALNAME:Baptist Trumpet
X-ORIGINAL-URL:https://baptisttrumpet.com
X-WR-CALDESC:Events for Baptist Trumpet
REFRESH-INTERVAL;VALUE=DURATION:PT1H
X-Robots-Tag:noindex
X-PUBLISHED-TTL:PT1H
BEGIN:VTIMEZONE
TZID:America/Chicago
BEGIN:DAYLIGHT
TZOFFSETFROM:-0600
TZOFFSETTO:-0500
TZNAME:CDT
DTSTART:20160313T080000
END:DAYLIGHT
BEGIN:STANDARD
TZOFFSETFROM:-0500
TZOFFSETTO:-0600
TZNAME:CST
DTSTART:20161106T070000
END:STANDARD
BEGIN:DAYLIGHT
TZOFFSETFROM:-0600
TZOFFSETTO:-0500
TZNAME:CDT
DTSTART:20170312T080000
END:DAYLIGHT
BEGIN:STANDARD
TZOFFSETFROM:-0500
TZOFFSETTO:-0600
TZNAME:CST
DTSTART:20171105T070000
END:STANDARD
BEGIN:DAYLIGHT
TZOFFSETFROM:-0600
TZOFFSETTO:-0500
TZNAME:CDT
DTSTART:20180311T080000
END:DAYLIGHT
BEGIN:STANDARD
TZOFFSETFROM:-0500
TZOFFSETTO:-0600
TZNAME:CST
DTSTART:20181104T070000
END:STANDARD
END:VTIMEZONE
BEGIN:VEVENT
DTSTART;TZID=America/Chicago:20170709T103000
DTEND;TZID=America/Chicago:20170709T130000
DTSTAMP:20260421T133048
CREATED:20170614T205849Z
LAST-MODIFIED:20170614T205849Z
UID:7951-1499596200-1499605200@baptisttrumpet.com
SUMMARY:Homecoming- Shover Springs\, Hope
DESCRIPTION:Shover Springs Baptist Church of Hope will have a homecoming July 9 at 10:30 a.m. Eric Barbaree will be the featured speaker. \n  \nPastor: Wayne Johnson
URL:https://baptisttrumpet.com/event/homecoming-shover-springs-hope/
LOCATION:Home
CATEGORIES:Homecoming
END:VEVENT
BEGIN:VEVENT
DTSTART;TZID=America/Chicago:20170709T103000
DTEND;TZID=America/Chicago:20170709T130000
DTSTAMP:20260421T133048
CREATED:20170608T202514Z
LAST-MODIFIED:20170608T202514Z
UID:7942-1499596200-1499605200@baptisttrumpet.com
SUMMARY:Homecoming- Bodcaw #2\, Rosston
DESCRIPTION:Bodcaw #2 Baptist Church will have a homecoming July 9 at 10:30 a.m. Bruce Porter will be the speaker in the morning message. \n  \nPastor: Ed Phillips \n 
URL:https://baptisttrumpet.com/event/homecoming-bodcaw-2-rosston/
LOCATION:404 Template – Default PRO
CATEGORIES:Homecoming
END:VEVENT
BEGIN:VEVENT
DTSTART;TZID=America/Chicago:20170709T000000
DTEND;TZID=America/Chicago:20170709T235959
DTSTAMP:20260421T133048
CREATED:20170614T204142Z
LAST-MODIFIED:20170614T204142Z
UID:7949-1499558400-1499644799@baptisttrumpet.com
SUMMARY:Homecoming- Kaley Hill\, Quitman
DESCRIPTION:Kaley Hill Baptist Church of Quitman will have their Homecoming July 9. Sidney McGraw will be the featured speaker. There will be lunch after the morning service.
URL:https://baptisttrumpet.com/event/homecoming-kaley-hill-quitman/
LOCATION:Kaley Hill Baptist Church- Quitman\, 6505 Bee Branch Rd.\, Quitman\, AR\, 72131\, United States
CATEGORIES:Homecoming
END:VEVENT
BEGIN:VEVENT
DTSTART;TZID=America/Chicago:20170702T000000
DTEND;TZID=America/Chicago:20170702T235959
DTSTAMP:20260421T133048
CREATED:20170614T203636Z
LAST-MODIFIED:20170614T203636Z
UID:485-1498953600-1499039999@baptisttrumpet.com
SUMMARY:Homecoming- First\, Damascus
DESCRIPTION:First Baptist Church of Damascus will have their homecoming July 2. They will be celebrating 131 years. The evening service will include a fireworks show.
URL:https://baptisttrumpet.com/event/homecoming-first-damascus/
LOCATION:First Baptist Church- Damascus\, 43 Oak Tree Rd.\, Damascus\, AR\, 72039\, United States
CATEGORIES:Homecoming
END:VEVENT
BEGIN:VEVENT
DTSTART;TZID=America/Chicago:20170625T100000
DTEND;TZID=America/Chicago:20170625T143000
DTSTAMP:20260421T133048
CREATED:20170608T202136Z
LAST-MODIFIED:20170608T202136Z
UID:7941-1498384800-1498401000@baptisttrumpet.com
SUMMARY:Homecoming- Marcus Hill\, Enola
DESCRIPTION:Marcus Hill Baptist Church of Enola will have homecoming services June 25 at 10 a.m. There will be a lunch at the church followed by singing in the afternoon\, led by the Willis Family. \n  \nPastor: Kim Leach
URL:https://baptisttrumpet.com/event/homecoming-marcus-hill-enola/
LOCATION:Header Template – Default PRO
CATEGORIES:Homecoming
END:VEVENT
BEGIN:VEVENT
DTSTART;TZID=America/Chicago:20170625T000000
DTEND;TZID=America/Chicago:20170625T235959
DTSTAMP:20260421T133048
CREATED:20170608T201759Z
LAST-MODIFIED:20170608T201759Z
UID:7940-1498348800-1498435199@baptisttrumpet.com
SUMMARY:Homecoming- Flat Rock\, Quitman
DESCRIPTION:Flat Rock Baptist Church of Quitman will have homecoming services June 25. Sunday school will begin at 10 a.m.\, followed by morning worship at 11. There will be lunch at the church\, followed by singing in the afternoon. \n  \nPastor: Preston Kelso
URL:https://baptisttrumpet.com/event/homecoming-flat-rock-quitman/
LOCATION:Home
CATEGORIES:Homecoming
END:VEVENT
BEGIN:VEVENT
DTSTART;TZID=America/Chicago:20170625T000000
DTEND;TZID=America/Chicago:20170625T235959
DTSTAMP:20260421T133048
CREATED:20170608T201259Z
LAST-MODIFIED:20170608T201259Z
UID:444-1498348800-1498435199@baptisttrumpet.com
SUMMARY:Homecoming- Center Hill\, Jonesboro
DESCRIPTION:Center Hill Baptist Church of Jonesboro will have homecoming services June 25. Former pastor Fred Jones will bring the morning message\, followed by a potluck lunch in the fellowship hall. There will be special singing in the afternoon. \n  \nPastor: John Travis
URL:https://baptisttrumpet.com/event/homecoming-center-hill-jonesboro/
LOCATION:Center Hill Baptist Church- Jonesboro\, 7341 County Rd. 333\, Jonesboro\, Arkansas\, 72401\, United States
CATEGORIES:Homecoming
END:VEVENT
BEGIN:VEVENT
DTSTART;TZID=America/Chicago:20170618T100000
DTEND;TZID=America/Chicago:20170618T153000
DTSTAMP:20260421T133048
CREATED:20170614T203231Z
LAST-MODIFIED:20170614T203231Z
UID:7948-1497780000-1497799800@baptisttrumpet.com
SUMMARY:Homecoming- Spring Creek\, Springdale
DESCRIPTION:Spring Creek Baptist Church of Springdale will host a 160th anniversary and homecoming June 18 beginning at 10 a.m. Former pastors will be the guest speakers and a lunch will be served. \n  \nPastor: Jimmy Tollison
URL:https://baptisttrumpet.com/event/homecoming-spring-creek-springdale/
LOCATION:Spring Creek Baptist Church- Springdale\, 8726 Wagon Wheel Rd.\, Springdale\, AR\, 72762\, United States
CATEGORIES:Homecoming
END:VEVENT
BEGIN:VEVENT
DTSTART;TZID=America/Chicago:20170611T100000
DTEND;TZID=America/Chicago:20170611T143000
DTSTAMP:20260421T133048
CREATED:20170608T201026Z
LAST-MODIFIED:20170608T201026Z
UID:7939-1497175200-1497191400@baptisttrumpet.com
SUMMARY:Homecoming- Center Grove\, Cord
DESCRIPTION:Center Grove Baptist Church of Cord will celebrate their Homecoming June 11\, beginning at 10:30 a.m. Pastor Charles Bullington will bring the message. Potluck and fellowship will follow the service. \n  \nPastor: Charles Bullington
URL:https://baptisttrumpet.com/event/homecoming-center-grove-cord/
LOCATION:Center Grove Baptist Church\, 8070 White Dr.\, Cord\, AR\, 72501\, United States
CATEGORIES:Homecoming
END:VEVENT
BEGIN:VEVENT
DTSTART;TZID=America/Chicago:20170611T100000
DTEND;TZID=America/Chicago:20170611T140000
DTSTAMP:20260421T133048
CREATED:20170608T200711Z
LAST-MODIFIED:20170608T200711Z
UID:7938-1497175200-1497189600@baptisttrumpet.com
SUMMARY:155th Anniversary and Homecoming- Antioch\, Nashville
DESCRIPTION:Antioch Baptist Church of Nashville will have its 155th Anniversary and Homecoming June 11 at 10 a.m. Message by Larry Silvey. There will be lunch at the church. \n  \nPastor: Bobby Neal
URL:https://baptisttrumpet.com/event/155th-anniversary-and-homecoming-antioch-nashville/
LOCATION:Footer Template – Default PRO
CATEGORIES:Homecoming
END:VEVENT
BEGIN:VEVENT
DTSTART;TZID=America/Chicago:20170604T103000
DTEND;TZID=America/Chicago:20170604T133000
DTSTAMP:20260421T133048
CREATED:20170601T212057Z
LAST-MODIFIED:20170601T212057Z
UID:7926-1496572200-1496583000@baptisttrumpet.com
SUMMARY:Homecoming- Blanchard Springs\, Junction City
DESCRIPTION:Blanchard Springs Baptist Church of Junction City will have Homecoming services June 4 beginning at 10:30 a.m. Special Music by Joy Full Spirit will be during the morning service. Lunch to follow. \n  \nPastor: Tim Hogue
URL:https://baptisttrumpet.com/event/homecoming-blanchard-springs-junction-city/
CATEGORIES:Homecoming
END:VEVENT
BEGIN:VEVENT
DTSTART;TZID=America/Chicago:20170604T100000
DTEND;TZID=America/Chicago:20170604T130000
DTSTAMP:20260421T133048
CREATED:20170601T211719Z
LAST-MODIFIED:20170601T211719Z
UID:7925-1496570400-1496581200@baptisttrumpet.com
SUMMARY:Homecoming- Mt. Pleasant\, Plumerville
DESCRIPTION:Mt. Pleasant Baptist Church of Plumerville will hold Homecoming services June 4 beginning at 10 a.m. There will be a potluck lunch following the services. \n  \nPastor: Jeff Russell
URL:https://baptisttrumpet.com/event/homecoming-mt-pleasant-plumerville/
CATEGORIES:Homecoming
END:VEVENT
BEGIN:VEVENT
DTSTART;TZID=America/Chicago:20170604T093000
DTEND;TZID=America/Chicago:20170604T133000
DTSTAMP:20260421T133048
CREATED:20170601T211214Z
LAST-MODIFIED:20170601T211214Z
UID:7924-1496568600-1496583000@baptisttrumpet.com
SUMMARY:Homecoming- Kingsland\, Kingsland
DESCRIPTION:Kingsland Baptist Church of Kingsland will have their homecoming service June 4\, beginning at 9:45 a.m. Donis Smead will bring the message and the Smead girls will provide the music. \n  \nPastor: Rick Bolin
URL:https://baptisttrumpet.com/event/homecoming-kingsland-kingsland/
LOCATION:Kingsland Baptist Church\, 200 1st St.\, Kingsland\, AR\, 71652\, United States
CATEGORIES:Homecoming
END:VEVENT
BEGIN:VEVENT
DTSTART;TZID=America/Chicago:20170528T103000
DTEND;TZID=America/Chicago:20170528T163000
DTSTAMP:20260421T133048
CREATED:20170417T165905Z
LAST-MODIFIED:20170417T165905Z
UID:155-1495967400-1495989000@baptisttrumpet.com
SUMMARY:Homecoming- Union\, Rosston
DESCRIPTION:Union Baptist Church will celebrate 150 years with a Homecoming service May 28. Morning worship will begin at 10:30 with Ed Phillips speaking. There will be community singing in the afternoon. All former members are invited to share in the 150th Year Celebration.
URL:https://baptisttrumpet.com/event/homecoming-union-rosston/
LOCATION:Union Baptist Church- Rosston\, 1925 Hwy 53\, Rosston\, AR\, 71858\, United States
CATEGORIES:Homecoming
END:VEVENT
BEGIN:VEVENT
DTSTART;TZID=America/Chicago:20170528T100000
DTEND;TZID=America/Chicago:20170528T150000
DTSTAMP:20260421T133048
CREATED:20170511T182236Z
LAST-MODIFIED:20170511T182236Z
UID:7907-1495965600-1495983600@baptisttrumpet.com
SUMMARY:Homecoming- New Home\, Quitman
DESCRIPTION:New Home Baptist Church of Quitman will host their Homecoming May 28. Sunday School is at 10 a.m. with preaching at 11. A pot luck lunch will be served after the morning service followed by singing in the afternoon. ‘ \n  \nPastor: Don Betts
URL:https://baptisttrumpet.com/event/homecoming-new-home-quitman/
CATEGORIES:Homecoming
END:VEVENT
BEGIN:VEVENT
DTSTART;TZID=America/Chicago:20170521T103000
DTEND;TZID=America/Chicago:20170521T143000
DTSTAMP:20260421T133048
CREATED:20170511T181558Z
LAST-MODIFIED:20170511T181558Z
UID:7906-1495362600-1495377000@baptisttrumpet.com
SUMMARY:Homecoming- Bluff Springs\, Rosston
DESCRIPTION:Bluff Springs Baptist Church in Rosston will host their 136th Anniversary and Homecoming May 21 at 10:30 a.m. Travis Dillard will be the featured speaker. There will be lunch at the church\, followed by singing in the afternoon featuring the men from Garrett Memorial Baptist Church of Hope. \n  \nPastor: Donnie Dillard
URL:https://baptisttrumpet.com/event/homecoming-bluff-springs-rosston/
CATEGORIES:Homecoming
END:VEVENT
BEGIN:VEVENT
DTSTART;TZID=America/Chicago:20170507T103000
DTEND;TZID=America/Chicago:20170507T150000
DTSTAMP:20260421T133048
CREATED:20170420T175328Z
LAST-MODIFIED:20170420T175328Z
UID:213-1494153000-1494169200@baptisttrumpet.com
SUMMARY:109th Anniversary and Homecoming- White's Chapel\, Rosston
DESCRIPTION:White’s Chapel Baptist Church in Rosston will have their 109th Anniversary and Homecoming May 7 at 10:30 a.m. Jerry Evans will be the featured speaker. \n  \nPastor: David P. Heckman
URL:https://baptisttrumpet.com/event/109th-anniversary-and-homecoming-whites-chapel-rosston/
LOCATION:White’s Chapel Baptist Church\, 624 Nevada 120\, Rosston\, AR\, 71858\, United States
CATEGORIES:Homecoming
END:VEVENT
BEGIN:VEVENT
DTSTART;TZID=America/Chicago:20170430T103000
DTEND;TZID=America/Chicago:20170430T143000
DTSTAMP:20260421T133048
CREATED:20170417T164531Z
LAST-MODIFIED:20170417T164531Z
UID:152-1493548200-1493562600@baptisttrumpet.com
SUMMARY:Homecoming- Eastside\, Conway
DESCRIPTION:Eastside Baptist Church of Conway will have their Homecoming services April 30. Worship services begin at 10:30 a.m. with Dr. Joel Slayton as the featured speaker. At noon\, there will be lunch and fellowship. There will be recognition\, memories and praise time starting at 1:30 p.m.
URL:https://baptisttrumpet.com/event/homecoming-eastside-conway/
LOCATION:Eastside Baptist Church\, 1735 E Oak St.\, Conway\, AR\, 72034\, United States
CATEGORIES:Homecoming
END:VEVENT
BEGIN:VEVENT
DTSTART;TZID=America/Chicago:20170430T100000
DTEND;TZID=America/Chicago:20170430T150000
DTSTAMP:20260421T133048
CREATED:20170420T174649Z
LAST-MODIFIED:20170420T174649Z
UID:210-1493546400-1493564400@baptisttrumpet.com
SUMMARY:Homecoming- Haynes\, Haynes
DESCRIPTION:Haynes Baptist Church in Haynes will have Homecoming services April 30 at 10 a.m. David Yates will be the featured speaker. There will be a meal in the fellowship hall and singing in the afternoon.
URL:https://baptisttrumpet.com/event/homecoming-haynes-haynes/
LOCATION:Haynes Baptist Church\, 101 Main St.\, Haynes\, AR\, 72341\, United States
CATEGORIES:Homecoming
END:VEVENT
END:VCALENDAR