BEGIN:VCALENDAR
VERSION:2.0
PRODID:-//Baptist Trumpet - ECPv6.15.20//NONSGML v1.0//EN
CALSCALE:GREGORIAN
METHOD:PUBLISH
X-ORIGINAL-URL:https://baptisttrumpet.com
X-WR-CALDESC:Events for Baptist Trumpet
REFRESH-INTERVAL;VALUE=DURATION:PT1H
X-Robots-Tag:noindex
X-PUBLISHED-TTL:PT1H
BEGIN:VTIMEZONE
TZID:America/Chicago
BEGIN:DAYLIGHT
TZOFFSETFROM:-0600
TZOFFSETTO:-0500
TZNAME:CDT
DTSTART:20170312T080000
END:DAYLIGHT
BEGIN:STANDARD
TZOFFSETFROM:-0500
TZOFFSETTO:-0600
TZNAME:CST
DTSTART:20171105T070000
END:STANDARD
BEGIN:DAYLIGHT
TZOFFSETFROM:-0600
TZOFFSETTO:-0500
TZNAME:CDT
DTSTART:20180311T080000
END:DAYLIGHT
BEGIN:STANDARD
TZOFFSETFROM:-0500
TZOFFSETTO:-0600
TZNAME:CST
DTSTART:20181104T070000
END:STANDARD
BEGIN:DAYLIGHT
TZOFFSETFROM:-0600
TZOFFSETTO:-0500
TZNAME:CDT
DTSTART:20190310T080000
END:DAYLIGHT
BEGIN:STANDARD
TZOFFSETFROM:-0500
TZOFFSETTO:-0600
TZNAME:CST
DTSTART:20191103T070000
END:STANDARD
BEGIN:DAYLIGHT
TZOFFSETFROM:-0600
TZOFFSETTO:-0500
TZNAME:CDT
DTSTART:20200308T080000
END:DAYLIGHT
BEGIN:STANDARD
TZOFFSETFROM:-0500
TZOFFSETTO:-0600
TZNAME:CST
DTSTART:20201101T070000
END:STANDARD
END:VTIMEZONE
BEGIN:VEVENT
DTSTART;TZID=America/Chicago:20190717T183000
DTEND;TZID=America/Chicago:20190719T183000
DTSTAMP:20260421T061414
CREATED:20190709T214441Z
LAST-MODIFIED:20190709T214441Z
UID:2949-1563388200-1563561000@baptisttrumpet.com
SUMMARY:VBS Broadway Avenue\, Bay
DESCRIPTION:Broadway Avenue\, Bay\, July 17-19\, 6:30 p.m.\, (ages K-12th grade); theme: Farm Fresh Faith.
URL:https://baptisttrumpet.com/event/vbs-broadway-avenue-bay-2/
LOCATION:AR
CATEGORIES:VBS
END:VEVENT
BEGIN:VEVENT
DTSTART;TZID=America/Chicago:20190715T180000
DTEND;TZID=America/Chicago:20190718T203000
DTSTAMP:20260421T061414
CREATED:20190709T214229Z
LAST-MODIFIED:20190709T214229Z
UID:2947-1563213600-1563481800@baptisttrumpet.com
SUMMARY:VBS Prospect\, Jonesboro
DESCRIPTION:Prospect\, Jonesboro\, July 15-18\, 6-8:30 p.m.; theme: Roar: God is Good.
URL:https://baptisttrumpet.com/event/vbs-prospect-jonesboro-3/
LOCATION:AR
CATEGORIES:VBS
END:VEVENT
BEGIN:VEVENT
DTSTART;TZID=America/Chicago:20190715T000000
DTEND;TZID=America/Chicago:20190719T235959
DTSTAMP:20260421T061414
CREATED:20190612T164830Z
LAST-MODIFIED:20190612T164830Z
UID:2806-1563148800-1563580799@baptisttrumpet.com
SUMMARY:VBS - Park Avenue\, Searcy
DESCRIPTION:Park Avenue\, Searcy\, July 15-19\, 9 a.m.-noon.
URL:https://baptisttrumpet.com/event/vbs-park-avenue-searcy-3/
LOCATION:AR
CATEGORIES:VBS
END:VEVENT
BEGIN:VEVENT
DTSTART;TZID=America/Chicago:20190708T000000
DTEND;TZID=America/Chicago:20190712T235959
DTSTAMP:20260421T061414
CREATED:20190612T164608Z
LAST-MODIFIED:20190612T164608Z
UID:2804-1562544000-1562975999@baptisttrumpet.com
SUMMARY:VBS - Victory\, Gentry
DESCRIPTION:Victory\, Gentry\, July 8-12\, 6-8:10 p.m.; theme: Farm Fresh Faith.
URL:https://baptisttrumpet.com/event/vbs-victory-gentry-2/
LOCATION:AR
CATEGORIES:VBS
END:VEVENT
BEGIN:VEVENT
DTSTART;TZID=America/Chicago:20190708T000000
DTEND;TZID=America/Chicago:20190712T235959
DTSTAMP:20260421T061414
CREATED:20190612T164457Z
LAST-MODIFIED:20190612T164457Z
UID:2802-1562544000-1562975999@baptisttrumpet.com
SUMMARY:VBS - Rock Hill\, Jonesboro
DESCRIPTION:Rock Hill\, Jonesboro\, July 8-12\, 6-8:30 p.m.; meal at 6 p.m.; theme: The Incredible Race.
URL:https://baptisttrumpet.com/event/vbs-rock-hill-jonesboro-2/
LOCATION:AR
CATEGORIES:VBS
END:VEVENT
BEGIN:VEVENT
DTSTART;TZID=America/Chicago:20190708T000000
DTEND;TZID=America/Chicago:20190712T235959
DTSTAMP:20260421T061414
CREATED:20190612T164348Z
LAST-MODIFIED:20190612T164348Z
UID:2800-1562544000-1562975999@baptisttrumpet.com
SUMMARY:VBS - County Line\, Marvell
DESCRIPTION:County Line\, Marvell\, July 8-12\, 9 a.m.-noon; ages 3 years-teens; theme: Kickin’ It Old School.
URL:https://baptisttrumpet.com/event/vbs-county-line-marvell-3/
LOCATION:AR
CATEGORIES:VBS
END:VEVENT
BEGIN:VEVENT
DTSTART;TZID=America/Chicago:20190707T000000
DTEND;TZID=America/Chicago:20190712T235959
DTSTAMP:20260421T061414
CREATED:20190612T163949Z
LAST-MODIFIED:20190612T163949Z
UID:2794-1562457600-1562975999@baptisttrumpet.com
SUMMARY:VBS - Bodcaw #1\, Bodcaw
DESCRIPTION:Bodcaw #1\, Bodcaw\, July 7-12\, 6:30-8:30 p.m.; theme: Farm Fresh Faith.
URL:https://baptisttrumpet.com/event/vbs-bodcaw-1-bodcaw-2/
LOCATION:AR
CATEGORIES:VBS
END:VEVENT
BEGIN:VEVENT
DTSTART;TZID=America/Chicago:20190707T000000
DTEND;TZID=America/Chicago:20190711T235959
DTSTAMP:20260421T061414
CREATED:20190612T164115Z
LAST-MODIFIED:20190612T164115Z
UID:2796-1562457600-1562889599@baptisttrumpet.com
SUMMARY:VBS - Immanuel\, Greenbrier
DESCRIPTION:Immanuel\, Greenbrier\, July 7-11\, 6-8:30 p.m.; registration: www.immanuelgreenbrier.com or (501) 679-2612; theme: The Incredible Race.
URL:https://baptisttrumpet.com/event/vbs-immanuel-greenbrier-2/
LOCATION:AR
CATEGORIES:VBS
END:VEVENT
BEGIN:VEVENT
DTSTART;TZID=America/Chicago:20190707T000000
DTEND;TZID=America/Chicago:20190709T235959
DTSTAMP:20260421T061414
CREATED:20190612T164234Z
LAST-MODIFIED:20190612T164234Z
UID:2798-1562457600-1562716799@baptisttrumpet.com
SUMMARY:VBS - Laneburg\, Prescott
DESCRIPTION:Laneburg\, Prescott\, July 7-9\, 6:30-8:30 p.m.; theme: Roar!
URL:https://baptisttrumpet.com/event/vbs-laneburg-prescott/
LOCATION:Current News
CATEGORIES:VBS
END:VEVENT
BEGIN:VEVENT
DTSTART;TZID=America/Chicago:20190624T000000
DTEND;TZID=America/Chicago:20190628T235959
DTSTAMP:20260421T061414
CREATED:20190612T163827Z
LAST-MODIFIED:20190612T163827Z
UID:2791-1561334400-1561766399@baptisttrumpet.com
SUMMARY:VBS - Unity\, Hope
DESCRIPTION:Unity\, Hope\, June 24-28\, 8:30 a.m.-noon; ages K-6th grade; theme: Roar!
URL:https://baptisttrumpet.com/event/vbs-unity-hope/
LOCATION:Unity Baptist Church\, 402 South Hurvey Street\, Hope\, AR\, 71801\, United States
CATEGORIES:VBS
END:VEVENT
BEGIN:VEVENT
DTSTART;TZID=America/Chicago:20190624T000000
DTEND;TZID=America/Chicago:20190628T235959
DTSTAMP:20260421T061414
CREATED:20190612T163650Z
LAST-MODIFIED:20190612T163650Z
UID:2789-1561334400-1561766399@baptisttrumpet.com
SUMMARY:VBS - New Liberty\, Emmet
DESCRIPTION:New Liberty\, Emmet\, June 24-28\, 6-8:30 p.m.; theme: Farm Fresh Faith.
URL:https://baptisttrumpet.com/event/vbs-new-liberty-emmet-3/
LOCATION:Home
CATEGORIES:VBS
END:VEVENT
BEGIN:VEVENT
DTSTART;TZID=America/Chicago:20190624T000000
DTEND;TZID=America/Chicago:20190628T235959
DTSTAMP:20260421T061414
CREATED:20190612T163542Z
LAST-MODIFIED:20190612T163542Z
UID:2786-1561334400-1561766399@baptisttrumpet.com
SUMMARY:VBS - New Hope\, Wynne
DESCRIPTION:New Hope\, Wynne\, June 24-28\, 6-8:30 p.m.; theme: Farm Fresh Faith.
URL:https://baptisttrumpet.com/event/vbs-new-hope-wynne/
LOCATION:New Hope  – Wynne\, 644 County Rd 724\, Wynne\, AR\, 72396\, United States
CATEGORIES:VBS
END:VEVENT
BEGIN:VEVENT
DTSTART;TZID=America/Chicago:20190624T000000
DTEND;TZID=America/Chicago:20190628T235959
DTSTAMP:20260421T061414
CREATED:20190612T163321Z
LAST-MODIFIED:20190612T163321Z
UID:2783-1561334400-1561766399@baptisttrumpet.com
SUMMARY:VBS - Beacon\, Taylor
DESCRIPTION:Beacon\, Taylor\, June 24-28\, 6-8:30 p.m.; supper provided; theme: Athens- Paul’s Dangerous Journey.
URL:https://baptisttrumpet.com/event/vbs-beacon-taylor/
LOCATION:Beacon Baptist Church\, 10061 Highway 371 S\, Taylor\, AR\, 71861\, United States
CATEGORIES:VBS
END:VEVENT
BEGIN:VEVENT
DTSTART;TZID=America/Chicago:20190623T000000
DTEND;TZID=America/Chicago:20190627T235959
DTSTAMP:20260421T061414
CREATED:20190612T162644Z
LAST-MODIFIED:20190612T162644Z
UID:2779-1561248000-1561679999@baptisttrumpet.com
SUMMARY:VBS - Temple\, Rogers
DESCRIPTION:Temple\, Rogers\, June 23-27\, 6:15-8:45 p.m.; theme: Mega Sports Camp.
URL:https://baptisttrumpet.com/event/vbs-temple-rogers-2/
LOCATION:Temple Baptist Church\, 1812 S Dixieland Road\, Rogers\, AR\, 72758\, United States
CATEGORIES:VBS
END:VEVENT
BEGIN:VEVENT
DTSTART;TZID=America/Chicago:20190623T000000
DTEND;TZID=America/Chicago:20190627T235959
DTSTAMP:20260421T061414
CREATED:20190612T162449Z
LAST-MODIFIED:20190612T162449Z
UID:2776-1561248000-1561679999@baptisttrumpet.com
SUMMARY:VBS - Springdale\, Springdale
DESCRIPTION:Springdale\, Springdale\, June 23-27\, 6-9 p.m.; theme: The Incredible Race.
URL:https://baptisttrumpet.com/event/vbs-springdale-springdale/
LOCATION:Springdale Baptist Church\, 2844 McRay Avenue\, Springdale\, AR\, 72762\, United States
CATEGORIES:VBS
END:VEVENT
BEGIN:VEVENT
DTSTART;TZID=America/Chicago:20190623T000000
DTEND;TZID=America/Chicago:20190627T235959
DTSTAMP:20260421T061414
CREATED:20190612T161619Z
LAST-MODIFIED:20190612T161619Z
UID:2774-1561248000-1561679999@baptisttrumpet.com
SUMMARY:VBS - Shady Grove\, Piggott
DESCRIPTION:Shady Grove\, Piggott\, June 23-27\, 6-8 p.m.; theme: Athens- Paul’s Dangerous Journey.
URL:https://baptisttrumpet.com/event/vbs-shady-grove-piggott-2/
LOCATION:AR
CATEGORIES:VBS
END:VEVENT
BEGIN:VEVENT
DTSTART;TZID=America/Chicago:20190623T000000
DTEND;TZID=America/Chicago:20190627T235959
DTSTAMP:20260421T061414
CREATED:20190612T161254Z
LAST-MODIFIED:20190612T161254Z
UID:2769-1561248000-1561679999@baptisttrumpet.com
SUMMARY:VBS - Bethlehem\, Greenbrier
DESCRIPTION:Bethlehem\, Greenbrier\, June 23-27; 6-8:30 p.m.; ages PreK-6th grade; theme: Roar!
URL:https://baptisttrumpet.com/event/vbs-bethlehem-greenbrier-3/
LOCATION:AR
CATEGORIES:VBS
END:VEVENT
BEGIN:VEVENT
DTSTART;TZID=America/Chicago:20190623T000000
DTEND;TZID=America/Chicago:20190626T235959
DTSTAMP:20260421T061414
CREATED:20190612T161504Z
LAST-MODIFIED:20190612T161504Z
UID:2771-1561248000-1561593599@baptisttrumpet.com
SUMMARY:VBS - Connection Point\, Brookland
DESCRIPTION:Connection Point\, Brookland\, June 23-26\, 6-8 p.m.; theme: Miraculous Mission.
URL:https://baptisttrumpet.com/event/vbs-connection-point-brookland/
LOCATION:Connection Point\, 600 W School Street\, Brookland\, AR\, 72417\, United States
CATEGORIES:VBS
END:VEVENT
BEGIN:VEVENT
DTSTART;TZID=America/Chicago:20190621T000000
DTEND;TZID=America/Chicago:20190623T235959
DTSTAMP:20260421T061414
CREATED:20190612T155746Z
LAST-MODIFIED:20190612T155746Z
UID:2759-1561075200-1561334399@baptisttrumpet.com
SUMMARY:VBS - Forks of La Grue\, DeWitt
DESCRIPTION:Forks of La Grue\, DeWitt\, June 21-23\, (Fri.) 5-8 p.m.\, (Sat.) 10 a.m.-1 p.m.\, (Sun.) 10 a.m.-noon; theme: Fishers of Men.
URL:https://baptisttrumpet.com/event/vbs-forks-of-la-grue-dewitt/
LOCATION:Forks of La Grue\, 3 N Forks Lagrue Road\, DeWitt\, AR\, 72042\, United States
CATEGORIES:VBS
END:VEVENT
BEGIN:VEVENT
DTSTART;TZID=America/Chicago:20190617T000000
DTEND;TZID=America/Chicago:20190621T235959
DTSTAMP:20260421T061414
CREATED:20190521T155303Z
LAST-MODIFIED:20190521T155303Z
UID:2657-1560729600-1561161599@baptisttrumpet.com
SUMMARY:VBS-First\, Cave Springs
DESCRIPTION:First\, Cave Springs\, June 17-21\, 6:15-8:45 p.m.; theme: The Incredible Race.
URL:https://baptisttrumpet.com/event/vbs-first-cave-springs-2/
LOCATION:AR
CATEGORIES:VBS
END:VEVENT
BEGIN:VEVENT
DTSTART;TZID=America/Chicago:20190617T000000
DTEND;TZID=America/Chicago:20190621T235959
DTSTAMP:20260421T061414
CREATED:20190521T155200Z
LAST-MODIFIED:20190521T155200Z
UID:2655-1560729600-1561161599@baptisttrumpet.com
SUMMARY:VBS-Shiloh Lamartine\, Waldo
DESCRIPTION:Shiloh Lamartine\, Waldo\, June 17-21\, 6-8 p.m; theme: Giddy-Up Junction
URL:https://baptisttrumpet.com/event/vbs-shiloh-lamartine-waldo-3/
LOCATION:AR
CATEGORIES:VBS
END:VEVENT
BEGIN:VEVENT
DTSTART;TZID=America/Chicago:20190617T000000
DTEND;TZID=America/Chicago:20190621T235959
DTSTAMP:20260421T061414
CREATED:20190521T154658Z
LAST-MODIFIED:20190521T154658Z
UID:2653-1560729600-1561161599@baptisttrumpet.com
SUMMARY:VBS-Antioch\, Conway
DESCRIPTION:Antioch\, Conway\, June 17-21\, 9 a.m.-12:30 p.m.; ages 4 years-4th grade; theme: Roar!
URL:https://baptisttrumpet.com/event/vbs-antioch-conway-3/
LOCATION:Header Template – Default PRO
CATEGORIES:VBS
END:VEVENT
BEGIN:VEVENT
DTSTART;TZID=America/Chicago:20190616T000000
DTEND;TZID=America/Chicago:20190620T235959
DTSTAMP:20260421T061414
CREATED:20190612T160907Z
LAST-MODIFIED:20190612T160907Z
UID:2764-1560643200-1561075199@baptisttrumpet.com
SUMMARY:VBS - North Hills\, Sherwood
DESCRIPTION:North Hills\, Sherwood\, June 16-20\, 6-8:30 p.m.; ages 3 years-5th grade; theme: Roar!
URL:https://baptisttrumpet.com/event/vbs-north-hills-sherwood-2/
LOCATION:AR
CATEGORIES:VBS
END:VEVENT
BEGIN:VEVENT
DTSTART;TZID=America/Chicago:20190610T000000
DTEND;TZID=America/Chicago:20190613T235959
DTSTAMP:20260421T061414
CREATED:20190521T154607Z
LAST-MODIFIED:20190521T154607Z
UID:2651-1560124800-1560470399@baptisttrumpet.com
SUMMARY:VBS-Park View\, North Little Rock
DESCRIPTION:Park View\, North Little Rock\, June 10-13\, 6:30-8 p.m.; ages 3 years-6th grade; theme: Son World.
URL:https://baptisttrumpet.com/event/vbs-park-view-north-little-rock-3/
LOCATION:AR
CATEGORIES:VBS
END:VEVENT
BEGIN:VEVENT
DTSTART;TZID=America/Chicago:20190607T000000
DTEND;TZID=America/Chicago:20190609T235959
DTSTAMP:20260421T061414
CREATED:20190521T154443Z
LAST-MODIFIED:20190521T154443Z
UID:2649-1559865600-1560124799@baptisttrumpet.com
SUMMARY:VBS-Center Point\, Nashville
DESCRIPTION:Center Point\, Nashville\, June 7-8; 6-8:30 p.m. (Fri.); 9 a.m.-1 p.m. (Sat.); theme: Farm Fresh Faith.
URL:https://baptisttrumpet.com/event/vbs-center-point-nashville/
LOCATION:AR
CATEGORIES:VBS
END:VEVENT
BEGIN:VEVENT
DTSTART;TZID=America/Chicago:20180723T000000
DTEND;TZID=America/Chicago:20180728T235959
DTSTAMP:20260421T061414
CREATED:20180717T143339Z
LAST-MODIFIED:20180717T143339Z
UID:1770-1532304000-1532822399@baptisttrumpet.com
SUMMARY:VBS- Garner\, Garner
DESCRIPTION:Garner\, Garner\, July 23-28\, 6-8:15 p.m.; ages 2 to 14 years; theme: Game On.
URL:https://baptisttrumpet.com/event/vbs-garner-garner/
LOCATION:Home2
CATEGORIES:VBS
END:VEVENT
BEGIN:VEVENT
DTSTART;TZID=America/Chicago:20180723T000000
DTEND;TZID=America/Chicago:20180727T235959
DTSTAMP:20260421T061414
CREATED:20180717T143418Z
LAST-MODIFIED:20180717T143418Z
UID:1772-1532304000-1532735999@baptisttrumpet.com
SUMMARY:VBS- Shady Grove\, Prescott
DESCRIPTION:Shady Grove\, Prescott\, July 23-27\, 6 p.m.
URL:https://baptisttrumpet.com/event/vbs-shady-grove-prescott/
LOCATION:My Account
CATEGORIES:VBS
END:VEVENT
BEGIN:VEVENT
DTSTART;TZID=America/Chicago:20180722T000000
DTEND;TZID=America/Chicago:20180724T235959
DTSTAMP:20260421T061414
CREATED:20180717T143311Z
LAST-MODIFIED:20180717T143311Z
UID:1768-1532217600-1532476799@baptisttrumpet.com
SUMMARY:VBS- Connection Point Mission\, Brookland
DESCRIPTION:Connection Point\, Brookland\, July 22-24\, 6-7:30 p.m.; theme: Moose on the Loose.
URL:https://baptisttrumpet.com/event/vbs-connection-point-mission-brookland/
LOCATION:AR
CATEGORIES:VBS
END:VEVENT
BEGIN:VEVENT
DTSTART;TZID=America/Chicago:20180716T000000
DTEND;TZID=America/Chicago:20180720T235959
DTSTAMP:20260421T061414
CREATED:20180717T143138Z
LAST-MODIFIED:20180717T143138Z
UID:1764-1531699200-1532131199@baptisttrumpet.com
SUMMARY:VBS- Prospect\, Jonesboro
DESCRIPTION:Prospect\, Jonesboro\, July 16-19\, 6-8:30 p.m.; theme: Moose on the Loose.
URL:https://baptisttrumpet.com/event/vbs-prospect-jonesboro-2/
LOCATION:AR
CATEGORIES:VBS
END:VEVENT
BEGIN:VEVENT
DTSTART;TZID=America/Chicago:20180716T000000
DTEND;TZID=America/Chicago:20180720T235959
DTSTAMP:20260421T061414
CREATED:20180717T143105Z
LAST-MODIFIED:20180717T143105Z
UID:1762-1531699200-1532131199@baptisttrumpet.com
SUMMARY:VBS- Fellowship\, Walnut Ridge
DESCRIPTION:Fellowship\, Walnut Ridge\, July 16-20\, 6-8:30 p.m.; ages 5 years to adults.
URL:https://baptisttrumpet.com/event/vbs-fellowship-walnut-ridge-2/
LOCATION:AR
CATEGORIES:VBS
END:VEVENT
END:VCALENDAR