BEGIN:VCALENDAR
VERSION:2.0
PRODID:-//Baptist Trumpet - ECPv6.15.20//NONSGML v1.0//EN
CALSCALE:GREGORIAN
METHOD:PUBLISH
X-ORIGINAL-URL:https://baptisttrumpet.com
X-WR-CALDESC:Events for Baptist Trumpet
REFRESH-INTERVAL;VALUE=DURATION:PT1H
X-Robots-Tag:noindex
X-PUBLISHED-TTL:PT1H
BEGIN:VTIMEZONE
TZID:America/Chicago
BEGIN:DAYLIGHT
TZOFFSETFROM:-0600
TZOFFSETTO:-0500
TZNAME:CDT
DTSTART:20160313T080000
END:DAYLIGHT
BEGIN:STANDARD
TZOFFSETFROM:-0500
TZOFFSETTO:-0600
TZNAME:CST
DTSTART:20161106T070000
END:STANDARD
BEGIN:DAYLIGHT
TZOFFSETFROM:-0600
TZOFFSETTO:-0500
TZNAME:CDT
DTSTART:20170312T080000
END:DAYLIGHT
BEGIN:STANDARD
TZOFFSETFROM:-0500
TZOFFSETTO:-0600
TZNAME:CST
DTSTART:20171105T070000
END:STANDARD
BEGIN:DAYLIGHT
TZOFFSETFROM:-0600
TZOFFSETTO:-0500
TZNAME:CDT
DTSTART:20180311T080000
END:DAYLIGHT
BEGIN:STANDARD
TZOFFSETFROM:-0500
TZOFFSETTO:-0600
TZNAME:CST
DTSTART:20181104T070000
END:STANDARD
BEGIN:DAYLIGHT
TZOFFSETFROM:-0600
TZOFFSETTO:-0500
TZNAME:CDT
DTSTART:20190310T080000
END:DAYLIGHT
BEGIN:STANDARD
TZOFFSETFROM:-0500
TZOFFSETTO:-0600
TZNAME:CST
DTSTART:20191103T070000
END:STANDARD
BEGIN:DAYLIGHT
TZOFFSETFROM:-0600
TZOFFSETTO:-0500
TZNAME:CDT
DTSTART:20200308T080000
END:DAYLIGHT
BEGIN:STANDARD
TZOFFSETFROM:-0500
TZOFFSETTO:-0600
TZNAME:CST
DTSTART:20201101T070000
END:STANDARD
END:VTIMEZONE
BEGIN:VEVENT
DTSTART;TZID=America/Chicago:20190607T000000
DTEND;TZID=America/Chicago:20190609T235959
DTSTAMP:20260421T091623
CREATED:20190521T154443Z
LAST-MODIFIED:20190521T154443Z
UID:2649-1559865600-1560124799@baptisttrumpet.com
SUMMARY:VBS-Center Point\, Nashville
DESCRIPTION:Center Point\, Nashville\, June 7-8; 6-8:30 p.m. (Fri.); 9 a.m.-1 p.m. (Sat.); theme: Farm Fresh Faith.
URL:https://baptisttrumpet.com/event/vbs-center-point-nashville/
CATEGORIES:VBS
END:VEVENT
BEGIN:VEVENT
DTSTART;TZID=America/Chicago:20180723T000000
DTEND;TZID=America/Chicago:20180728T235959
DTSTAMP:20260421T091623
CREATED:20180717T143339Z
LAST-MODIFIED:20180717T143339Z
UID:1770-1532304000-1532822399@baptisttrumpet.com
SUMMARY:VBS- Garner\, Garner
DESCRIPTION:Garner\, Garner\, July 23-28\, 6-8:15 p.m.; ages 2 to 14 years; theme: Game On.
URL:https://baptisttrumpet.com/event/vbs-garner-garner/
LOCATION:Home2
CATEGORIES:VBS
END:VEVENT
BEGIN:VEVENT
DTSTART;TZID=America/Chicago:20180723T000000
DTEND;TZID=America/Chicago:20180727T235959
DTSTAMP:20260421T091623
CREATED:20180717T143418Z
LAST-MODIFIED:20180717T143418Z
UID:1772-1532304000-1532735999@baptisttrumpet.com
SUMMARY:VBS- Shady Grove\, Prescott
DESCRIPTION:Shady Grove\, Prescott\, July 23-27\, 6 p.m.
URL:https://baptisttrumpet.com/event/vbs-shady-grove-prescott/
LOCATION:My Account
CATEGORIES:VBS
END:VEVENT
BEGIN:VEVENT
DTSTART;TZID=America/Chicago:20180722T000000
DTEND;TZID=America/Chicago:20180724T235959
DTSTAMP:20260421T091623
CREATED:20180717T143311Z
LAST-MODIFIED:20180717T143311Z
UID:1768-1532217600-1532476799@baptisttrumpet.com
SUMMARY:VBS- Connection Point Mission\, Brookland
DESCRIPTION:Connection Point\, Brookland\, July 22-24\, 6-7:30 p.m.; theme: Moose on the Loose.
URL:https://baptisttrumpet.com/event/vbs-connection-point-mission-brookland/
CATEGORIES:VBS
END:VEVENT
BEGIN:VEVENT
DTSTART;TZID=America/Chicago:20180716T000000
DTEND;TZID=America/Chicago:20180720T235959
DTSTAMP:20260421T091623
CREATED:20180717T143138Z
LAST-MODIFIED:20180717T143138Z
UID:1764-1531699200-1532131199@baptisttrumpet.com
SUMMARY:VBS- Prospect\, Jonesboro
DESCRIPTION:Prospect\, Jonesboro\, July 16-19\, 6-8:30 p.m.; theme: Moose on the Loose.
URL:https://baptisttrumpet.com/event/vbs-prospect-jonesboro-2/
CATEGORIES:VBS
END:VEVENT
BEGIN:VEVENT
DTSTART;TZID=America/Chicago:20180716T000000
DTEND;TZID=America/Chicago:20180720T235959
DTSTAMP:20260421T091623
CREATED:20180717T143105Z
LAST-MODIFIED:20180717T143105Z
UID:1762-1531699200-1532131199@baptisttrumpet.com
SUMMARY:VBS- Fellowship\, Walnut Ridge
DESCRIPTION:Fellowship\, Walnut Ridge\, July 16-20\, 6-8:30 p.m.; ages 5 years to adults.
URL:https://baptisttrumpet.com/event/vbs-fellowship-walnut-ridge-2/
CATEGORIES:VBS
END:VEVENT
BEGIN:VEVENT
DTSTART;TZID=America/Chicago:20180716T000000
DTEND;TZID=America/Chicago:20180720T235959
DTSTAMP:20260421T091623
CREATED:20180717T143029Z
LAST-MODIFIED:20180717T143029Z
UID:1760-1531699200-1532131199@baptisttrumpet.com
SUMMARY:VBS- Park Avenue\, Searcy
DESCRIPTION:Park Avenue\, Searcy\, July 16-20; 9 a.m.-noon; ages 3 years through 6th grade; theme: Time Lab.
URL:https://baptisttrumpet.com/event/vbs-park-avenue-searcy-2/
CATEGORIES:VBS
END:VEVENT
BEGIN:VEVENT
DTSTART;TZID=America/Chicago:20180716T000000
DTEND;TZID=America/Chicago:20180719T235959
DTSTAMP:20260421T091623
CREATED:20180717T143228Z
LAST-MODIFIED:20180717T143228Z
UID:1766-1531699200-1532044799@baptisttrumpet.com
SUMMARY:VBS- Springhill\, Greenbrier
DESCRIPTION:Springhill\, Greenbrier\, July 16-19\, 6-8:30 p.m.; theme: Shipwrecked: Rescued by Jesus.
URL:https://baptisttrumpet.com/event/vbs-springhill-greenbrier/
CATEGORIES:VBS
END:VEVENT
BEGIN:VEVENT
DTSTART;TZID=America/Chicago:20180715T000000
DTEND;TZID=America/Chicago:20180720T235959
DTSTAMP:20260421T091623
CREATED:20180717T142949Z
LAST-MODIFIED:20180717T142949Z
UID:1758-1531612800-1532131199@baptisttrumpet.com
SUMMARY:VBS- Fairview\, Jonesboro
DESCRIPTION:Fairview\, Jonesboro\, July 15-20\, 6-8 p.m.; theme: Rolling River Rampage.
URL:https://baptisttrumpet.com/event/vbs-fairview-jonesboro-2/
LOCATION:Fairview Baptist Church- Jonesboro\, 3203 Race St.\, Jonesboro\, AR\, 72401\, United States
CATEGORIES:VBS
END:VEVENT
BEGIN:VEVENT
DTSTART;TZID=America/Chicago:20180715T000000
DTEND;TZID=America/Chicago:20180719T235959
DTSTAMP:20260421T091623
CREATED:20180717T142917Z
LAST-MODIFIED:20180717T142917Z
UID:1756-1531612800-1532044799@baptisttrumpet.com
SUMMARY:VBS- Emmaus\, New Edinburg
DESCRIPTION:Emmaus\, New Edinburg\, July 15-19\, 6-8:30 p.m.; theme: Discovering God’s Plan 4U: Jesus.
URL:https://baptisttrumpet.com/event/vbs-emmaus-new-edinburg-2/
CATEGORIES:VBS
END:VEVENT
BEGIN:VEVENT
DTSTART;TZID=America/Chicago:20180624T000000
DTEND;TZID=America/Chicago:20180629T235959
DTSTAMP:20260421T091623
CREATED:20180606T214811Z
LAST-MODIFIED:20180606T214811Z
UID:1705-1529798400-1530316799@baptisttrumpet.com
SUMMARY:VBS- Bodcaw #1\, Bodcaw
DESCRIPTION:Bodcaw #1\, Rosston\, June 24- 29\, 6:30-9 p.m.; theme: Jungle River Adventures.
URL:https://baptisttrumpet.com/event/vbs-bodcaw-1-bodcaw-3/
CATEGORIES:VBS
END:VEVENT
BEGIN:VEVENT
DTSTART;TZID=America/Chicago:20180624T000000
DTEND;TZID=America/Chicago:20180628T235959
DTSTAMP:20260421T091623
CREATED:20180606T214707Z
LAST-MODIFIED:20180606T214707Z
UID:1703-1529798400-1530230399@baptisttrumpet.com
SUMMARY:VBS- Temple\, Rogers
DESCRIPTION:Temple\, Rogers\, June 24-28\, 6:15-8:50 p.m.; ages: kindergarten to 9th grade; theme: Game On!
URL:https://baptisttrumpet.com/event/vbs-temple-rogers/
CATEGORIES:VBS
END:VEVENT
BEGIN:VEVENT
DTSTART;TZID=America/Chicago:20180624T000000
DTEND;TZID=America/Chicago:20180627T235959
DTSTAMP:20260421T091623
CREATED:20180606T214459Z
LAST-MODIFIED:20180606T214459Z
UID:1699-1529798400-1530143999@baptisttrumpet.com
SUMMARY:VBS- North Hills\, Sherwood
DESCRIPTION:North Hills\, Sherwood\, June 24- 27\, 6-8:30 p.m.; theme: Polar Blast\, Where Jesus’ Love is Cool.
URL:https://baptisttrumpet.com/event/vbs-north-hills-sherwood/
CATEGORIES:VBS
END:VEVENT
BEGIN:VEVENT
DTSTART;TZID=America/Chicago:20180624T000000
DTEND;TZID=America/Chicago:20180626T235959
DTSTAMP:20260421T091623
CREATED:20180606T214420Z
LAST-MODIFIED:20180606T214420Z
UID:1697-1529798400-1530057599@baptisttrumpet.com
SUMMARY:VBS- Bethlehem\, Greenbrier
DESCRIPTION:Bethlehem\, Greenbrier\, June 24- 28\, 6-8:20 p.m.; theme: Shipwrecked: Rescued by Jesus.
URL:https://baptisttrumpet.com/event/vbs-bethlehem-greenbrier-2/
CATEGORIES:VBS
END:VEVENT
BEGIN:VEVENT
DTSTART;TZID=America/Chicago:20180622T000000
DTEND;TZID=America/Chicago:20180624T235959
DTSTAMP:20260421T091623
CREATED:20180606T214551Z
LAST-MODIFIED:20180606T214551Z
UID:1701-1529625600-1529884799@baptisttrumpet.com
SUMMARY:VBS- Providence\, Hope
DESCRIPTION:Providence\, Hope\, June 22-24\, 6-8 p.m.; ages 3 years to 6th grade; theme: Polar Blast\, Where Jesus’ Love is Cool.
URL:https://baptisttrumpet.com/event/vbs-providence-hope/
CATEGORIES:VBS
END:VEVENT
BEGIN:VEVENT
DTSTART;TZID=America/Chicago:20180618T000000
DTEND;TZID=America/Chicago:20180622T235959
DTSTAMP:20260421T091623
CREATED:20180606T214340Z
LAST-MODIFIED:20180606T214340Z
UID:1695-1529280000-1529711999@baptisttrumpet.com
SUMMARY:VBS- First\, North Lewisville
DESCRIPTION:First\, North Lewisville\, June 18-22\, 6:30-8:30 p.m.; Jungle River Adventures.
URL:https://baptisttrumpet.com/event/vbs-first-north-lewisville-2/
LOCATION:Header Template – Default PRO
CATEGORIES:VBS
END:VEVENT
BEGIN:VEVENT
DTSTART;TZID=America/Chicago:20180618T000000
DTEND;TZID=America/Chicago:20180622T235959
DTSTAMP:20260421T091623
CREATED:20180606T214255Z
LAST-MODIFIED:20180606T214255Z
UID:1693-1529280000-1529711999@baptisttrumpet.com
SUMMARY:VBS- Union Grove\, Blevins
DESCRIPTION:Union Grove\, Blevins\, June 18- 22\, 6-8:30 p.m.; theme: Jungle River Adventures.
URL:https://baptisttrumpet.com/event/vbs-union-grove-blevins/
LOCATION:113
CATEGORIES:VBS
END:VEVENT
BEGIN:VEVENT
DTSTART;TZID=America/Chicago:20180618T000000
DTEND;TZID=America/Chicago:20180622T235959
DTSTAMP:20260421T091623
CREATED:20180606T214207Z
LAST-MODIFIED:20180606T214207Z
UID:1691-1529280000-1529711999@baptisttrumpet.com
SUMMARY:VBS- New Liberty\, Emmet
DESCRIPTION:New Liberty\, Emmet\, June 18-22\, 6 p.m.; theme: Jungle River Adventures.
URL:https://baptisttrumpet.com/event/vbs-new-liberty-emmet-2/
LOCATION:Home
CATEGORIES:VBS
END:VEVENT
BEGIN:VEVENT
DTSTART;TZID=America/Chicago:20180618T000000
DTEND;TZID=America/Chicago:20180622T235959
DTSTAMP:20260421T091623
CREATED:20180606T214126Z
LAST-MODIFIED:20180606T214126Z
UID:1689-1529280000-1529711999@baptisttrumpet.com
SUMMARY:VBS- Shiloh Lamartine\, Waldo
DESCRIPTION:Shiloh Lamartine\, Waldo\, June 18-22\, 8:30- 11:30 a.m.; theme: Camp Moose-on-the-Loose
URL:https://baptisttrumpet.com/event/vbs-shiloh-lamartine-waldo-2/
CATEGORIES:VBS
END:VEVENT
BEGIN:VEVENT
DTSTART;TZID=America/Chicago:20180618T000000
DTEND;TZID=America/Chicago:20180621T235959
DTSTAMP:20260421T091623
CREATED:20180606T214042Z
LAST-MODIFIED:20180606T214042Z
UID:1686-1529280000-1529625599@baptisttrumpet.com
SUMMARY:VBS- New Home\, Quitman
DESCRIPTION:New Home\, Quitman\, June 18-21\, 6-8 p.m.
URL:https://baptisttrumpet.com/event/vbs-new-home-quitman-2/
CATEGORIES:VBS
END:VEVENT
BEGIN:VEVENT
DTSTART;TZID=America/Chicago:20180618T000000
DTEND;TZID=America/Chicago:20180621T235959
DTSTAMP:20260421T091623
CREATED:20180606T214004Z
LAST-MODIFIED:20180606T214004Z
UID:1684-1529280000-1529625599@baptisttrumpet.com
SUMMARY:VBS- Antioch\, Conway
DESCRIPTION:Antioch\, Conway\, June 18-21\, 9 a.m.-12:30 p.m.; ages 4 to fourth grade; theme: Shipwrecked: Rescued by Jesus.
URL:https://baptisttrumpet.com/event/vbs-antioch-conway-2/
LOCATION:Header Template – Default PRO
CATEGORIES:VBS
END:VEVENT
BEGIN:VEVENT
DTSTART;TZID=America/Chicago:20180615T000000
DTEND;TZID=America/Chicago:20180617T235959
DTSTAMP:20260421T091623
CREATED:20180606T213912Z
LAST-MODIFIED:20180606T213912Z
UID:1682-1529020800-1529279999@baptisttrumpet.com
SUMMARY:VBS- First\, McNeil
DESCRIPTION:First\, McNeil\, June 15-17\, 6-8:30 p.m. (Fri.); 9-11:30 a.m. (Sat.); 10:45 a.m. (Sun.); theme: Polar Blast\, Where Jesus’ Love is Cool.
URL:https://baptisttrumpet.com/event/vbs-first-mcneil-2/
CATEGORIES:VBS
END:VEVENT
BEGIN:VEVENT
DTSTART;TZID=America/Chicago:20180611T000000
DTEND;TZID=America/Chicago:20180615T235959
DTSTAMP:20260421T091623
CREATED:20180606T213831Z
LAST-MODIFIED:20180606T213831Z
UID:1680-1528675200-1529107199@baptisttrumpet.com
SUMMARY:VBS- First\, Buckner
DESCRIPTION:First\, Buckner\, June 11-15\, 6-8:30 p.m.; theme: Time Lab.
URL:https://baptisttrumpet.com/event/vbs-first-buckner/
CATEGORIES:VBS
END:VEVENT
BEGIN:VEVENT
DTSTART;TZID=America/Chicago:20180611T000000
DTEND;TZID=America/Chicago:20180615T235959
DTSTAMP:20260421T091623
CREATED:20180606T213753Z
LAST-MODIFIED:20180606T213753Z
UID:1678-1528675200-1529107199@baptisttrumpet.com
SUMMARY:VBS- Zion\, Fordyce
DESCRIPTION:Zion\, Fordyce\, June 11-15\, 8:30- 11:30 a.m.; ages 4-fifth grade; theme: Game On!
URL:https://baptisttrumpet.com/event/vbs-zion-fordyce-2/
LOCATION:Home
CATEGORIES:VBS
END:VEVENT
BEGIN:VEVENT
DTSTART;TZID=America/Chicago:20180611T000000
DTEND;TZID=America/Chicago:20180615T235959
DTSTAMP:20260421T091623
CREATED:20180606T213635Z
LAST-MODIFIED:20180606T213635Z
UID:1674-1528675200-1529107199@baptisttrumpet.com
SUMMARY:VBS- County Line\, Marvell
DESCRIPTION:County Line\, Marvell\, June 11-15\, 9 a.m.-noon; ages 3 to teens; theme: Gotta Move by GoFish.
URL:https://baptisttrumpet.com/event/vbs-county-line-marvell-2/
CATEGORIES:VBS
END:VEVENT
BEGIN:VEVENT
DTSTART;TZID=America/Chicago:20180611T000000
DTEND;TZID=America/Chicago:20180614T235959
DTSTAMP:20260421T091623
CREATED:20180606T213719Z
LAST-MODIFIED:20180606T213719Z
UID:1676-1528675200-1529020799@baptisttrumpet.com
SUMMARY:VBS- Park View\, North Little Rock
DESCRIPTION:Park View\, North Little Rock\, June 11-14\, 6-8 p.m.; theme: Kingdom of the Son.
URL:https://baptisttrumpet.com/event/vbs-park-view-north-little-rock-2/
CATEGORIES:VBS
END:VEVENT
BEGIN:VEVENT
DTSTART;TZID=America/Chicago:20180610T000000
DTEND;TZID=America/Chicago:20180613T235959
DTSTAMP:20260421T091623
CREATED:20180606T213553Z
LAST-MODIFIED:20180606T213553Z
UID:1672-1528588800-1528934399@baptisttrumpet.com
SUMMARY:VBS- Immanuel\, Sheridan
DESCRIPTION:Immanuel\, Sheridan\, June 10-13\, 6:30-8:30 p.m.; ages preschool to 6th grade; theme: Shipwrecked: Rescued by Jesus.
URL:https://baptisttrumpet.com/event/vbs-immanuel-sheridan-2/
CATEGORIES:VBS
END:VEVENT
BEGIN:VEVENT
DTSTART;TZID=America/Chicago:20180609T100000
DTEND;TZID=America/Chicago:20180609T150000
DTSTAMP:20260421T091623
CREATED:20180606T213352Z
LAST-MODIFIED:20180606T213352Z
UID:1670-1528538400-1528556400@baptisttrumpet.com
SUMMARY:VBS- Central\, Trumann
DESCRIPTION:Central\, Trumann\, June 9\, 10 a.m.- 3 p.m.
URL:https://baptisttrumpet.com/event/vbs-central-trumann/
CATEGORIES:VBS
END:VEVENT
BEGIN:VEVENT
DTSTART;TZID=America/Chicago:20180607T000000
DTEND;TZID=America/Chicago:20180609T235959
DTSTAMP:20260421T091623
CREATED:20180606T213302Z
LAST-MODIFIED:20180606T213302Z
UID:1668-1528329600-1528588799@baptisttrumpet.com
SUMMARY:VBS Milligan Ridge\, Manila
DESCRIPTION:Milligan Ridge\, Manila\, June 7-8\, 6-8 p.m.; June 9\, 9 a.m.-1 p.m.; theme: Game On!
URL:https://baptisttrumpet.com/event/vbs-milligan-ridge-manila-2/
CATEGORIES:VBS
END:VEVENT
BEGIN:VEVENT
DTSTART;TZID=America/Chicago:20170812T093000
DTEND;TZID=America/Chicago:20170812T143000
DTSTAMP:20260421T091623
CREATED:20170629T192856Z
LAST-MODIFIED:20170629T192856Z
UID:7982-1502530200-1502548200@baptisttrumpet.com
SUMMARY:VBS- Banks\, Banks
DESCRIPTION:Banks Baptist Church of Banks will have a One-Day VBS Aug. 12 from 9:30 a.m. to 2:30 p.m. Breakfast and Lunch will be provided.
URL:https://baptisttrumpet.com/event/vbs-banks-banks/
CATEGORIES:VBS
END:VEVENT
END:VCALENDAR