BEGIN:VCALENDAR
VERSION:2.0
PRODID:-//Baptist Trumpet - ECPv6.15.20//NONSGML v1.0//EN
CALSCALE:GREGORIAN
METHOD:PUBLISH
X-WR-CALNAME:Baptist Trumpet
X-ORIGINAL-URL:https://baptisttrumpet.com
X-WR-CALDESC:Events for Baptist Trumpet
REFRESH-INTERVAL;VALUE=DURATION:PT1H
X-Robots-Tag:noindex
X-PUBLISHED-TTL:PT1H
BEGIN:VTIMEZONE
TZID:America/Chicago
BEGIN:DAYLIGHT
TZOFFSETFROM:-0600
TZOFFSETTO:-0500
TZNAME:CDT
DTSTART:20240310T080000
END:DAYLIGHT
BEGIN:STANDARD
TZOFFSETFROM:-0500
TZOFFSETTO:-0600
TZNAME:CST
DTSTART:20241103T070000
END:STANDARD
BEGIN:DAYLIGHT
TZOFFSETFROM:-0600
TZOFFSETTO:-0500
TZNAME:CDT
DTSTART:20250309T080000
END:DAYLIGHT
BEGIN:STANDARD
TZOFFSETFROM:-0500
TZOFFSETTO:-0600
TZNAME:CST
DTSTART:20251102T070000
END:STANDARD
BEGIN:DAYLIGHT
TZOFFSETFROM:-0600
TZOFFSETTO:-0500
TZNAME:CDT
DTSTART:20260308T080000
END:DAYLIGHT
BEGIN:STANDARD
TZOFFSETFROM:-0500
TZOFFSETTO:-0600
TZNAME:CST
DTSTART:20261101T070000
END:STANDARD
END:VTIMEZONE
BEGIN:VEVENT
DTSTART;TZID=America/Chicago:20250928T170000
DTEND;TZID=America/Chicago:20250928T210000
DTSTAMP:20260423T190958
CREATED:20250909T212918Z
LAST-MODIFIED:20250916T204933Z
UID:28086-1759078800-1759093200@baptisttrumpet.com
SUMMARY:DISTRICT: Columbia Assoc. Annual Meeting
DESCRIPTION:Sept. 28\, 5 p.m.; Antioch West.
URL:https://baptisttrumpet.com/event/district-columbia-assoc-annual-meeting/
CATEGORIES:District Meeting
ATTACH;FMTTYPE=image/jpeg:https://baptisttrumpet.com/wp-content/uploads/2022/01/DistrictEvent.jpg
END:VEVENT
BEGIN:VEVENT
DTSTART;TZID=America/Chicago:20250928T100000
DTEND;TZID=America/Chicago:20250928T190000
DTSTAMP:20260423T190958
CREATED:20250909T203537Z
LAST-MODIFIED:20250916T204923Z
UID:28062-1759053600-1759086000@baptisttrumpet.com
SUMMARY:HOMECOMING: Prospect\, Jonesboro
DESCRIPTION:The Dalton Harper Band will provide the music. Randy Lingenfelter will provide the message. Join in for a Fish Fry at 6 p.m.
URL:https://baptisttrumpet.com/event/homecoming-prospect-jonesboro-3/
CATEGORIES:Homecoming
END:VEVENT
BEGIN:VEVENT
DTSTART;TZID=America/Chicago:20250928T000000
DTEND;TZID=America/Chicago:20250928T235959
DTSTAMP:20260423T190958
CREATED:20250909T200152Z
LAST-MODIFIED:20250916T204916Z
UID:28054-1759017600-1759103999@baptisttrumpet.com
SUMMARY:Central Baptist College Day
DESCRIPTION:This is a day set aside for churches to promote the work of Central Baptist College. Through this\, they are also encouraged to receive a special offering on this day for CBC.
URL:https://baptisttrumpet.com/event/central-baptist-college-day/
CATEGORIES:Upcoming Events
END:VEVENT
BEGIN:VEVENT
DTSTART;TZID=America/Chicago:20250926T180000
DTEND;TZID=America/Chicago:20250927T170000
DTSTAMP:20260423T190958
CREATED:20250716T192651Z
LAST-MODIFIED:20250916T204901Z
UID:27413-1758909600-1758992400@baptisttrumpet.com
SUMMARY:Arkansas Women's Fall Retreat
DESCRIPTION:Sponsored by Arkansas WMA. Exact times of events may change.
URL:https://baptisttrumpet.com/event/arkansas-womens-fall-retreat/
CATEGORIES:Upcoming Events
ATTACH;FMTTYPE=image/jpeg:https://baptisttrumpet.com/wp-content/uploads/2023/10/Falling-Leaves-scaled.jpg
END:VEVENT
BEGIN:VEVENT
DTSTART;TZID=America/Chicago:20250922T183000
DTEND;TZID=America/Chicago:20250922T203000
DTSTAMP:20260423T190958
CREATED:20250715T212330Z
LAST-MODIFIED:20250916T204832Z
UID:27406-1758565800-1758573000@baptisttrumpet.com
SUMMARY:Mt Vernon Youth in the Harvest
DESCRIPTION:County Line\, Marvel
URL:https://baptisttrumpet.com/event/mt-vernon-youth-in-the-harvest-3/
CATEGORIES:District Meeting
ATTACH;FMTTYPE=image/jpeg:https://baptisttrumpet.com/wp-content/uploads/2022/01/DistrictEvent.jpg
END:VEVENT
BEGIN:VEVENT
DTSTART;TZID=America/Chicago:20250920T120000
DTEND;TZID=America/Chicago:20250920T120000
DTSTAMP:20260423T190958
CREATED:20250716T192410Z
LAST-MODIFIED:20250916T204821Z
UID:27411-1758369600-1758369600@baptisttrumpet.com
SUMMARY:Student Ministry Workers Retreat
DESCRIPTION:Hosted at Central Baptist College in Conway. Visit fb.com/studentministrymatters for more specifics on times for the event.
URL:https://baptisttrumpet.com/event/student-ministry-workers-retreat-6/
CATEGORIES:Upcoming Events
ATTACH;FMTTYPE=image/png:https://baptisttrumpet.com/wp-content/uploads/2022/03/Student-Ministry-Matters-Logo-BLUE.png
END:VEVENT
BEGIN:VEVENT
DTSTART;TZID=America/Chicago:20250918T100000
DTEND;TZID=America/Chicago:20250918T160000
DTSTAMP:20260423T190958
CREATED:20250909T220301Z
LAST-MODIFIED:20250909T220302Z
UID:28091-1758189600-1758211200@baptisttrumpet.com
SUMMARY:DISTRICT: Central Arkansas Assoc. Annual Mtg
DESCRIPTION:Sept. 18\, 10 a.m.; Lemonwood\, Pine Bluff.
URL:https://baptisttrumpet.com/event/district-central-arkansas-assoc-annual-mtg/
CATEGORIES:District Meeting
ATTACH;FMTTYPE=image/jpeg:https://baptisttrumpet.com/wp-content/uploads/2022/01/DistrictEvent.jpg
END:VEVENT
BEGIN:VEVENT
DTSTART;TZID=America/Chicago:20250915T190000
DTEND;TZID=America/Chicago:20250915T200000
DTSTAMP:20260423T190958
CREATED:20250909T211410Z
LAST-MODIFIED:20250909T211413Z
UID:28070-1757962800-1757966400@baptisttrumpet.com
SUMMARY:REVIVAL: Center Grove\, Cord
DESCRIPTION:Sept. 15-19; 7 p.m.; Mon.-Tues\, Verlon Wood; Wed.\, Barry Anderson; Thur.\, David Stuart; Fri.\, Deshawn Pankey; Barry Anderson\, pastor.
URL:https://baptisttrumpet.com/event/revival-center-grove-cord/
CATEGORIES:Revival
ATTACH;FMTTYPE=image/jpeg:https://baptisttrumpet.com/wp-content/uploads/2022/02/revival.jpg
END:VEVENT
BEGIN:VEVENT
DTSTART;TZID=America/Chicago:20250914T180000
DTEND;TZID=America/Chicago:20250914T200000
DTSTAMP:20260423T190958
CREATED:20250909T210844Z
LAST-MODIFIED:20250916T204808Z
UID:28066-1757872800-1757880000@baptisttrumpet.com
SUMMARY:Haley Creek Boys in Concert
DESCRIPTION:Gospel music concert; Sept. 14\, 6 p.m. Kingsland\, Kingsland\, all are welcome.
URL:https://baptisttrumpet.com/event/haley-creek-boys-in-concert-2/
CATEGORIES:Upcoming Events
END:VEVENT
BEGIN:VEVENT
DTSTART;TZID=America/Chicago:20250914T170000
DTEND;TZID=America/Chicago:20250914T190000
DTSTAMP:20260423T190958
CREATED:20250909T211220Z
LAST-MODIFIED:20250909T211222Z
UID:28068-1757869200-1757876400@baptisttrumpet.com
SUMMARY:REVIVAL: Zion\, Fordyce
DESCRIPTION:Sept. 14-17; Sun. 5 p.m.\, Mon.-Wed. 7 p.m.; Rubin Weaver\, evangelist; Scott Smith\, pastor.
URL:https://baptisttrumpet.com/event/revival-zion-fordyce-2/
CATEGORIES:Revival
ATTACH;FMTTYPE=image/jpeg:https://baptisttrumpet.com/wp-content/uploads/2022/02/revival.jpg
END:VEVENT
BEGIN:VEVENT
DTSTART;TZID=America/Chicago:20250913T100000
DTEND;TZID=America/Chicago:20250913T160000
DTSTAMP:20260423T190958
CREATED:20250909T212752Z
LAST-MODIFIED:20250909T212753Z
UID:28084-1757757600-1757779200@baptisttrumpet.com
SUMMARY:DISTRICT: United Assoc. Annual Meeting
DESCRIPTION:Sept. 13\, 10 a.m.; Calvary\, Morrilton.
URL:https://baptisttrumpet.com/event/district-united-assoc-annual-meeting/
CATEGORIES:District Meeting
ATTACH;FMTTYPE=image/jpeg:https://baptisttrumpet.com/wp-content/uploads/2022/01/DistrictEvent.jpg
END:VEVENT
BEGIN:VEVENT
DTSTART;TZID=America/Chicago:20250913T100000
DTEND;TZID=America/Chicago:20250913T150000
DTSTAMP:20260423T190958
CREATED:20250715T212217Z
LAST-MODIFIED:20250916T204756Z
UID:27404-1757757600-1757775600@baptisttrumpet.com
SUMMARY:Mt Vernon Association Annual Meeting
DESCRIPTION:Grace\, Wynne
URL:https://baptisttrumpet.com/event/mt-vernon-association-annual-meeting/
CATEGORIES:District Meeting
ATTACH;FMTTYPE=image/jpeg:https://baptisttrumpet.com/wp-content/uploads/2022/01/DistrictEvent.jpg
END:VEVENT
BEGIN:VEVENT
DTSTART;TZID=America/Chicago:20250913T093000
DTEND;TZID=America/Chicago:20250913T143000
DTSTAMP:20260423T190958
CREATED:20250909T210744Z
LAST-MODIFIED:20250916T204652Z
UID:28064-1757755800-1757773800@baptisttrumpet.com
SUMMARY:Men's Retreat
DESCRIPTION:Sept. 13\, 9:30 a.m.-2:30 p.m.; lunch provided; Bradford\, Bradford. Ken Siler\, morning speaker; Johnny Mitchel\, Jr.\, afternoon speaker. Contact Dal Hogan for information (870) 219-9462 or bbcbradfordar@gmail.com.
URL:https://baptisttrumpet.com/event/mens-retreat/
CATEGORIES:Upcoming Events
END:VEVENT
BEGIN:VEVENT
DTSTART;TZID=America/Chicago:20250913T000000
DTEND;TZID=America/Chicago:20250913T235959
DTSTAMP:20260423T190958
CREATED:20250909T212617Z
LAST-MODIFIED:20250916T204644Z
UID:28082-1757721600-1757807999@baptisttrumpet.com
SUMMARY:DISTRICT: North Arkansas Assoc. Annual Meeting
DESCRIPTION:Sept. 13; Bold Spring\, Cave City.
URL:https://baptisttrumpet.com/event/district-north-arkansas-assoc-annual-meeting/
CATEGORIES:District Meeting
ATTACH;FMTTYPE=image/jpeg:https://baptisttrumpet.com/wp-content/uploads/2022/01/DistrictEvent.jpg
END:VEVENT
BEGIN:VEVENT
DTSTART;TZID=America/Chicago:20250912T140000
DTEND;TZID=America/Chicago:20250912T210000
DTSTAMP:20260423T190958
CREATED:20250909T212441Z
LAST-MODIFIED:20250909T212443Z
UID:28080-1757685600-1757710800@baptisttrumpet.com
SUMMARY:DISTRICT: BMA of the Ozarks Assoc. Annual Meeting
DESCRIPTION:Sept. 12\, 2 p.m. meeting; 6 p.m. dinner; worship following dinner; Summers\, Summers.
URL:https://baptisttrumpet.com/event/district-bma-of-the-ozarks-assoc-annual-meeting/
CATEGORIES:District Meeting
ATTACH;FMTTYPE=image/jpeg:https://baptisttrumpet.com/wp-content/uploads/2022/01/DistrictEvent.jpg
END:VEVENT
BEGIN:VEVENT
DTSTART;TZID=America/Chicago:20250911T190000
DTEND;TZID=America/Chicago:20250911T210000
DTSTAMP:20260423T190958
CREATED:20250909T212157Z
LAST-MODIFIED:20250909T212159Z
UID:28078-1757617200-1757624400@baptisttrumpet.com
SUMMARY:DISTRICT: Mount Calvary Assoc. Annual Meeting
DESCRIPTION:Sept. 11\, 7 p.m.; Ramsey Heights\, Batesville.
URL:https://baptisttrumpet.com/event/district-mount-calvary-assoc-annual-meeting/
CATEGORIES:District Meeting
ATTACH;FMTTYPE=image/jpeg:https://baptisttrumpet.com/wp-content/uploads/2022/01/DistrictEvent.jpg
END:VEVENT
BEGIN:VEVENT
DTSTART;TZID=America/Chicago:20250908T183000
DTEND;TZID=America/Chicago:20250908T203000
DTSTAMP:20260423T190958
CREATED:20250715T211501Z
LAST-MODIFIED:20250916T204659Z
UID:27401-1757356200-1757363400@baptisttrumpet.com
SUMMARY:Mt Vernon Brotherhood
DESCRIPTION:Grace\, Wynne
URL:https://baptisttrumpet.com/event/mt-vernon-brotherhood-2/
CATEGORIES:Upcoming Events
ATTACH;FMTTYPE=image/jpeg:https://baptisttrumpet.com/wp-content/uploads/2022/01/DistrictEvent.jpg
END:VEVENT
BEGIN:VEVENT
DTSTART;TZID=America/Chicago:20250825T190000
DTEND;TZID=America/Chicago:20250827T190000
DTSTAMP:20260423T190958
CREATED:20250716T195833Z
LAST-MODIFIED:20250916T204708Z
UID:27437-1756148400-1756321200@baptisttrumpet.com
SUMMARY:REVIVAL: Faustina\, Hampton
DESCRIPTION:Aug. 25-27\, 7 p.m.; Jim Moss\, evangelist; Justin Hewitt\, pastor.
URL:https://baptisttrumpet.com/event/revival-faustina-hampton-7/
CATEGORIES:Revival
ATTACH;FMTTYPE=image/jpeg:https://baptisttrumpet.com/wp-content/uploads/2022/02/revival.jpg
END:VEVENT
BEGIN:VEVENT
DTSTART;TZID=America/Chicago:20250818T190000
DTEND;TZID=America/Chicago:20250820T190000
DTSTAMP:20260423T190958
CREATED:20250716T195743Z
LAST-MODIFIED:20250916T204719Z
UID:27435-1755543600-1755716400@baptisttrumpet.com
SUMMARY:REVIVAL: Macedoina\, Jonesboro
DESCRIPTION:Aug. 18-20\, 7 p.m.; Don Seat\, pastor.
URL:https://baptisttrumpet.com/event/revival-macedoina-jonesboro/
CATEGORIES:Revival
ATTACH;FMTTYPE=image/jpeg:https://baptisttrumpet.com/wp-content/uploads/2022/02/revival.jpg
END:VEVENT
BEGIN:VEVENT
DTSTART;TZID=America/Chicago:20250818T183000
DTEND;TZID=America/Chicago:20250818T203000
DTSTAMP:20260423T190958
CREATED:20250715T211329Z
LAST-MODIFIED:20250715T211855Z
UID:27399-1755541800-1755549000@baptisttrumpet.com
SUMMARY:Mt Vernon Youth in the Harvest
DESCRIPTION:Rondo\, Lexa
URL:https://baptisttrumpet.com/event/mt-vernon-youth-in-the-harvest-2/
ATTACH;FMTTYPE=image/jpeg:https://baptisttrumpet.com/wp-content/uploads/2022/01/DistrictEvent.jpg
END:VEVENT
BEGIN:VEVENT
DTSTART;TZID=America/Chicago:20250817T110000
DTEND;TZID=America/Chicago:20250817T140000
DTSTAMP:20260423T190958
CREATED:20250729T162226Z
LAST-MODIFIED:20250729T162227Z
UID:27536-1755428400-1755439200@baptisttrumpet.com
SUMMARY:Homecoming: Macedonia\, Jonesboro
DESCRIPTION:Aug. 17\, 10:30 a.m.; meal to follow; Don Seat\, pastor.
URL:https://baptisttrumpet.com/event/homecoming-macedonia-jonesboro-2/
ATTACH;FMTTYPE=image/jpeg:https://baptisttrumpet.com/wp-content/uploads/2022/04/Homecoming.jpg
END:VEVENT
BEGIN:VEVENT
DTSTART;TZID=America/Chicago:20250810T110000
DTEND;TZID=America/Chicago:20250810T130000
DTSTAMP:20260423T190958
CREATED:20250729T161846Z
LAST-MODIFIED:20250729T161848Z
UID:27534-1754823600-1754830800@baptisttrumpet.com
SUMMARY:Homecoming: Union Grove\, Jonesboro
DESCRIPTION:Aug. 10\, 11 a.m.; Celebrating 114 Years with lunch to follow.
URL:https://baptisttrumpet.com/event/homecoming-union-grove-jonesboro/
ATTACH;FMTTYPE=image/jpeg:https://baptisttrumpet.com/wp-content/uploads/2022/04/Homecoming.jpg
END:VEVENT
BEGIN:VEVENT
DTSTART;TZID=America/Chicago:20250810T100000
DTEND;TZID=America/Chicago:20250810T140000
DTSTAMP:20260423T190958
CREATED:20250729T160339Z
LAST-MODIFIED:20250729T160340Z
UID:27529-1754820000-1754834400@baptisttrumpet.com
SUMMARY:Homecoming: Antioch\, Conway
DESCRIPTION:Aug. 10\, 10 a.m.; Celebrating 100 years; Conway Expo Center; meal to follow; Dr. Jason Aultman\, pastor.
URL:https://baptisttrumpet.com/event/homecoming-antioch-conway/
ATTACH;FMTTYPE=image/jpeg:https://baptisttrumpet.com/wp-content/uploads/2022/04/Homecoming.jpg
END:VEVENT
BEGIN:VEVENT
DTSTART;TZID=America/Chicago:20250810T100000
DTEND;TZID=America/Chicago:20250810T120000
DTSTAMP:20260423T190958
CREATED:20250729T160552Z
LAST-MODIFIED:20250729T160743Z
UID:27531-1754820000-1754827200@baptisttrumpet.com
SUMMARY:Homecoming: Zion\, Fordyce
DESCRIPTION:Aug. 10\, 10 a.m.; Celebrating 120 Years; Captain Smead\, music; Scott Smith\, pastor and speaker.
URL:https://baptisttrumpet.com/event/homecmoing-zion-fordyce/
ATTACH;FMTTYPE=image/jpeg:https://baptisttrumpet.com/wp-content/uploads/2022/04/Homecoming.jpg
END:VEVENT
BEGIN:VEVENT
DTSTART;TZID=America/Chicago:20250810T090000
DTEND;TZID=America/Chicago:20250810T120000
DTSTAMP:20260423T190958
CREATED:20250729T160228Z
LAST-MODIFIED:20250729T160229Z
UID:27527-1754816400-1754827200@baptisttrumpet.com
SUMMARY:Homecoming: Beacon\, Taylor
DESCRIPTION:Aug. 10\, 9 a.m.\, Sunday School; 10 a.m. worship\, 11 a.m. fellowship and singing; Karry Easley\, pastor.
URL:https://baptisttrumpet.com/event/homecoming-beacon-taylor/
ATTACH;FMTTYPE=image/jpeg:https://baptisttrumpet.com/wp-content/uploads/2022/04/Homecoming.jpg
END:VEVENT
BEGIN:VEVENT
DTSTART;TZID=America/Chicago:20250804T180000
DTEND;TZID=America/Chicago:20250807T203000
DTSTAMP:20260423T190958
CREATED:20250729T164020Z
LAST-MODIFIED:20250729T164021Z
UID:27542-1754330400-1754598600@baptisttrumpet.com
SUMMARY:VBS: Broadway\, Bay
DESCRIPTION:
URL:https://baptisttrumpet.com/event/vbs-broadway-bay/
CATEGORIES:VBS
ATTACH;FMTTYPE=image/png:https://baptisttrumpet.com/wp-content/uploads/2022/04/VBS-Column-Announcement.png
END:VEVENT
BEGIN:VEVENT
DTSTART;TZID=America/Chicago:20250803T173000
DTEND;TZID=America/Chicago:20250806T190000
DTSTAMP:20260423T190958
CREATED:20250716T195643Z
LAST-MODIFIED:20250716T195644Z
UID:27433-1754242200-1754506800@baptisttrumpet.com
SUMMARY:REVIVAL: Victory\, Hampton
DESCRIPTION:Aug. 3-6\, Sun. 5:30 p.m.\, Mon.-Wed. 7 p.m.; Rueben Weaver\, evangelist; Robbie Duncan\, pastor.
URL:https://baptisttrumpet.com/event/revival-victory-hampton-5/
ATTACH;FMTTYPE=image/jpeg:https://baptisttrumpet.com/wp-content/uploads/2022/02/revival.jpg
END:VEVENT
BEGIN:VEVENT
DTSTART;TZID=America/Chicago:20250803T173000
DTEND;TZID=America/Chicago:20250806T190000
DTSTAMP:20260423T190958
CREATED:20250716T195551Z
LAST-MODIFIED:20250716T195552Z
UID:27431-1754242200-1754506800@baptisttrumpet.com
SUMMARY:REVIVAL: County Line\, Marvell
DESCRIPTION:Aug. 3-6\, Sun. 5:30 p.m.\, Mon.-Wed. 7 p.m.; Bobby McPherson\, evangelist.
URL:https://baptisttrumpet.com/event/revival-county-line-marvell-2/
ATTACH;FMTTYPE=image/jpeg:https://baptisttrumpet.com/wp-content/uploads/2022/02/revival.jpg
END:VEVENT
BEGIN:VEVENT
DTSTART;TZID=America/Chicago:20250803T170000
DTEND;TZID=America/Chicago:20250806T200000
DTSTAMP:20260423T190958
CREATED:20250729T163929Z
LAST-MODIFIED:20250729T163930Z
UID:27540-1754240400-1754510400@baptisttrumpet.com
SUMMARY:VBS: Barney\, Barney
DESCRIPTION:Aug. 3-6\, 5 p.m. – 8 p.m.; Aug. 8\, 6 p.m. Closing Program; Camp Chaos.
URL:https://baptisttrumpet.com/event/vbs-barney-barney/
CATEGORIES:VBS
ATTACH;FMTTYPE=image/png:https://baptisttrumpet.com/wp-content/uploads/2022/04/VBS-Column-Announcement.png
END:VEVENT
BEGIN:VEVENT
DTSTART;TZID=America/Chicago:20250803T093000
DTEND;TZID=America/Chicago:20250803T140000
DTSTAMP:20260423T190958
CREATED:20250729T155908Z
LAST-MODIFIED:20250729T155910Z
UID:27525-1754213400-1754229600@baptisttrumpet.com
SUMMARY:Homecoming: Sand Springs\, Damascus
DESCRIPTION:9:30 a.m. singing; 10:30 a.m. message; potluck to follow; John Burleson\, pastor.
URL:https://baptisttrumpet.com/event/homecoming-sand-springs-damascus-2/
ATTACH;FMTTYPE=image/jpeg:https://baptisttrumpet.com/wp-content/uploads/2022/04/Homecoming.jpg
END:VEVENT
END:VCALENDAR