BEGIN:VCALENDAR
VERSION:2.0
PRODID:-//Baptist Trumpet - ECPv6.15.20//NONSGML v1.0//EN
CALSCALE:GREGORIAN
METHOD:PUBLISH
X-WR-CALNAME:Baptist Trumpet
X-ORIGINAL-URL:https://baptisttrumpet.com
X-WR-CALDESC:Events for Baptist Trumpet
REFRESH-INTERVAL;VALUE=DURATION:PT1H
X-Robots-Tag:noindex
X-PUBLISHED-TTL:PT1H
BEGIN:VTIMEZONE
TZID:America/Chicago
BEGIN:DAYLIGHT
TZOFFSETFROM:-0600
TZOFFSETTO:-0500
TZNAME:CDT
DTSTART:20240310T080000
END:DAYLIGHT
BEGIN:STANDARD
TZOFFSETFROM:-0500
TZOFFSETTO:-0600
TZNAME:CST
DTSTART:20241103T070000
END:STANDARD
BEGIN:DAYLIGHT
TZOFFSETFROM:-0600
TZOFFSETTO:-0500
TZNAME:CDT
DTSTART:20250309T080000
END:DAYLIGHT
BEGIN:STANDARD
TZOFFSETFROM:-0500
TZOFFSETTO:-0600
TZNAME:CST
DTSTART:20251102T070000
END:STANDARD
BEGIN:DAYLIGHT
TZOFFSETFROM:-0600
TZOFFSETTO:-0500
TZNAME:CDT
DTSTART:20260308T080000
END:DAYLIGHT
BEGIN:STANDARD
TZOFFSETFROM:-0500
TZOFFSETTO:-0600
TZNAME:CST
DTSTART:20261101T070000
END:STANDARD
BEGIN:DAYLIGHT
TZOFFSETFROM:-0600
TZOFFSETTO:-0500
TZNAME:CDT
DTSTART:20270314T080000
END:DAYLIGHT
BEGIN:STANDARD
TZOFFSETFROM:-0500
TZOFFSETTO:-0600
TZNAME:CST
DTSTART:20271107T070000
END:STANDARD
END:VTIMEZONE
BEGIN:VEVENT
DTSTART;TZID=America/Chicago:20260317T173000
DTEND;TZID=America/Chicago:20260317T190000
DTSTAMP:20260423T172831
CREATED:20260304T131513Z
LAST-MODIFIED:20260304T131514Z
UID:30232-1773768600-1773774000@baptisttrumpet.com
SUMMARY:UPCOMING: CBC Instrumental Ensembles Concert
DESCRIPTION:      CBC Instrumental Ensembles Concert; March 17\, 5:30 p.m.; Toland at CBC\, Conway.
URL:https://baptisttrumpet.com/event/upcoming-cbc-instrumental-ensembles-concert/
CATEGORIES:Upcoming Events
ATTACH;FMTTYPE=image/jpeg:https://baptisttrumpet.com/wp-content/uploads/2022/08/Upcoming-event.jpg
END:VEVENT
BEGIN:VEVENT
DTSTART;TZID=America/Chicago:20260316T183000
DTEND;TZID=America/Chicago:20260316T200000
DTSTAMP:20260423T172831
CREATED:20260114T140130Z
LAST-MODIFIED:20260114T140131Z
UID:29555-1773685800-1773691200@baptisttrumpet.com
SUMMARY:DISTRICTS: Mt. Vernon Youth in Harvest
DESCRIPTION:      Mt. Vernon Youth in Harvest; Mar. 16\, 6:30 p.m.; County Line\, Marvell.
URL:https://baptisttrumpet.com/event/districts-mt-vernon-youth-in-harvest-6/
CATEGORIES:District Meeting
ATTACH;FMTTYPE=image/jpeg:https://baptisttrumpet.com/wp-content/uploads/2022/01/DistrictEvent.jpg
END:VEVENT
BEGIN:VEVENT
DTSTART;TZID=America/Chicago:20260314T080000
DTEND;TZID=America/Chicago:20260314T170000
DTSTAMP:20260423T172831
CREATED:20260217T193621Z
LAST-MODIFIED:20260217T193622Z
UID:30042-1773475200-1773507600@baptisttrumpet.com
SUMMARY:UPCOMING: Arkansas Men's Retreat
DESCRIPTION:      Arkansas Men’s Retreat; March 13-14; Stoneridge Camp\, Smithville.
URL:https://baptisttrumpet.com/event/upcoming-arkansas-mens-retreat/
CATEGORIES:Upcoming Events
ATTACH;FMTTYPE=image/jpeg:https://baptisttrumpet.com/wp-content/uploads/2022/08/Upcoming-event.jpg
END:VEVENT
BEGIN:VEVENT
DTSTART;TZID=America/Chicago:20260306T180000
DTEND;TZID=America/Chicago:20260306T210000
DTSTAMP:20260423T172831
CREATED:20250916T210614Z
LAST-MODIFIED:20251021T190127Z
UID:28217-1772820000-1772830800@baptisttrumpet.com
SUMMARY:UPCOMING: CBC Scholarship Gala
DESCRIPTION:Mar. 6\, 2026; Antioch\, Conway.
URL:https://baptisttrumpet.com/event/cbc-scholarship-gala-3/
CATEGORIES:Upcoming Events
ATTACH;FMTTYPE=image/jpeg:https://baptisttrumpet.com/wp-content/uploads/2022/08/Upcoming-event.jpg
END:VEVENT
BEGIN:VEVENT
DTSTART;TZID=America/Chicago:20260302T183000
DTEND;TZID=America/Chicago:20260302T203000
DTSTAMP:20260423T172831
CREATED:20260114T140042Z
LAST-MODIFIED:20260114T140043Z
UID:29553-1772476200-1772483400@baptisttrumpet.com
SUMMARY:DISTRICTS: Mt. Vernon Brotherhood
DESCRIPTION:      Mt. Vernon Brotherhood; Mar. 2\, 6:30 p.m.; Bethel\, Forrest City.
URL:https://baptisttrumpet.com/event/districts-mt-vernon-brotherhood-2/
CATEGORIES:District Meeting
ATTACH;FMTTYPE=image/jpeg:https://baptisttrumpet.com/wp-content/uploads/2022/01/DistrictEvent.jpg
END:VEVENT
BEGIN:VEVENT
DTSTART;TZID=America/Chicago:20260301T190000
DTEND;TZID=America/Chicago:20260304T203000
DTSTAMP:20260423T172831
CREATED:20260217T194104Z
LAST-MODIFIED:20260217T194105Z
UID:30046-1772391600-1772656200@baptisttrumpet.com
SUMMARY:REVIVAL: Oakland Heights\, White Hall
DESCRIPTION:     Oakland Heights\, White Hall; March 1-4\, Sun. 4 p.m. with potluck to follow\, Mon.-Wed. 7 p.m.; Robert Randolph\, evangelist; Wes Woolley\, pastor.
URL:https://baptisttrumpet.com/event/revival-oakland-heights-white-hall-2/
CATEGORIES:Revival
ATTACH;FMTTYPE=image/jpeg:https://baptisttrumpet.com/wp-content/uploads/2022/02/revival.jpg
END:VEVENT
BEGIN:VEVENT
DTSTART;TZID=America/Chicago:20260227T150000
DTEND;TZID=America/Chicago:20260228T170000
DTSTAMP:20260423T172831
CREATED:20260210T214008Z
LAST-MODIFIED:20260210T214009Z
UID:29964-1772204400-1772298000@baptisttrumpet.com
SUMMARY:UPCOMING: Ark. Galilean Spring Meeting/Basketball Tournament
DESCRIPTION:         Ark. Galilean Spring Meeting/Basketball Tournament; Feb. 27-28; Central Baptist College\, Conway; galileans.com.
URL:https://baptisttrumpet.com/event/upcoming-ark-galilean-spring-meeting-basketball-tournament/
CATEGORIES:Upcoming Events
ATTACH;FMTTYPE=image/jpeg:https://baptisttrumpet.com/wp-content/uploads/2022/08/Upcoming-event.jpg
END:VEVENT
BEGIN:VEVENT
DTSTART;TZID=America/Chicago:20260222T080000
DTEND;TZID=America/Chicago:20260222T170000
DTSTAMP:20260423T172831
CREATED:20260120T172845Z
LAST-MODIFIED:20260120T172915Z
UID:29610-1771747200-1771779600@baptisttrumpet.com
SUMMARY:World Missions Day
DESCRIPTION:bmaglobal.org/worldmissionsday
URL:https://baptisttrumpet.com/event/world-missions-day-3/
CATEGORIES:Upcoming Events
ATTACH;FMTTYPE=image/jpeg:https://baptisttrumpet.com/wp-content/uploads/2022/08/Upcoming-event.jpg
END:VEVENT
BEGIN:VEVENT
DTSTART;TZID=America/Chicago:20260221T180000
DTEND;TZID=America/Chicago:20260221T210000
DTSTAMP:20260423T172831
CREATED:20260210T213902Z
LAST-MODIFIED:20260210T213903Z
UID:29962-1771696800-1771707600@baptisttrumpet.com
SUMMARY:UPCOMING: The Kinsmen
DESCRIPTION:         The Kinsmen; Feb. 21\, 6 p.m.\, potluck to follow; Dickinson\, Harrell.
URL:https://baptisttrumpet.com/event/upcoming-the-kinsmen/
CATEGORIES:Upcoming Events
ATTACH;FMTTYPE=image/jpeg:https://baptisttrumpet.com/wp-content/uploads/2022/08/Upcoming-event.jpg
END:VEVENT
BEGIN:VEVENT
DTSTART;TZID=America/Chicago:20260216T183000
DTEND;TZID=America/Chicago:20260216T203000
DTSTAMP:20260423T172831
CREATED:20260114T135806Z
LAST-MODIFIED:20260114T135807Z
UID:29549-1771266600-1771273800@baptisttrumpet.com
SUMMARY:DISTRICTS: Mt. Vernon Youth in Harvest
DESCRIPTION:      Mt. Vernon Youth in Harvest; Feb. 16\, 6:30 p.m.; Rondo\, Rondo.
URL:https://baptisttrumpet.com/event/districts-mt-vernon-youth-in-harvest-4/
CATEGORIES:District Meeting
ATTACH;FMTTYPE=image/jpeg:https://baptisttrumpet.com/wp-content/uploads/2022/01/DistrictEvent.jpg
END:VEVENT
BEGIN:VEVENT
DTSTART;TZID=America/Chicago:20260202T190000
DTEND;TZID=America/Chicago:20260204T200000
DTSTAMP:20260423T172831
CREATED:20260127T190616Z
LAST-MODIFIED:20260127T190617Z
UID:29714-1770058800-1770235200@baptisttrumpet.com
SUMMARY:REVIVALS: Woodberry\, Hampton
DESCRIPTION:      Woodberry\, Hampton; Feb. 2-4\, 7 p.m.; Reuben Weaver\, evangelist; Loren Strickland\, pastor.
URL:https://baptisttrumpet.com/event/revivals-woodberry-hampton/
CATEGORIES:Revival
ATTACH;FMTTYPE=image/jpeg:https://baptisttrumpet.com/wp-content/uploads/2022/02/revival.jpg
END:VEVENT
BEGIN:VEVENT
DTSTART;TZID=America/Chicago:20260124T080000
DTEND;TZID=America/Chicago:20260124T110000
DTSTAMP:20260423T172831
CREATED:20251215T163947Z
LAST-MODIFIED:20251215T163948Z
UID:29260-1769241600-1769252400@baptisttrumpet.com
SUMMARY:DISTRICT: Greenbrier Men’s District Fellowship Breakfast
DESCRIPTION:      Greenbrier Men’s District Fellowship Breakfast; Jan. 24\, 8 a.m.; Bethlehem\, Greenbrier.
URL:https://baptisttrumpet.com/event/district-greenbrier-mens-district-fellowship-breakfast/
CATEGORIES:District Meeting
ATTACH;FMTTYPE=image/jpeg:https://baptisttrumpet.com/wp-content/uploads/2022/01/DistrictEvent.jpg
END:VEVENT
BEGIN:VEVENT
DTSTART;TZID=America/Chicago:20260124T000000
DTEND;TZID=America/Chicago:20260124T235959
DTSTAMP:20260423T172831
CREATED:20260108T142617Z
LAST-MODIFIED:20260108T142618Z
UID:29450-1769212800-1769299199@baptisttrumpet.com
SUMMARY:DISTRICTS - Southwest District GMA
DESCRIPTION:         Southwest District GMA; Jan. 24; First\, Taylor.
URL:https://baptisttrumpet.com/event/districts-southwest-district-gma/
CATEGORIES:District Meeting
ATTACH;FMTTYPE=image/jpeg:https://baptisttrumpet.com/wp-content/uploads/2022/01/DistrictEvent.jpg
END:VEVENT
BEGIN:VEVENT
DTSTART;TZID=America/Chicago:20260119T183000
DTEND;TZID=America/Chicago:20260119T203000
DTSTAMP:20260423T172831
CREATED:20260114T135945Z
LAST-MODIFIED:20260114T135946Z
UID:29551-1768847400-1768854600@baptisttrumpet.com
SUMMARY:DISTRICTS: Mt. Vernon Youth in Harvest
DESCRIPTION:      Mt. Vernon Youth in Harvest; Jan. 19\, 6:30 p.m.; Fourth Street\, West Helena.
URL:https://baptisttrumpet.com/event/districts-mt-vernon-youth-in-harvest-5/
CATEGORIES:District Meeting
ATTACH;FMTTYPE=image/jpeg:https://baptisttrumpet.com/wp-content/uploads/2022/01/DistrictEvent.jpg
END:VEVENT
BEGIN:VEVENT
DTSTART;TZID=America/Chicago:20260116T000000
DTEND;TZID=America/Chicago:20260117T235959
DTSTAMP:20260423T172831
CREATED:20250916T210431Z
LAST-MODIFIED:20251021T190108Z
UID:28215-1768521600-1768694399@baptisttrumpet.com
SUMMARY:UPCOMING: CBC Homecoming
DESCRIPTION:Jan. 16-17\, 2026; Central Baptist College.
URL:https://baptisttrumpet.com/event/cbc-homecoming-2/
CATEGORIES:Upcoming Events
ATTACH;FMTTYPE=image/jpeg:https://baptisttrumpet.com/wp-content/uploads/2022/08/Upcoming-event.jpg
END:VEVENT
BEGIN:VEVENT
DTSTART;TZID=America/Chicago:20260113T180000
DTEND;TZID=America/Chicago:20260113T200000
DTSTAMP:20260423T172831
CREATED:20251209T193738Z
LAST-MODIFIED:20251209T193739Z
UID:29255-1768327200-1768334400@baptisttrumpet.com
SUMMARY:DISTRICTS: SW District Brotherhood
DESCRIPTION:      SW District Brotherhood; Jan. 13\, 6 p.m.; Brister\, Emerson.
URL:https://baptisttrumpet.com/event/districts-sw-district-brotherhood/
CATEGORIES:District Meeting
ATTACH;FMTTYPE=image/jpeg:https://baptisttrumpet.com/wp-content/uploads/2022/01/DistrictEvent.jpg
END:VEVENT
BEGIN:VEVENT
DTSTART;TZID=America/Chicago:20260112T183000
DTEND;TZID=America/Chicago:20260112T203000
DTSTAMP:20260423T172831
CREATED:20260108T142452Z
LAST-MODIFIED:20260108T142917Z
UID:29448-1768242600-1768249800@baptisttrumpet.com
SUMMARY:DISTRICTS - Central Arkansas District Brotherhood
DESCRIPTION:      Central Arkansas District Brotherhood; Jan. 12\, 6:30 p.m.; Landmark\, England.
URL:https://baptisttrumpet.com/event/districts-central-arkansas-district-brotherhood/
CATEGORIES:District Meeting
ATTACH;FMTTYPE=image/jpeg:https://baptisttrumpet.com/wp-content/uploads/2022/01/DistrictEvent.jpg
END:VEVENT
BEGIN:VEVENT
DTSTART;TZID=America/Chicago:20260110T100000
DTEND;TZID=America/Chicago:20260110T140000
DTSTAMP:20260423T172831
CREATED:20251202T200054Z
LAST-MODIFIED:20251202T200055Z
UID:29207-1768039200-1768053600@baptisttrumpet.com
SUMMARY:DISTRICTS: Unitied District WMA
DESCRIPTION:United District WMA\, Jan. 10\, 10 a.m.; Mt. Pleasant\, Plumerville
URL:https://baptisttrumpet.com/event/districts-unitied-district-wma/
CATEGORIES:District Meeting
ATTACH;FMTTYPE=image/jpeg:https://baptisttrumpet.com/wp-content/uploads/2022/01/DistrictEvent.jpg
END:VEVENT
BEGIN:VEVENT
DTSTART;TZID=America/Chicago:20260110T100000
DTEND;TZID=America/Chicago:20260110T140000
DTSTAMP:20260423T172831
CREATED:20251021T185843Z
LAST-MODIFIED:20251111T202631Z
UID:28676-1768039200-1768053600@baptisttrumpet.com
SUMMARY:DISTRICTS: Central Arkansas WMA
DESCRIPTION:      Central Arkansas WMA; Jan. 10\, 10 a.m.; Park Place\, Bryant.
URL:https://baptisttrumpet.com/event/central-arkansas-wma-2/
CATEGORIES:District Meeting
ATTACH;FMTTYPE=image/jpeg:https://baptisttrumpet.com/wp-content/uploads/2022/01/DistrictEvent.jpg
END:VEVENT
BEGIN:VEVENT
DTSTART;TZID=America/Chicago:20260110T100000
DTEND;TZID=America/Chicago:20260110T130000
DTSTAMP:20260423T172831
CREATED:20260108T142324Z
LAST-MODIFIED:20260108T142923Z
UID:29446-1768039200-1768050000@baptisttrumpet.com
SUMMARY:DISTRICTS - Greenbrier District WMA
DESCRIPTION:      Greenbrier District WMA; Jan. 10\, 10 a.m.; Patsy Miller\, speaker; Bethlehem\, Greenbrier.
URL:https://baptisttrumpet.com/event/districts-greenbrier-district-wma/
CATEGORIES:District Meeting
ATTACH;FMTTYPE=image/jpeg:https://baptisttrumpet.com/wp-content/uploads/2022/01/DistrictEvent.jpg
END:VEVENT
BEGIN:VEVENT
DTSTART;TZID=America/Chicago:20251223T180000
DTEND;TZID=America/Chicago:20251223T200000
DTSTAMP:20260423T172831
CREATED:20251209T193903Z
LAST-MODIFIED:20251209T193904Z
UID:29257-1766512800-1766520000@baptisttrumpet.com
SUMMARY:UPCOMING: Community Candlelight Service
DESCRIPTION:      Community Candlelight Service; Dec. 23\, 6 p.m.; Zion\, Fordyce.
URL:https://baptisttrumpet.com/event/upcoming-community-candlelight-service/
CATEGORIES:Upcoming Events
ATTACH;FMTTYPE=image/jpeg:https://baptisttrumpet.com/wp-content/uploads/2022/08/Upcoming-event.jpg
END:VEVENT
BEGIN:VEVENT
DTSTART;TZID=America/Chicago:20251215T183000
DTEND;TZID=America/Chicago:20251215T200000
DTSTAMP:20260423T172831
CREATED:20251007T200028Z
LAST-MODIFIED:20260108T142929Z
UID:28534-1765823400-1765828800@baptisttrumpet.com
SUMMARY:DISTRICTS: Mt. Vernon Youth in Harvest
DESCRIPTION:      Mt. Vernon Youth in Harvest; Dec. 15\, 6:30 p.m.; County Line\, Marvell.
URL:https://baptisttrumpet.com/event/districts-mt-vernon-youth-in-harvest/
CATEGORIES:District Meeting
ATTACH;FMTTYPE=image/jpeg:https://baptisttrumpet.com/wp-content/uploads/2022/01/DistrictEvent.jpg
END:VEVENT
BEGIN:VEVENT
DTSTART;TZID=America/Chicago:20251208T183000
DTEND;TZID=America/Chicago:20251208T200000
DTSTAMP:20260423T172831
CREATED:20251007T200152Z
LAST-MODIFIED:20251007T200153Z
UID:28536-1765218600-1765224000@baptisttrumpet.com
SUMMARY:DISTRICTS: Mt. Vernon Brotherhood
DESCRIPTION:      Mt. Vernon Brotherhood; Dec. 8\, 6:30 p.m.; Fourth Street\, West Helena.
URL:https://baptisttrumpet.com/event/districts-mt-vernon-brotherhood/
CATEGORIES:District Meeting
ATTACH;FMTTYPE=image/jpeg:https://baptisttrumpet.com/wp-content/uploads/2022/01/DistrictEvent.jpg
END:VEVENT
BEGIN:VEVENT
DTSTART;TZID=America/Chicago:20251204T190000
DTEND;TZID=America/Chicago:20251204T210000
DTSTAMP:20260423T172831
CREATED:20251103T181734Z
LAST-MODIFIED:20260108T142936Z
UID:28777-1764874800-1764882000@baptisttrumpet.com
SUMMARY:Upcoming: Masters Voice Christmas Concert
DESCRIPTION:      Masters Voice Christmas Concert; Dec. 4\, 7 p.m.; Landmark\, England.
URL:https://baptisttrumpet.com/event/upcoming-masters-voice-christmas-concert/
CATEGORIES:Upcoming Events
ATTACH;FMTTYPE=image/jpeg:https://baptisttrumpet.com/wp-content/uploads/2022/08/Upcoming-event.jpg
END:VEVENT
BEGIN:VEVENT
DTSTART;TZID=America/Chicago:20251204T183000
DTEND;TZID=America/Chicago:20251204T200000
DTSTAMP:20260423T172831
CREATED:20251023T144619Z
LAST-MODIFIED:20260108T142947Z
UID:28700-1764873000-1764878400@baptisttrumpet.com
SUMMARY:UPCOMING: CBC Music Department Christmas Concert
DESCRIPTION:Dec. 4 – Music Department Christmas Concert\, 6:30 pm in Burgess Auditorium
URL:https://baptisttrumpet.com/event/cbc-music-department-christmas-concert/
CATEGORIES:Upcoming Events
ATTACH;FMTTYPE=image/jpeg:https://baptisttrumpet.com/wp-content/uploads/2022/08/Upcoming-event.jpg
END:VEVENT
BEGIN:VEVENT
DTSTART;TZID=America/Chicago:20251118T080000
DTEND;TZID=America/Chicago:20251120T170000
DTSTAMP:20260423T172831
CREATED:20250716T193747Z
LAST-MODIFIED:20260108T142941Z
UID:27419-1763452800-1763658000@baptisttrumpet.com
SUMMARY:UPCOMING: Celebration Adult Conference
DESCRIPTION:This will be Chateau on The Lake\, Branson. Exact times for each day will be available on schedules in the near future.
URL:https://baptisttrumpet.com/event/celebration-adult-conference-2/
CATEGORIES:Upcoming Events
ATTACH;FMTTYPE=image/jpeg:https://baptisttrumpet.com/wp-content/uploads/2024/01/chateau.jpeg
END:VEVENT
BEGIN:VEVENT
DTSTART;TZID=America/Chicago:20251117T183000
DTEND;TZID=America/Chicago:20251117T200000
DTSTAMP:20260423T172831
CREATED:20251023T144522Z
LAST-MODIFIED:20260108T142954Z
UID:28698-1763404200-1763409600@baptisttrumpet.com
SUMMARY:UPCOMING: CBC Handbells\, String Ensemble\, and Clarinet Ensemble Concert
DESCRIPTION:Nov. 17 – Handbells\, String Ensemble\, and Clarinet Ensemble Concert – 5:00 pm Toland Worship Center
URL:https://baptisttrumpet.com/event/cbc-handbells-string-ensemble-and-clarinet-ensemble-concert/
CATEGORIES:Upcoming Events
ATTACH;FMTTYPE=image/jpeg:https://baptisttrumpet.com/wp-content/uploads/2022/08/Upcoming-event.jpg
END:VEVENT
BEGIN:VEVENT
DTSTART;TZID=America/Chicago:20251117T183000
DTEND;TZID=America/Chicago:20251117T200000
DTSTAMP:20260423T172831
CREATED:20251007T200313Z
LAST-MODIFIED:20251007T200314Z
UID:28538-1763404200-1763409600@baptisttrumpet.com
SUMMARY:DISTRICTS: Mt. Vernon Youth in Harvest
DESCRIPTION:      Mt. Vernon Youth in Harvest; Nov. 17\, 6:30 p.m.; Bethel\, Forrest City.
URL:https://baptisttrumpet.com/event/districts-mt-vernon-youth-in-harvest-2/
CATEGORIES:District Meeting
ATTACH;FMTTYPE=image/jpeg:https://baptisttrumpet.com/wp-content/uploads/2022/01/DistrictEvent.jpg
END:VEVENT
BEGIN:VEVENT
DTSTART;TZID=America/Chicago:20251114T000000
DTEND;TZID=America/Chicago:20251114T235959
DTSTAMP:20260423T172831
CREATED:20251007T195242Z
LAST-MODIFIED:20251007T195243Z
UID:28531-1763078400-1763164799@baptisttrumpet.com
SUMMARY:UPCOMING: True Woman Conferance
DESCRIPTION:         True Woman Conference; Nov. 14-15; Sponsored by Revive Our Hearts and hosted by Worden\, Bald Knob.
URL:https://baptisttrumpet.com/event/upcoming-true-woman-conferance/
CATEGORIES:Upcoming Events
ATTACH;FMTTYPE=image/jpeg:https://baptisttrumpet.com/wp-content/uploads/2022/08/Upcoming-event.jpg
END:VEVENT
BEGIN:VEVENT
DTSTART;TZID=America/Chicago:20251113T190000
DTEND;TZID=America/Chicago:20251113T200000
DTSTAMP:20260423T172831
CREATED:20251007T194702Z
LAST-MODIFIED:20251007T194929Z
UID:28525-1763060400-1763064000@baptisttrumpet.com
SUMMARY:REVIVAL: First Baptist Church
DESCRIPTION:      First\, St. Charles; Nov. 13-15\, 7 p.m.; Luke Watson\, evangelist; The Walker Sisters\, special music; Wayne McLean\, interim pastor.
URL:https://baptisttrumpet.com/event/revival-first-baptist-church/
CATEGORIES:Revival
ATTACH;FMTTYPE=image/jpeg:https://baptisttrumpet.com/wp-content/uploads/2022/02/revival.jpg
END:VEVENT
END:VCALENDAR