BEGIN:VCALENDAR
VERSION:2.0
PRODID:-//Baptist Trumpet - ECPv6.15.20//NONSGML v1.0//EN
CALSCALE:GREGORIAN
METHOD:PUBLISH
X-WR-CALNAME:Baptist Trumpet
X-ORIGINAL-URL:https://baptisttrumpet.com
X-WR-CALDESC:Events for Baptist Trumpet
REFRESH-INTERVAL;VALUE=DURATION:PT1H
X-Robots-Tag:noindex
X-PUBLISHED-TTL:PT1H
BEGIN:VTIMEZONE
TZID:America/Chicago
BEGIN:DAYLIGHT
TZOFFSETFROM:-0600
TZOFFSETTO:-0500
TZNAME:CDT
DTSTART:20250309T080000
END:DAYLIGHT
BEGIN:STANDARD
TZOFFSETFROM:-0500
TZOFFSETTO:-0600
TZNAME:CST
DTSTART:20251102T070000
END:STANDARD
BEGIN:DAYLIGHT
TZOFFSETFROM:-0600
TZOFFSETTO:-0500
TZNAME:CDT
DTSTART:20260308T080000
END:DAYLIGHT
BEGIN:STANDARD
TZOFFSETFROM:-0500
TZOFFSETTO:-0600
TZNAME:CST
DTSTART:20261101T070000
END:STANDARD
BEGIN:DAYLIGHT
TZOFFSETFROM:-0600
TZOFFSETTO:-0500
TZNAME:CDT
DTSTART:20270314T080000
END:DAYLIGHT
BEGIN:STANDARD
TZOFFSETFROM:-0500
TZOFFSETTO:-0600
TZNAME:CST
DTSTART:20271107T070000
END:STANDARD
END:VTIMEZONE
BEGIN:VEVENT
DTSTART;TZID=America/Chicago:20260518T190000
DTEND;TZID=America/Chicago:20260520T203000
DTSTAMP:20260423T130124
CREATED:20260317T194448Z
LAST-MODIFIED:20260317T194449Z
UID:30430-1779130800-1779309000@baptisttrumpet.com
SUMMARY:REVIVAL: Immanuel\, Jonesboro
DESCRIPTION:      Immanuel\, Jonesboro; May 18-20\, 7 p.m.; Rick Jensen\, evangelist; George Harvey\, pastor.
URL:https://baptisttrumpet.com/event/revival-immanuel-jonesboro/
CATEGORIES:Revival
ATTACH;FMTTYPE=image/jpeg:https://baptisttrumpet.com/wp-content/uploads/2022/02/revival.jpg
END:VEVENT
BEGIN:VEVENT
DTSTART;TZID=America/Chicago:20260517T180000
DTEND;TZID=America/Chicago:20260520T203000
DTSTAMP:20260423T130124
CREATED:20260324T140751Z
LAST-MODIFIED:20260324T140752Z
UID:30513-1779040800-1779309000@baptisttrumpet.com
SUMMARY:REVIVALS: Charity\, Ward
DESCRIPTION:      Charity\, Ward; May 17-20\, Sun. 6 p.m.\, Mon.-Wed. 7 p.m.; Dr. Martin Jameson\, evangelist; Keith Lewis\, pastor.
URL:https://baptisttrumpet.com/event/revivals-charity-ward/
CATEGORIES:Revival
ATTACH;FMTTYPE=image/jpeg:https://baptisttrumpet.com/wp-content/uploads/2022/02/revival.jpg
END:VEVENT
BEGIN:VEVENT
DTSTART;TZID=America/Chicago:20260510T180000
DTEND;TZID=America/Chicago:20260513T203000
DTSTAMP:20260423T130124
CREATED:20260408T160640Z
LAST-MODIFIED:20260408T160642Z
UID:30703-1778436000-1778704200@baptisttrumpet.com
SUMMARY:REVIVAL: Union\, Blevins
DESCRIPTION:      Union\, Blevins; May 10-13\, Sun. 6 p.m.\, Mon.–Wed. 7 p.m.; Donald Thomson\, pastor.
URL:https://baptisttrumpet.com/event/revival-union-blevins/
CATEGORIES:Revival
ATTACH;FMTTYPE=image/jpeg:https://baptisttrumpet.com/wp-content/uploads/2022/02/revival.jpg
END:VEVENT
BEGIN:VEVENT
DTSTART;TZID=America/Chicago:20260504T190000
DTEND;TZID=America/Chicago:20260506T203000
DTSTAMP:20260423T130124
CREATED:20260217T194216Z
LAST-MODIFIED:20260217T194217Z
UID:30048-1777921200-1778099400@baptisttrumpet.com
SUMMARY:REVIVAL: Dickinson\, Harrell
DESCRIPTION:     Dickinson\, Harrell; May 4-6\, 7 p.m.; Luke Hockenjos\, evangelist; Paul Outlaw\, pastor.
URL:https://baptisttrumpet.com/event/revival-dickinson-harrell-3/
CATEGORIES:Revival
ATTACH;FMTTYPE=image/jpeg:https://baptisttrumpet.com/wp-content/uploads/2022/02/revival.jpg
END:VEVENT
BEGIN:VEVENT
DTSTART;TZID=America/Chicago:20260503T110000
DTEND;TZID=America/Chicago:20260503T120000
DTSTAMP:20260423T130124
CREATED:20260408T161924Z
LAST-MODIFIED:20260408T161925Z
UID:30711-1777806000-1777809600@baptisttrumpet.com
SUMMARY:UPCOMING EVENTS: Special Song Service
DESCRIPTION:      Special Song Service; Eddie and Joy Kelso; May 3\, 11 a.m. Union Grove\, Blevins.
URL:https://baptisttrumpet.com/event/upcoming-events-special-song-service/
CATEGORIES:Upcoming Events
ATTACH;FMTTYPE=image/jpeg:https://baptisttrumpet.com/wp-content/uploads/2022/08/Upcoming-event.jpg
END:VEVENT
BEGIN:VEVENT
DTSTART;TZID=America/Chicago:20260426T180000
DTEND;TZID=America/Chicago:20260429T203000
DTSTAMP:20260423T130124
CREATED:20260408T160403Z
LAST-MODIFIED:20260408T160404Z
UID:30701-1777226400-1777494600@baptisttrumpet.com
SUMMARY:REVIVALS: Prospect\, Jonesboro
DESCRIPTION:      Prospect\, Jonesboro; April 26-29\, Sun. 6 p.m.\, Mon.-Wed. 7 p.m.; Chad White\, evangelist; Mike Book\, pastor.
URL:https://baptisttrumpet.com/event/revivals-prospect-jonesboro/
CATEGORIES:Revival
ATTACH;FMTTYPE=image/jpeg:https://baptisttrumpet.com/wp-content/uploads/2022/02/revival.jpg
END:VEVENT
BEGIN:VEVENT
DTSTART;TZID=America/Chicago:20260426T100000
DTEND;TZID=America/Chicago:20260426T140000
DTSTAMP:20260423T130124
CREATED:20260414T224011Z
LAST-MODIFIED:20260414T224012Z
UID:30838-1777197600-1777212000@baptisttrumpet.com
SUMMARY:HOMECOMING: Haynes\, Haynes
DESCRIPTION:      Haynes\, Haynes; April 26\, 10 a.m.; lunch to follow; Don Lewis\, pastor.
URL:https://baptisttrumpet.com/event/homecoming-haynes-haynes-3/
CATEGORIES:Homecoming
ATTACH;FMTTYPE=image/jpeg:https://baptisttrumpet.com/wp-content/uploads/2022/04/Homecoming.jpg
END:VEVENT
BEGIN:VEVENT
DTSTART;TZID=America/Chicago:20260424T183000
DTEND;TZID=America/Chicago:20260424T200000
DTSTAMP:20260423T130124
CREATED:20260304T132126Z
LAST-MODIFIED:20260304T132128Z
UID:30238-1777055400-1777060800@baptisttrumpet.com
SUMMARY:UPCOMING: CBC Fine Arts Dept. Spring Concert
DESCRIPTION:      CBC Fine Arts Department Spring Concert; April 24\, 6:30 p.m.; Burgess at CBC\, Conway.
URL:https://baptisttrumpet.com/event/upcoming-cbc-fine-arts-dept-spring-concert/
CATEGORIES:Upcoming Events
ATTACH;FMTTYPE=image/jpeg:https://baptisttrumpet.com/wp-content/uploads/2022/08/Upcoming-event.jpg
END:VEVENT
BEGIN:VEVENT
DTSTART;TZID=America/Chicago:20260422T083000
DTEND;TZID=America/Chicago:20260422T130000
DTSTAMP:20260423T130124
CREATED:20260310T182340Z
LAST-MODIFIED:20260310T182342Z
UID:30342-1776846600-1776862800@baptisttrumpet.com
SUMMARY:UPCOMING: National WMA Meeting/Women's Conference
DESCRIPTION:      National WMA Meeting/Women’s Conference; April 22; CBC\, Conway.
URL:https://baptisttrumpet.com/event/upcoming-national-wma-meeting-womens-conference/
CATEGORIES:Upcoming Events
ATTACH;FMTTYPE=image/jpeg:https://baptisttrumpet.com/wp-content/uploads/2022/08/Upcoming-event.jpg
END:VEVENT
BEGIN:VEVENT
DTSTART;TZID=America/Chicago:20260421T080000
DTEND;TZID=America/Chicago:20260422T210000
DTSTAMP:20260423T130124
CREATED:20250716T194428Z
LAST-MODIFIED:20260108T142909Z
UID:27421-1776758400-1776891600@baptisttrumpet.com
SUMMARY:BMA of America National Meeting
DESCRIPTION:This will be in Conway\, AR – meeting at Antioch.
URL:https://baptisttrumpet.com/event/bma-of-america-national-meeting/
CATEGORIES:Upcoming Events
ATTACH;FMTTYPE=image/jpeg:https://baptisttrumpet.com/wp-content/uploads/2022/04/Antioch-Conway.jpg
END:VEVENT
BEGIN:VEVENT
DTSTART;TZID=America/Chicago:20260420T183000
DTEND;TZID=America/Chicago:20260420T203000
DTSTAMP:20260423T130124
CREATED:20260414T224125Z
LAST-MODIFIED:20260414T224126Z
UID:30840-1776709800-1776717000@baptisttrumpet.com
SUMMARY:DISTRICTS: Mt. Vernon Youth in the Harvest
DESCRIPTION:      Mt. Vernon Youth in the Harvest; April 20\, 6:30 p.m.; Bethel\, Forrest City.
URL:https://baptisttrumpet.com/event/districts-mt-vernon-youth-in-the-harvest/
CATEGORIES:District Meeting
ATTACH;FMTTYPE=image/jpeg:https://baptisttrumpet.com/wp-content/uploads/2022/01/DistrictEvent.jpg
END:VEVENT
BEGIN:VEVENT
DTSTART;TZID=America/Chicago:20260419T103000
DTEND;TZID=America/Chicago:20260419T140000
DTSTAMP:20260423T130124
CREATED:20260408T161814Z
LAST-MODIFIED:20260408T161816Z
UID:30709-1776594600-1776607200@baptisttrumpet.com
SUMMARY:UPCOMING EVENTS: Kinsman Quartet
DESCRIPTION:      Kinsman Quartet; April 19\, 10:45 a.m.; Potluck to follow; First\, Caldwell.
URL:https://baptisttrumpet.com/event/upcoming-events-kinsman-quartet/
CATEGORIES:Upcoming Events
ATTACH;FMTTYPE=image/jpeg:https://baptisttrumpet.com/wp-content/uploads/2022/08/Upcoming-event.jpg
END:VEVENT
BEGIN:VEVENT
DTSTART;TZID=America/Chicago:20260418T100000
DTEND;TZID=America/Chicago:20260418T140000
DTSTAMP:20260423T130124
CREATED:20260210T213620Z
LAST-MODIFIED:20260310T173017Z
UID:29957-1776506400-1776520800@baptisttrumpet.com
SUMMARY:DISTRICTS: Central Ark. District WMA
DESCRIPTION:         Central Ark. District WMA; April 18\, 10 a.m.; Rana Costa\, speaker; North View\, North Little Rock.
URL:https://baptisttrumpet.com/event/districts-center-ark-district-wma/
CATEGORIES:District Meeting
ATTACH;FMTTYPE=image/jpeg:https://baptisttrumpet.com/wp-content/uploads/2022/01/DistrictEvent.jpg
END:VEVENT
BEGIN:VEVENT
DTSTART;TZID=America/Chicago:20260418T100000
DTEND;TZID=America/Chicago:20260418T140000
DTSTAMP:20260423T130124
CREATED:20260113T212109Z
LAST-MODIFIED:20260408T155547Z
UID:29547-1776506400-1776520800@baptisttrumpet.com
SUMMARY:DISTRICTS: Central Ark. District WMA
DESCRIPTION:         Central Ark. District WMA; April 18\, 10 a.m.; North View\, North Little Rock.
URL:https://baptisttrumpet.com/event/districts-central-ark-district-wma/
CATEGORIES:District Meeting
ATTACH;FMTTYPE=image/jpeg:https://baptisttrumpet.com/wp-content/uploads/2022/01/DistrictEvent.jpg
END:VEVENT
BEGIN:VEVENT
DTSTART;TZID=America/Chicago:20260414T180000
DTEND;TZID=America/Chicago:20260414T200000
DTSTAMP:20260423T130124
CREATED:20260408T162042Z
LAST-MODIFIED:20260408T162043Z
UID:30713-1776189600-1776196800@baptisttrumpet.com
SUMMARY:DISTRICTS: Southwest District Brotherhood
DESCRIPTION:      Southwest District Brotherhood; April 14\, 6 p.m.; Corinth\, Rosston.
URL:https://baptisttrumpet.com/event/districts-southwest-district-brotherhood/
CATEGORIES:District Meeting
ATTACH;FMTTYPE=image/jpeg:https://baptisttrumpet.com/wp-content/uploads/2022/01/DistrictEvent.jpg
END:VEVENT
BEGIN:VEVENT
DTSTART;TZID=America/Chicago:20260414T100000
DTEND;TZID=America/Chicago:20260414T150000
DTSTAMP:20260423T130124
CREATED:20260408T162147Z
LAST-MODIFIED:20260408T162148Z
UID:30715-1776160800-1776178800@baptisttrumpet.com
SUMMARY:DISTRICTS: Southwest District WMA
DESCRIPTION:      Southwest District WMA; April 14\, 10 a.m.; We Are Free (Central Mall)\, Texarkana\, Texas; Lunch provided.
URL:https://baptisttrumpet.com/event/districts-southwest-district-wma-2/
CATEGORIES:District Meeting
ATTACH;FMTTYPE=image/jpeg:https://baptisttrumpet.com/wp-content/uploads/2022/01/DistrictEvent.jpg
END:VEVENT
BEGIN:VEVENT
DTSTART;TZID=America/Chicago:20260413T190000
DTEND;TZID=America/Chicago:20260417T203000
DTSTAMP:20260423T130124
CREATED:20260324T140631Z
LAST-MODIFIED:20260324T140632Z
UID:30511-1776106800-1776457800@baptisttrumpet.com
SUMMARY:REVIVALS: Milligan Ridge\, Manila
DESCRIPTION:      Milligan Ridge\, Manila; April 13-17\, 7 p.m.; Mitchell King\, evangelist; Mike Colvin\, pastor.
URL:https://baptisttrumpet.com/event/revivals-milligan-ridge-manila/
CATEGORIES:Revival
ATTACH;FMTTYPE=image/jpeg:https://baptisttrumpet.com/wp-content/uploads/2022/02/revival.jpg
END:VEVENT
BEGIN:VEVENT
DTSTART;TZID=America/Chicago:20260413T183000
DTEND;TZID=America/Chicago:20260413T210000
DTSTAMP:20260423T130124
CREATED:20260120T173127Z
LAST-MODIFIED:20260120T173129Z
UID:29612-1776105000-1776114000@baptisttrumpet.com
SUMMARY:DISTRICTS: Central Ark. Brotherhood
DESCRIPTION:Central Arkansas District Brotherhood; Apr. 13\, 6:30 p.m.; Pleasant Grove\, Carlisle.
URL:https://baptisttrumpet.com/event/districts-central-ark-brotherhood/
CATEGORIES:District Meeting
ATTACH;FMTTYPE=image/jpeg:https://baptisttrumpet.com/wp-content/uploads/2022/01/DistrictEvent.jpg
END:VEVENT
BEGIN:VEVENT
DTSTART;TZID=America/Chicago:20260412T180000
DTEND;TZID=America/Chicago:20260412T200000
DTSTAMP:20260423T130124
CREATED:20260324T141146Z
LAST-MODIFIED:20260324T141147Z
UID:30519-1776016800-1776024000@baptisttrumpet.com
SUMMARY:UPCOMING: Gospel Concert
DESCRIPTION:      Gospel Concert by Ronald Captain Smead and Family; April 12\, 6 p.m.; Landmark\, England.
URL:https://baptisttrumpet.com/event/upcoming-gospel-concert/
CATEGORIES:Upcoming Events
ATTACH;FMTTYPE=image/jpeg:https://baptisttrumpet.com/wp-content/uploads/2022/08/Upcoming-event.jpg
END:VEVENT
BEGIN:VEVENT
DTSTART;TZID=America/Chicago:20260412T093000
DTEND;TZID=America/Chicago:20260412T140000
DTSTAMP:20260423T130124
CREATED:20260310T182112Z
LAST-MODIFIED:20260310T182113Z
UID:30340-1775986200-1776002400@baptisttrumpet.com
SUMMARY:UPCOMING: 90th Anniversary Celebration
DESCRIPTION:      90th Anniversary Celebration; April 12\, 9:30 a.m.\, lunch to follow; Phillip Dunn\, speaker\, Central\, Texarkana.
URL:https://baptisttrumpet.com/event/upcoming-90th-anniversary-celebration/
CATEGORIES:Upcoming Events
ATTACH;FMTTYPE=image/jpeg:https://baptisttrumpet.com/wp-content/uploads/2022/08/Upcoming-event.jpg
END:VEVENT
BEGIN:VEVENT
DTSTART;TZID=America/Chicago:20260412T090000
DTEND;TZID=America/Chicago:20260415T203000
DTSTAMP:20260423T130124
CREATED:20260304T131230Z
LAST-MODIFIED:20260304T131231Z
UID:30230-1775984400-1776285000@baptisttrumpet.com
SUMMARY:REVIVAL: First Baptist Church\, Damascus
DESCRIPTION:      First\, Damascus; April 12-15\, Sun. 9 a.m. and 6 p.m.\, Mon. 7 p.m.; John David Smith\, evangelist; Tues.-Wed. 7 p.m.; Larry Barker\, evangelist; Daniel Williams\, pastor.
URL:https://baptisttrumpet.com/event/revival-first-baptist-church-damascus/
CATEGORIES:Revival
ATTACH;FMTTYPE=image/jpeg:https://baptisttrumpet.com/wp-content/uploads/2022/02/revival.jpg
END:VEVENT
BEGIN:VEVENT
DTSTART;TZID=America/Chicago:20260411T100000
DTEND;TZID=America/Chicago:20260411T140000
DTSTAMP:20260423T130124
CREATED:20260127T190455Z
LAST-MODIFIED:20260127T190456Z
UID:29712-1775901600-1775916000@baptisttrumpet.com
SUMMARY:DISTRICTS: United District WMA
DESCRIPTION:      United District WMA; April 11\, 10 a.m.; Hattieville\, Hattieville.
URL:https://baptisttrumpet.com/event/districts-united-district-wma/
CATEGORIES:District Meeting
ATTACH;FMTTYPE=image/jpeg:https://baptisttrumpet.com/wp-content/uploads/2022/01/DistrictEvent.jpg
END:VEVENT
BEGIN:VEVENT
DTSTART;TZID=America/Chicago:20260410T140000
DTEND;TZID=America/Chicago:20260410T160000
DTSTAMP:20260423T130124
CREATED:20260317T184305Z
LAST-MODIFIED:20260317T184306Z
UID:30427-1775829600-1775836800@baptisttrumpet.com
SUMMARY:UPCOMING: CBC Presidential Inauguration
DESCRIPTION:      CBC Inauguration of President Dr. Jeremy Langley; April 10\, 2 p.m.; Burgess at CBC\, Conway.
URL:https://baptisttrumpet.com/event/upcoming-cbc-presidential-inauguration/
CATEGORIES:Upcoming Events
END:VEVENT
BEGIN:VEVENT
DTSTART;TZID=America/Chicago:20260405T070000
DTEND;TZID=America/Chicago:20260405T120000
DTSTAMP:20260423T130124
CREATED:20260324T141049Z
LAST-MODIFIED:20260324T141049Z
UID:30517-1775372400-1775390400@baptisttrumpet.com
SUMMARY:UPCOMING: Beacon Taylor Resurrection Sunday
DESCRIPTION:      Beacon\, Taylor Resurrection Sunday Schedule; April 5; 7 a.m.\, sunrise service; 8 a.m.\, fellowship breakfast; 9 a.m.\, worship service; No evening service.
URL:https://baptisttrumpet.com/event/upcoming-beacon-taylor-resurrection-sunday/
CATEGORIES:Upcoming Events
ATTACH;FMTTYPE=image/jpeg:https://baptisttrumpet.com/wp-content/uploads/2022/08/Upcoming-event.jpg
END:VEVENT
BEGIN:VEVENT
DTSTART;TZID=America/Chicago:20260329T100000
DTEND;TZID=America/Chicago:20260329T140000
DTSTAMP:20260423T130124
CREATED:20260317T183750Z
LAST-MODIFIED:20260317T183751Z
UID:30420-1774778400-1774792800@baptisttrumpet.com
SUMMARY:HOMECOMING: Bethel\, Benton
DESCRIPTION:      Bethel\, Benton; March 29; Grady Higgs\, message; lunch to follow; Bobby Shell\, pastor.
URL:https://baptisttrumpet.com/event/homecoming-bethel-benton/
CATEGORIES:Homecoming
END:VEVENT
BEGIN:VEVENT
DTSTART;TZID=America/Chicago:20260329T100000
DTEND;TZID=America/Chicago:20260329T140000
DTSTAMP:20260423T130124
CREATED:20260210T213753Z
LAST-MODIFIED:20260210T213754Z
UID:29960-1774778400-1774792800@baptisttrumpet.com
SUMMARY:HOMECOMING: Immanuel\, Jonesboro
DESCRIPTION:      Immanuel\, Jonesboro; March 29; Gary Gipson\, message; George Harvey\, pastor.
URL:https://baptisttrumpet.com/event/homecoming-immanuel-jonesboro/
CATEGORIES:Homecoming
ATTACH;FMTTYPE=image/jpeg:https://baptisttrumpet.com/wp-content/uploads/2022/04/Homecoming.jpg
END:VEVENT
BEGIN:VEVENT
DTSTART;TZID=America/Chicago:20260328T100000
DTEND;TZID=America/Chicago:20260328T120000
DTSTAMP:20260423T130124
CREATED:20260304T131756Z
LAST-MODIFIED:20260304T131757Z
UID:30236-1774692000-1774699200@baptisttrumpet.com
SUMMARY:UPCOMING: Community Easter Egg Hunt
DESCRIPTION:         Community Easter Egg Hunt; March 28\, 10 a.m.; Chenal Valley\, Little Rock.
URL:https://baptisttrumpet.com/event/upcoming-community-easter-egg-hunt/
CATEGORIES:Upcoming Events
ATTACH;FMTTYPE=image/jpeg:https://baptisttrumpet.com/wp-content/uploads/2022/08/Upcoming-event.jpg
END:VEVENT
BEGIN:VEVENT
DTSTART;TZID=America/Chicago:20260327T190000
DTEND;TZID=America/Chicago:20260328T130000
DTSTAMP:20260423T130124
CREATED:20260304T131642Z
LAST-MODIFIED:20260304T131643Z
UID:30234-1774638000-1774702800@baptisttrumpet.com
SUMMARY:UPCOMING: Arkansas Prairie Association
DESCRIPTION:      Arkansas Prairie Association; Know the Truth Ministry; March 27\, 7 p.m.\, March 28\, 10 a.m.; potluck lunch to follow; Sunnyside\, Dewitt.
URL:https://baptisttrumpet.com/event/upcoming-arkansas-prairie-association/
CATEGORIES:Upcoming Events
ATTACH;FMTTYPE=image/jpeg:https://baptisttrumpet.com/wp-content/uploads/2022/08/Upcoming-event.jpg
END:VEVENT
BEGIN:VEVENT
DTSTART;TZID=America/Chicago:20260317T173000
DTEND;TZID=America/Chicago:20260317T190000
DTSTAMP:20260423T130124
CREATED:20260304T131513Z
LAST-MODIFIED:20260304T131514Z
UID:30232-1773768600-1773774000@baptisttrumpet.com
SUMMARY:UPCOMING: CBC Instrumental Ensembles Concert
DESCRIPTION:      CBC Instrumental Ensembles Concert; March 17\, 5:30 p.m.; Toland at CBC\, Conway.
URL:https://baptisttrumpet.com/event/upcoming-cbc-instrumental-ensembles-concert/
CATEGORIES:Upcoming Events
ATTACH;FMTTYPE=image/jpeg:https://baptisttrumpet.com/wp-content/uploads/2022/08/Upcoming-event.jpg
END:VEVENT
BEGIN:VEVENT
DTSTART;TZID=America/Chicago:20260316T183000
DTEND;TZID=America/Chicago:20260316T200000
DTSTAMP:20260423T130124
CREATED:20260114T140130Z
LAST-MODIFIED:20260114T140131Z
UID:29555-1773685800-1773691200@baptisttrumpet.com
SUMMARY:DISTRICTS: Mt. Vernon Youth in Harvest
DESCRIPTION:      Mt. Vernon Youth in Harvest; Mar. 16\, 6:30 p.m.; County Line\, Marvell.
URL:https://baptisttrumpet.com/event/districts-mt-vernon-youth-in-harvest-6/
CATEGORIES:District Meeting
ATTACH;FMTTYPE=image/jpeg:https://baptisttrumpet.com/wp-content/uploads/2022/01/DistrictEvent.jpg
END:VEVENT
END:VCALENDAR