BEGIN:VCALENDAR
VERSION:2.0
PRODID:-//Baptist Trumpet - ECPv6.15.20//NONSGML v1.0//EN
CALSCALE:GREGORIAN
METHOD:PUBLISH
X-WR-CALNAME:Baptist Trumpet
X-ORIGINAL-URL:https://baptisttrumpet.com
X-WR-CALDESC:Events for Baptist Trumpet
REFRESH-INTERVAL;VALUE=DURATION:PT1H
X-Robots-Tag:noindex
X-PUBLISHED-TTL:PT1H
BEGIN:VTIMEZONE
TZID:America/Chicago
BEGIN:DAYLIGHT
TZOFFSETFROM:-0600
TZOFFSETTO:-0500
TZNAME:CDT
DTSTART:20220313T080000
END:DAYLIGHT
BEGIN:STANDARD
TZOFFSETFROM:-0500
TZOFFSETTO:-0600
TZNAME:CST
DTSTART:20221106T070000
END:STANDARD
BEGIN:DAYLIGHT
TZOFFSETFROM:-0600
TZOFFSETTO:-0500
TZNAME:CDT
DTSTART:20230312T080000
END:DAYLIGHT
BEGIN:STANDARD
TZOFFSETFROM:-0500
TZOFFSETTO:-0600
TZNAME:CST
DTSTART:20231105T070000
END:STANDARD
BEGIN:DAYLIGHT
TZOFFSETFROM:-0600
TZOFFSETTO:-0500
TZNAME:CDT
DTSTART:20240310T080000
END:DAYLIGHT
BEGIN:STANDARD
TZOFFSETFROM:-0500
TZOFFSETTO:-0600
TZNAME:CST
DTSTART:20241103T070000
END:STANDARD
END:VTIMEZONE
BEGIN:VEVENT
DTSTART;TZID=America/Chicago:20230522T000000
DTEND;TZID=America/Chicago:20230526T235959
DTSTAMP:20260424T103130
CREATED:20230508T184055Z
LAST-MODIFIED:20230508T184056Z
UID:17392-1684713600-1685145599@baptisttrumpet.com
SUMMARY:New Liberty (Emmet) Hosts Revival Services
DESCRIPTION:New Liberty Baptist Church in Emmet will host revival services on May 22-26\, 7 p.m. nightly. Dr. Roger Copeland is the evanglist. Bill Cris Langston serves as pastor.
URL:https://baptisttrumpet.com/event/new-liberty-emmet-hosts-revival-services/
LOCATION:New Liberty Baptist Church- Emmet\, County Rd. 275 and 14\, Emmet\, AR\, 71835\, United States
ATTACH;FMTTYPE=image/jpeg:https://baptisttrumpet.com/wp-content/uploads/2022/02/revival.jpg
END:VEVENT
BEGIN:VEVENT
DTSTART;TZID=America/Chicago:20230522T000000
DTEND;TZID=America/Chicago:20230522T235959
DTSTAMP:20260424T103130
CREATED:20230508T190434Z
LAST-MODIFIED:20230508T190435Z
UID:17408-1684713600-1684799999@baptisttrumpet.com
SUMMARY:Mt. Vernon Youth In Harvest
DESCRIPTION:The Mt. Vernon Youth In Harvest will meet on May 22 at 6:30 p.m. wil the County Line Baptist Church in Marvell\, Arkansas
URL:https://baptisttrumpet.com/event/mt-vernon-youth-in-harvest-7/
LOCATION:County Line Baptist Church- Marvell\, 116 Lee Rd\, Marvell\, AR\, 72366\, United States
ATTACH;FMTTYPE=image/jpeg:https://baptisttrumpet.com/wp-content/uploads/2022/01/DistrictEvent.jpg
END:VEVENT
BEGIN:VEVENT
DTSTART;TZID=America/Chicago:20230521T000000
DTEND;TZID=America/Chicago:20230521T235959
DTSTAMP:20260424T103130
CREATED:20230508T185532Z
LAST-MODIFIED:20230508T185533Z
UID:17402-1684627200-1684713599@baptisttrumpet.com
SUMMARY:Bluff Springs Homecoming
DESCRIPTION:Bluff Springs Baptist Church near Rosston will host Homecoming on Sunday\, May 21 at 10:30 a.m. Lunch and singing to follow. Donnie Dillard serves as pastor.
URL:https://baptisttrumpet.com/event/bluff-springs-homecoming/
LOCATION:Bluff Springs Baptist Church- Rosston\, 559 Nevada 131\, Rosston\, AR\, 71858\, United States
ATTACH;FMTTYPE=image/jpeg:https://baptisttrumpet.com/wp-content/uploads/2022/04/Homecoming.jpg
END:VEVENT
BEGIN:VEVENT
DTSTART;TZID=America/Chicago:20230515T080000
DTEND;TZID=America/Chicago:20230517T170000
DTSTAMP:20260424T103130
CREATED:20230328T205007Z
LAST-MODIFIED:20230328T205009Z
UID:16952-1684137600-1684342800@baptisttrumpet.com
SUMMARY:Faustina (Hampton) Hosts Revival Services
DESCRIPTION:Faustina Baptist Church near Hampton will host revival services on May 15-17\, 7 p.m. nightly. Terry Greenwood is the evangelist. Gene Boyette serves as pastor.
URL:https://baptisttrumpet.com/event/faustina-hampton-hosts-revival-services/
LOCATION:Faustina Baptist Church\, Hwy 172 and County Rd. 35 S\, Hampton\, AR\, 71744\, United States
ATTACH;FMTTYPE=image/jpeg:https://baptisttrumpet.com/wp-content/uploads/2022/02/revival.jpg
END:VEVENT
BEGIN:VEVENT
DTSTART;TZID=America/Chicago:20230514T000000
DTEND;TZID=America/Chicago:20230517T235959
DTSTAMP:20260424T103130
CREATED:20230411T163126Z
LAST-MODIFIED:20230411T163128Z
UID:17196-1684022400-1684367999@baptisttrumpet.com
SUMMARY:Union Grove (Blevins) Hosts Revival Services
DESCRIPTION:Union Grove Baptist Church in Blevins will host revival services May 14-17.  Schedule includes Sunday at 6 p.m. and Monday – Wednesday at 7 p.m. Jim Moss is the evangelist. Donald Thompson serves as pastor.
URL:https://baptisttrumpet.com/event/union-grove-blevins-hosts-revival-services/
LOCATION:Union Grove Baptist Church- Blevins\, 2356 County Rd. 16\, Blevins\, AR\, 71825\, United States
ATTACH;FMTTYPE=image/jpeg:https://baptisttrumpet.com/wp-content/uploads/2022/02/revival.jpg
END:VEVENT
BEGIN:VEVENT
DTSTART;TZID=America/Chicago:20230509T000000
DTEND;TZID=America/Chicago:20230509T235959
DTSTAMP:20260424T103130
CREATED:20230328T210812Z
LAST-MODIFIED:20230328T210814Z
UID:16965-1683590400-1683676799@baptisttrumpet.com
SUMMARY:Jonesboro District Brotherhood
DESCRIPTION:The Jonesboro District Brotherhood will meet with Prospect Baptist Church in Jonesboro\, May 9.
URL:https://baptisttrumpet.com/event/jonesboro-district-brotherhood-11/
LOCATION:Prospect Baptist Church- Jonesboro\, 1603 Hwy 351\, Jonesboro\, AR\, 72401\, United States
ATTACH;FMTTYPE=image/jpeg:https://baptisttrumpet.com/wp-content/uploads/2022/01/DistrictEvent.jpg
END:VEVENT
BEGIN:VEVENT
DTSTART;TZID=America/Chicago:20230507T000000
DTEND;TZID=America/Chicago:20230511T235959
DTSTAMP:20260424T103130
CREATED:20230411T162845Z
LAST-MODIFIED:20230411T162846Z
UID:17194-1683417600-1683849599@baptisttrumpet.com
SUMMARY:Kingsland (Kingsland) Hosts Revival Services
DESCRIPTION:Kingsland Baptist Church in Kingsland will host revival services May 7-11. Schedule includes Sunday at 6 p.m. and Monday – Thursday at 7 p.m. Jonathan Mertens is the evangelist. Rick Bolin serves as pastor.
URL:https://baptisttrumpet.com/event/kingsland-kingsland-hosts-revival-services/
LOCATION:Kingsland Baptist Church\, 200 1st St.\, Kingsland\, AR\, 71652\, United States
ATTACH;FMTTYPE=image/jpeg:https://baptisttrumpet.com/wp-content/uploads/2022/02/revival.jpg
END:VEVENT
BEGIN:VEVENT
DTSTART;TZID=America/Chicago:20230507T000000
DTEND;TZID=America/Chicago:20230507T235959
DTSTAMP:20260424T103130
CREATED:20230404T142051Z
LAST-MODIFIED:20230404T142052Z
UID:17019-1683417600-1683503999@baptisttrumpet.com
SUMMARY:Barney Baptist Hosts Gospel Concert
DESCRIPTION:Barney Baptist Church in Enola will host a gospel concert featuring The Representatives on May 7 at 5 p.m.
URL:https://baptisttrumpet.com/event/barney-baptist-hosts-gospel-concert/
LOCATION:Barney Baptist Church- Enola\, 594 Hwy 107 N\, Enola\, AR\, 72047\, United States
ATTACH;FMTTYPE=image/png:https://baptisttrumpet.com/wp-content/uploads/2022/03/GospelConcert.png
END:VEVENT
BEGIN:VEVENT
DTSTART;TZID=America/Chicago:20230425T000000
DTEND;TZID=America/Chicago:20230427T235959
DTSTAMP:20260424T103130
CREATED:20220426T193206Z
LAST-MODIFIED:20221213T213120Z
UID:13307-1682380800-1682639999@baptisttrumpet.com
SUMMARY:BMAA National Meeting
DESCRIPTION:BMA National Meeting held annually to celebrate what God has done in and through BMA Churches\, conduct annual business\, and elect officers.
URL:https://baptisttrumpet.com/event/bmaa-national-meeting-3/
LOCATION:Antioch Baptist Church- Conway\, 150 Amity Rd.\, Conway\, AR\, 72034
ATTACH;FMTTYPE=image/jpeg:https://baptisttrumpet.com/wp-content/uploads/2022/12/Naitonal-Meeting-Header.jpg
END:VEVENT
BEGIN:VEVENT
DTSTART;TZID=America/Chicago:20230423T000000
DTEND;TZID=America/Chicago:20230423T235959
DTSTAMP:20260424T103130
CREATED:20230404T141907Z
LAST-MODIFIED:20230404T141914Z
UID:17016-1682208000-1682294399@baptisttrumpet.com
SUMMARY:Zion Baptist Hosts Gospel Concert
DESCRIPTION:Zion Baptist Church in Fordyce will host a gospel concert featuring Natasha Owens on April 23 at 5 p.m.
URL:https://baptisttrumpet.com/event/zion-baptist-host-gospel-concert/
LOCATION:Zion Baptist Church- Fordyce\, 989 Hwy 229\, Fordyce\, AR\, 71742\, United States
ATTACH;FMTTYPE=image/png:https://baptisttrumpet.com/wp-content/uploads/2022/03/GospelConcert.png
END:VEVENT
BEGIN:VEVENT
DTSTART;TZID=America/Chicago:20230422T000000
DTEND;TZID=America/Chicago:20230422T235959
DTSTAMP:20260424T103130
CREATED:20230404T141627Z
LAST-MODIFIED:20230404T142209Z
UID:17013-1682121600-1682207999@baptisttrumpet.com
SUMMARY:Lemonwood Baptist Hosts Gospel Concert
DESCRIPTION:Lemonwood Baptist Church will host a gospel concert featuring The Kinsmen on Saturday\, April 22 at 7 p.m.
URL:https://baptisttrumpet.com/event/gospel-concert-lemonwood/
LOCATION:Lemonwood – White Hall\, 920 Shepherd Drive\, White Hall\, AR\, 71602\, United States
ATTACH;FMTTYPE=image/png:https://baptisttrumpet.com/wp-content/uploads/2022/03/GospelConcert.png
END:VEVENT
BEGIN:VEVENT
DTSTART;TZID=America/Chicago:20230422T000000
DTEND;TZID=America/Chicago:20230422T235959
DTSTAMP:20260424T103130
CREATED:20230328T210638Z
LAST-MODIFIED:20230328T210640Z
UID:16963-1682121600-1682207999@baptisttrumpet.com
SUMMARY:Greenbrier Men's Fellowship
DESCRIPTION:First Baptist Church in Damascus will host the Greenbrier Men’s Fellowship on April 22 at 8 a.m.
URL:https://baptisttrumpet.com/event/greenbrier-mens-fellowship-2/
LOCATION:First Baptist Church- Damascus\, 43 Oak Tree Rd.\, Damascus\, AR\, 72039\, United States
ATTACH;FMTTYPE=image/jpeg:https://baptisttrumpet.com/wp-content/uploads/2022/01/DistrictEvent.jpg
END:VEVENT
BEGIN:VEVENT
DTSTART;TZID=America/Chicago:20230417T000000
DTEND;TZID=America/Chicago:20230421T235959
DTSTAMP:20260424T103130
CREATED:20230228T162552Z
LAST-MODIFIED:20230228T162619Z
UID:16564-1681689600-1682121599@baptisttrumpet.com
SUMMARY:Revival Services - Milligan Ridge
DESCRIPTION:Milligan Ridge Baptist Church will host revival services April 17-21\, 7 p.m. nightly. Mike Colvin serves as pastor.
URL:https://baptisttrumpet.com/event/revival-services-milligan-ridge/
LOCATION:Milligan Ridge Baptist Church\, 751 N County Rd 49\, Manila\, AR\, 72442\, United States
ATTACH;FMTTYPE=image/jpeg:https://baptisttrumpet.com/wp-content/uploads/2022/02/revival.jpg
END:VEVENT
BEGIN:VEVENT
DTSTART;TZID=America/Chicago:20230417T000000
DTEND;TZID=America/Chicago:20230417T235959
DTSTAMP:20260424T103130
CREATED:20230228T163734Z
LAST-MODIFIED:20230228T163735Z
UID:16573-1681689600-1681775999@baptisttrumpet.com
SUMMARY:Mt. Vernon Youth In Harvest
DESCRIPTION:Bethel Baptist Church in Forrest City will host the Mt. Vernon District Youth In Harvest on Monday\, April 20 at 6:30 p.m.
URL:https://baptisttrumpet.com/event/mt-vernon-youth-in-harvest-6/
LOCATION:Bethel Baptist Church- Forrest City\, 1025 N Izard St.\, Forrest City\, arkansas\, 72336\, Tanzania\, United Republic Of
ATTACH;FMTTYPE=image/jpeg:https://baptisttrumpet.com/wp-content/uploads/2022/01/DistrictEvent.jpg
END:VEVENT
BEGIN:VEVENT
DTSTART;TZID=America/Chicago:20230416T000000
DTEND;TZID=America/Chicago:20230419T235959
DTSTAMP:20260424T103130
CREATED:20230307T174853Z
LAST-MODIFIED:20230307T174858Z
UID:16690-1681603200-1681948799@baptisttrumpet.com
SUMMARY:Revival Services - Charity
DESCRIPTION:Charity Baptist Church in Ward will host revival services April 16-19. Service will begin at 6 p.m. on Sun.\, April 16 and 7 p.m. on week nights. Dr. Martin Jameson is the evangelists. Keith Lewis serves as pastor.
URL:https://baptisttrumpet.com/event/revival-services-charity/
ATTACH;FMTTYPE=image/jpeg:https://baptisttrumpet.com/wp-content/uploads/2022/02/revival.jpg
END:VEVENT
BEGIN:VEVENT
DTSTART;TZID=America/Chicago:20230416T000000
DTEND;TZID=America/Chicago:20230418T235959
DTSTAMP:20260424T103130
CREATED:20230207T131757Z
LAST-MODIFIED:20230207T131758Z
UID:16240-1681603200-1681862399@baptisttrumpet.com
SUMMARY:Revival Services - Fellowship
DESCRIPTION:Fellowship Baptist Church in Walnut Ridge will host revival services April 16-18. Danny Bradley is the Evangelist. John Durham serves as pastor.
URL:https://baptisttrumpet.com/event/revival-services-fellowship/
LOCATION:Fellowship Baptist Church- Walnut Ridge\, 207 Rebecca Lane\, Walnut Ridge\, AR\, 72476\, United States
ATTACH;FMTTYPE=image/jpeg:https://baptisttrumpet.com/wp-content/uploads/2022/02/revival.jpg
END:VEVENT
BEGIN:VEVENT
DTSTART;TZID=America/Chicago:20230415T000000
DTEND;TZID=America/Chicago:20230415T235959
DTSTAMP:20260424T103130
CREATED:20230307T175758Z
LAST-MODIFIED:20230307T175759Z
UID:16697-1681516800-1681603199@baptisttrumpet.com
SUMMARY:Central Ark. WMA to Meet
DESCRIPTION:Landmark Baptist Church in England will host the Central Arkansas WMA meeting on Saturday\, April 15.
URL:https://baptisttrumpet.com/event/central-ark-wma-to-meet/
LOCATION:Landmark Baptist Church- England\, 501 Stuttgart Hwy.\, England\, AR\, 71046\, United States
ATTACH;FMTTYPE=image/jpeg:https://baptisttrumpet.com/wp-content/uploads/2022/01/DistrictEvent.jpg
END:VEVENT
BEGIN:VEVENT
DTSTART;TZID=America/Chicago:20230413T080000
DTEND;TZID=America/Chicago:20230413T170000
DTSTAMP:20260424T103130
CREATED:20230220T174221Z
LAST-MODIFIED:20230220T174259Z
UID:16454-1681372800-1681405200@baptisttrumpet.com
SUMMARY:Greenbrier District WMA
DESCRIPTION:The Immanuel Baptist Church of Greenbrier will host the quarterly meeting of the Greenbrier District WMA. The meeting will begin at 10 a.m.\, followed by lunch.
URL:https://baptisttrumpet.com/event/greenbrier-district-wma-8/
LOCATION:Immanuel Baptist Church- Greenbrier\, 61 Green Valley Dr.\, Greenbrier\, AR\, 72058\, United States
ATTACH;FMTTYPE=image/jpeg:https://baptisttrumpet.com/wp-content/uploads/2022/01/DistrictEvent.jpg
END:VEVENT
BEGIN:VEVENT
DTSTART;TZID=America/Chicago:20230411T000000
DTEND;TZID=America/Chicago:20230411T235959
DTSTAMP:20260424T103130
CREATED:20230328T210257Z
LAST-MODIFIED:20230328T210259Z
UID:16961-1681171200-1681257599@baptisttrumpet.com
SUMMARY:Jonesboro District Brotherhood
DESCRIPTION:Jonesboro District Brotherhood will meet April 11 at Immanuel Baptist Church in Jonesboro.
URL:https://baptisttrumpet.com/event/jonesboro-district-brotherhood-10/
LOCATION:Immanuel Baptist Church – Jonesboro\, 2014 N. Church St\, Jonesboro\, AR\, 72401\, United States
ATTACH;FMTTYPE=image/jpeg:https://baptisttrumpet.com/wp-content/uploads/2022/01/DistrictEvent.jpg
END:VEVENT
BEGIN:VEVENT
DTSTART;TZID=America/Chicago:20230411T000000
DTEND;TZID=America/Chicago:20230411T235959
DTSTAMP:20260424T103130
CREATED:20230228T163352Z
LAST-MODIFIED:20230228T163433Z
UID:16570-1681171200-1681257599@baptisttrumpet.com
SUMMARY:Southwest District Brotherhood
DESCRIPTION:Bodcaw Baptist Church in Rosston will host the Southwest District Brotherhood on Tuesday April 11. The meal will be served at 6 p.m. and the program will be presented at 7 p.m.
URL:https://baptisttrumpet.com/event/southwest-district-brotherhool/
LOCATION:Bodcaw #2 Baptist Church\, 2469 Hwy 53\, Rosston\, AR\, 71858\, United States
ATTACH;FMTTYPE=image/jpeg:https://baptisttrumpet.com/wp-content/uploads/2022/01/DistrictEvent.jpg
END:VEVENT
BEGIN:VEVENT
DTSTART;TZID=America/Chicago:20230410T000000
DTEND;TZID=America/Chicago:20230410T235959
DTSTAMP:20260424T103130
CREATED:20230228T174517Z
LAST-MODIFIED:20230228T174518Z
UID:16601-1681084800-1681171199@baptisttrumpet.com
SUMMARY:Central Ark. District Brotherhood
DESCRIPTION:Landmark Baptist Church in England will host the Central Arkansas District Brotherhood on April 10 at 6:30 p.m.
URL:https://baptisttrumpet.com/event/central-ark-district-brotherhood-4/
LOCATION:Landmark Baptist Church- England\, 501 Stuttgart Hwy.\, England\, AR\, 71046\, United States
ATTACH;FMTTYPE=image/jpeg:https://baptisttrumpet.com/wp-content/uploads/2022/01/DistrictEvent.jpg
END:VEVENT
BEGIN:VEVENT
DTSTART;TZID=America/Chicago:20230409T000000
DTEND;TZID=America/Chicago:20230409T235959
DTSTAMP:20260424T103130
CREATED:20230328T205459Z
LAST-MODIFIED:20230328T205500Z
UID:16954-1680998400-1681084799@baptisttrumpet.com
SUMMARY:Easter Sunrise Service
DESCRIPTION:Banks Baptist Church in Banks will host Easter Sunrise Service on April 9 at 8 a.m. Breakfast will follow the worship service. All are welcome.
URL:https://baptisttrumpet.com/event/easter-sunrise-service-7/
LOCATION:Banks Baptist Church- Banks\, Grand Ave and Main St.\, Banks\, AR\, 71631\, United States
ATTACH;FMTTYPE=image/jpeg:https://baptisttrumpet.com/wp-content/uploads/2023/03/Easter-Sunrise-Service.jpeg
END:VEVENT
BEGIN:VEVENT
DTSTART;TZID=America/Chicago:20230404T000000
DTEND;TZID=America/Chicago:20230404T235959
DTSTAMP:20260424T103130
CREATED:20230207T131133Z
LAST-MODIFIED:20230207T131134Z
UID:16233-1680566400-1680652799@baptisttrumpet.com
SUMMARY:Jonesboro District WMA
DESCRIPTION:Prospect Baptist Church in Jonesboro will host the April 4 meeting of the Jonesboro District WMA. A meal will be served at 5:30 p.m. followed by the meeting at 6:30 p.m.
URL:https://baptisttrumpet.com/event/jonesboro-district-wma-7/
LOCATION:Prospect Baptist Church- Jonesboro\, 1603 Hwy 351\, Jonesboro\, AR\, 72401\, United States
ATTACH;FMTTYPE=image/jpeg:https://baptisttrumpet.com/wp-content/uploads/2022/01/DistrictEvent.jpg
END:VEVENT
BEGIN:VEVENT
DTSTART;TZID=America/Chicago:20230402T080000
DTEND;TZID=America/Chicago:20230405T170000
DTSTAMP:20260424T103130
CREATED:20230328T204731Z
LAST-MODIFIED:20230328T204732Z
UID:16950-1680422400-1680714000@baptisttrumpet.com
SUMMARY:Revival Services - Landmark
DESCRIPTION:Landmark Baptist Church in England\, Arkansas is hosting revival services Sunday – Wednesday\, April 2-5. Services are planned for Sunday at 10:45 a.m. and 6 p.m.  Services planned for Monday – Wednesday\, April 3-5 will begin at p.m. Jim Moss is the evangelist. David Inzer serves as pastor.
URL:https://baptisttrumpet.com/event/revival-services-landmark/
LOCATION:Landmark Baptist Church- England\, 501 Stuttgart Hwy.\, England\, AR\, 71046\, United States
ATTACH;FMTTYPE=image/jpeg:https://baptisttrumpet.com/wp-content/uploads/2022/02/revival.jpg
END:VEVENT
BEGIN:VEVENT
DTSTART;TZID=America/Chicago:20230401T000000
DTEND;TZID=America/Chicago:20230401T235959
DTSTAMP:20260424T103130
CREATED:20230228T163044Z
LAST-MODIFIED:20230228T163102Z
UID:16568-1680307200-1680393599@baptisttrumpet.com
SUMMARY:Mt. Vernon District WMA
DESCRIPTION:Harmony Baptist Church in West Helena will host the Mt. Vernon District WMA meeting on Saturday\, April 1st at 10 a.m.
URL:https://baptisttrumpet.com/event/mt-vernon-district-wma-5/
LOCATION:Harmony Baptist Church – West Helena\, 801 Airport Road\, West Helena\, AR\, 72390\, United States
ATTACH;FMTTYPE=image/jpeg:https://baptisttrumpet.com/wp-content/uploads/2022/01/DistrictEvent.jpg
END:VEVENT
BEGIN:VEVENT
DTSTART;TZID=America/Chicago:20230401T000000
DTEND;TZID=America/Chicago:20230401T235959
DTSTAMP:20260424T103130
CREATED:20230207T130926Z
LAST-MODIFIED:20230207T131229Z
UID:16231-1680307200-1680393599@baptisttrumpet.com
SUMMARY:United District WMA Mtg.
DESCRIPTION:Hattieville Baptist Church will host the April 1 meeting of the United District WMA.
URL:https://baptisttrumpet.com/event/united-district-wma-mtg/
LOCATION:Hattieville Baptist Church – Hattieville\, 30 Russell Rd\, Hattieville\, AR\, 72063\, United States
ATTACH;FMTTYPE=image/jpeg:https://baptisttrumpet.com/wp-content/uploads/2022/01/DistrictEvent.jpg
END:VEVENT
BEGIN:VEVENT
DTSTART;TZID=America/Chicago:20230328T000000
DTEND;TZID=America/Chicago:20230330T235959
DTSTAMP:20260424T103130
CREATED:20230214T163043Z
LAST-MODIFIED:20230214T163044Z
UID:16414-1679961600-1680220799@baptisttrumpet.com
SUMMARY:Pastor's R & R
DESCRIPTION:Sponsored by the Jonesboro Association\, the Pastor’s R & R is designed to give pastors and preachers a time away from everyday activity to relax and refresh. Visit baptisttrumpet.com/RR2023 for details.
URL:https://baptisttrumpet.com/event/pastors-r-r/
LOCATION:Stone Ridge Camp\, Smithville\, AR\, United States
ATTACH;FMTTYPE=image/jpeg:https://baptisttrumpet.com/wp-content/uploads/2023/02/R-R-2023-1.jpg
END:VEVENT
BEGIN:VEVENT
DTSTART;TZID=America/Chicago:20230328T000000
DTEND;TZID=America/Chicago:20230328T235959
DTSTAMP:20260424T103130
CREATED:20221213T212719Z
LAST-MODIFIED:20221213T213034Z
UID:15809-1679961600-1680047999@baptisttrumpet.com
SUMMARY:CBC Scholarship Gala
DESCRIPTION:The 4th Annual CBC Scholarship Gala is planned for Tuesday\, March 28 at 6:00 p.m. The theme is Fearless Faith. The event will feature Harry Miller.
URL:https://baptisttrumpet.com/event/cbc-scholarship-gala-2/
LOCATION:Central Baptist College\, 1500 College Ave.\, Conway\, AR\, 72034\, United States
ATTACH;FMTTYPE=image/png:https://baptisttrumpet.com/wp-content/uploads/2022/10/CBC-Gala-1.png
END:VEVENT
BEGIN:VEVENT
DTSTART;TZID=America/Chicago:20230320T000000
DTEND;TZID=America/Chicago:20230320T235959
DTSTAMP:20260424T103130
CREATED:20230228T162922Z
LAST-MODIFIED:20230228T163806Z
UID:16566-1679270400-1679356799@baptisttrumpet.com
SUMMARY:Mt. Vernon Youth In Harvest
DESCRIPTION:The Fourth Street Baptist Church in West Helena will host the Mt. Vernon District Youth In Harvest meeting on Monday\, March 20 at 6:30 p.m.
URL:https://baptisttrumpet.com/event/mt-vernon-youth-in-harvest-5/
LOCATION:Fourth Street Baptist Church- West Helena\, 1226 N 4th St.\, West Helena\, AR\, 72390\, United States
ATTACH;FMTTYPE=image/jpeg:https://baptisttrumpet.com/wp-content/uploads/2022/01/DistrictEvent.jpg
END:VEVENT
BEGIN:VEVENT
DTSTART;TZID=America/Chicago:20230319T000000
DTEND;TZID=America/Chicago:20230319T235959
DTSTAMP:20260424T103130
CREATED:20230220T175127Z
LAST-MODIFIED:20230220T175128Z
UID:16458-1679184000-1679270399@baptisttrumpet.com
SUMMARY:Bluegrass Gospel Singing
DESCRIPTION:Union Baptist Church in Rosston will host Lindley Creek (Greer Family) for an evening of Bluegrass Gospel Music. The event begins at 5 p.m.
URL:https://baptisttrumpet.com/event/bluegrass-gospel-singing/
LOCATION:Union Baptist Church- Rosston\, 1925 Hwy 53\, Rosston\, AR\, 71858\, United States
ATTACH;FMTTYPE=image/png:https://baptisttrumpet.com/wp-content/uploads/2022/03/GospelConcert.png
END:VEVENT
END:VCALENDAR