BEGIN:VCALENDAR
VERSION:2.0
PRODID:-//Baptist Trumpet - ECPv6.15.20//NONSGML v1.0//EN
CALSCALE:GREGORIAN
METHOD:PUBLISH
X-WR-CALNAME:Baptist Trumpet
X-ORIGINAL-URL:https://baptisttrumpet.com
X-WR-CALDESC:Events for Baptist Trumpet
REFRESH-INTERVAL;VALUE=DURATION:PT1H
X-Robots-Tag:noindex
X-PUBLISHED-TTL:PT1H
BEGIN:VTIMEZONE
TZID:America/Chicago
BEGIN:DAYLIGHT
TZOFFSETFROM:-0600
TZOFFSETTO:-0500
TZNAME:CDT
DTSTART:20210314T080000
END:DAYLIGHT
BEGIN:STANDARD
TZOFFSETFROM:-0500
TZOFFSETTO:-0600
TZNAME:CST
DTSTART:20211107T070000
END:STANDARD
BEGIN:DAYLIGHT
TZOFFSETFROM:-0600
TZOFFSETTO:-0500
TZNAME:CDT
DTSTART:20220313T080000
END:DAYLIGHT
BEGIN:STANDARD
TZOFFSETFROM:-0500
TZOFFSETTO:-0600
TZNAME:CST
DTSTART:20221106T070000
END:STANDARD
BEGIN:DAYLIGHT
TZOFFSETFROM:-0600
TZOFFSETTO:-0500
TZNAME:CDT
DTSTART:20230312T080000
END:DAYLIGHT
BEGIN:STANDARD
TZOFFSETFROM:-0500
TZOFFSETTO:-0600
TZNAME:CST
DTSTART:20231105T070000
END:STANDARD
END:VTIMEZONE
BEGIN:VEVENT
DTSTART;TZID=America/Chicago:20220918T080000
DTEND;TZID=America/Chicago:20220918T170000
DTSTAMP:20260425T053046
CREATED:20220809T181149Z
LAST-MODIFIED:20220809T181223Z
UID:14427-1663488000-1663520400@baptisttrumpet.com
SUMMARY:David Markham and Truth Infusion
DESCRIPTION:Liberty Baptist Church in Stamps is hosting David Markham and Truth Infusion during morning worship (10:45 a.m.). potluck and singing will follow.
URL:https://baptisttrumpet.com/event/david-markham-and-truth-infusion/
LOCATION:Liberty Baptist Church – Stamps\, 53 Lafayette 257\, Buckner\, AR\, 71827\, United States
ATTACH;FMTTYPE=image/jpeg:https://baptisttrumpet.com/wp-content/uploads/2022/08/Upcoming-event.jpg
END:VEVENT
BEGIN:VEVENT
DTSTART;TZID=America/Chicago:20220918T000000
DTEND;TZID=America/Chicago:20220921T235959
DTSTAMP:20260425T053046
CREATED:20220809T191801Z
LAST-MODIFIED:20220809T191801Z
UID:14433-1663459200-1663804799@baptisttrumpet.com
SUMMARY:Revival Services - Fourth St.\, West Helena
DESCRIPTION:The Fourth Street Baptist Church in West Helena is hosting revival services\, September 18-21. The services will begin at 5 p.m. on Sunday and 6:30 p.m. on Monday – Wednesday. Luke Watson will be the evangelist. Lance Madden will serve as evangelist.
URL:https://baptisttrumpet.com/event/revival-services-fourth-st-west-helena/
LOCATION:Fourth Street Baptist Church- West Helena\, 1226 N 4th St.\, West Helena\, AR\, 72390\, United States
ATTACH;FMTTYPE=image/jpeg:https://baptisttrumpet.com/wp-content/uploads/2022/02/revival.jpg
END:VEVENT
BEGIN:VEVENT
DTSTART;TZID=America/Chicago:20220917T000000
DTEND;TZID=America/Chicago:20220917T235959
DTSTAMP:20260425T053046
CREATED:20220510T133950Z
LAST-MODIFIED:20220510T133951Z
UID:13404-1663372800-1663459199@baptisttrumpet.com
SUMMARY:Gospel Singing
DESCRIPTION:Cross Roads Baptist Church in Warren will host a Gospel Singing on September 17 at 6 p.m. The event will feature the Kinsmen Quartet.
URL:https://baptisttrumpet.com/event/gospel-singing-6/
LOCATION:Cross Roads Baptist Church- Warren\, 1337 Hwy 278 W\, Warren\, AR\, 71671\, United States
ATTACH;FMTTYPE=image/png:https://baptisttrumpet.com/wp-content/uploads/2022/03/GospelConcert.png
END:VEVENT
BEGIN:VEVENT
DTSTART;TZID=America/Chicago:20220917T000000
DTEND;TZID=America/Chicago:20220917T235959
DTSTAMP:20260425T053046
CREATED:20220307T201538Z
LAST-MODIFIED:20220307T202000Z
UID:10234-1663372800-1663459199@baptisttrumpet.com
SUMMARY:Student Ministry Workers Retreat
DESCRIPTION:This annual day of training/retreat is aimed at student ministry workers of all kinds.
URL:https://baptisttrumpet.com/event/student-ministry-workers-retreat-3/
LOCATION:Central Baptist College\, 1500 College Ave.\, Conway\, AR\, 72034\, United States
ATTACH;FMTTYPE=image/jpeg:https://baptisttrumpet.com/wp-content/uploads/2022/03/SMM.jpg
END:VEVENT
BEGIN:VEVENT
DTSTART;TZID=America/Chicago:20220912T000000
DTEND;TZID=America/Chicago:20220912T235959
DTSTAMP:20260425T053046
CREATED:20220614T150227Z
LAST-MODIFIED:20220614T150440Z
UID:13788-1662940800-1663027199@baptisttrumpet.com
SUMMARY:Mt. Vernon District Brotherhood Meeting
DESCRIPTION:The Mt. Vernon District Brotherhood will meet Sept. 12 at 6:30 p.m.  Central Baptist Church in Hughes will host the gathering.
URL:https://baptisttrumpet.com/event/mt-vernon-district-brotherhood-meeting/
LOCATION:Central Baptist Church – Hughes\, 310 N 1st St\, Hughes\, AR\, 72348\, United States
ATTACH;FMTTYPE=image/jpeg:https://baptisttrumpet.com/wp-content/uploads/2022/01/DistrictEvent.jpg
END:VEVENT
BEGIN:VEVENT
DTSTART;TZID=America/Chicago:20220911T000000
DTEND;TZID=America/Chicago:20220911T235959
DTSTAMP:20260425T053046
CREATED:20220307T195048Z
LAST-MODIFIED:20220307T195049Z
UID:10220-1662854400-1662940799@baptisttrumpet.com
SUMMARY:CBC Day 2022
DESCRIPTION:Central Baptist College is asking churches to set aside this Sunday\, or another day which best fits the church calendar\, to pray for CBC. Churches are also encouraged to take a on-time offering for the annual fund program\, “Gifts that Transform.”
URL:https://baptisttrumpet.com/event/cbc-day-2022/
ATTACH;FMTTYPE=image/png:https://baptisttrumpet.com/wp-content/uploads/2022/01/Central_Baptist_College_seal.png
END:VEVENT
BEGIN:VEVENT
DTSTART;TZID=America/Chicago:20220904T000000
DTEND;TZID=America/Chicago:20220908T235959
DTSTAMP:20260425T053046
CREATED:20220823T122358Z
LAST-MODIFIED:20220823T122801Z
UID:14566-1662249600-1662681599@baptisttrumpet.com
SUMMARY:Revival Services-Eastside\, Monticello
DESCRIPTION:Eastside Baptist Church in Monticello will host revival services September 4-8\, 7 p.m. nighly. Michael Griffith is the evangelist. Carl Hayes serves as pastor.
URL:https://baptisttrumpet.com/event/eastside-revival-services/
LOCATION:Eastside Baptist Church- Monticello\, 1479 Hwy 35 S\, Monticello\, AR\, 71655\, United States
ATTACH;FMTTYPE=image/jpeg:https://baptisttrumpet.com/wp-content/uploads/2022/02/revival.jpg
END:VEVENT
BEGIN:VEVENT
DTSTART;TZID=America/Chicago:20220829T193000
DTEND;TZID=America/Chicago:20220831T220000
DTSTAMP:20260425T053046
CREATED:20220726T191443Z
LAST-MODIFIED:20220809T175635Z
UID:14192-1661801400-1661983200@baptisttrumpet.com
SUMMARY:Revival - Macedonia\, Joneboro
DESCRIPTION:     Macedonia\, Jonesboro\, Aug. 29-31; 7:30 p.m.; Mon.\, Larry Merrill; Tues.\, Gary Gibson; Wed.\, Don Howard; Don Seat\, pastor.
URL:https://baptisttrumpet.com/event/revival-macedonia-joneboro/
LOCATION:Macedonia Baptist Church\, 1058 County Rd. 712\, Jonesboro\, AR\, 72401\, United States
CATEGORIES:Revival
ATTACH;FMTTYPE=image/jpeg:https://baptisttrumpet.com/wp-content/uploads/2022/02/revival.jpg
END:VEVENT
BEGIN:VEVENT
DTSTART;TZID=America/Chicago:20220829T000000
DTEND;TZID=America/Chicago:20220903T235959
DTSTAMP:20260425T053046
CREATED:20220809T191230Z
LAST-MODIFIED:20220809T191231Z
UID:14431-1661731200-1662249599@baptisttrumpet.com
SUMMARY:Revival Services - Flat Rock\, Quitman
DESCRIPTION:The Flat Rock Baptist Church in Quitman is hosting revival services August 29-September 3\, 6:30 pm nighly. Myle Evan\, pastor at Flat Rock\, will serve as evangelist.
URL:https://baptisttrumpet.com/event/revival-services-flat-rock-quitman/
LOCATION:Flat Rock Baptist Church- Quitman\, 174 Flat Rock Ln.\, Quitman\, AR\, 72131\, United States
ATTACH;FMTTYPE=image/jpeg:https://baptisttrumpet.com/wp-content/uploads/2022/02/revival.jpg
END:VEVENT
BEGIN:VEVENT
DTSTART;TZID=America/Chicago:20220829T000000
DTEND;TZID=America/Chicago:20220831T235959
DTSTAMP:20260425T053046
CREATED:20220712T143250Z
LAST-MODIFIED:20220712T143251Z
UID:14037-1661731200-1661990399@baptisttrumpet.com
SUMMARY:Revival Services
DESCRIPTION:Faustina Baptist Church near Hampton will host revival services August 29-31\, 7 p.m. nightly. Jim Moss will serve as evangelist. Gene Boyette is the pastor.
URL:https://baptisttrumpet.com/event/revival-services-11/
LOCATION:Faustina Baptist Church\, Hwy 172 and County Rd. 35 S\, Hampton\, AR\, 71744\, United States
ATTACH;FMTTYPE=image/jpeg:https://baptisttrumpet.com/wp-content/uploads/2022/02/revival.jpg
END:VEVENT
BEGIN:VEVENT
DTSTART;TZID=America/Chicago:20220828T000000
DTEND;TZID=America/Chicago:20220828T235959
DTSTAMP:20260425T053046
CREATED:20220809T192452Z
LAST-MODIFIED:20220809T192453Z
UID:14437-1661644800-1661731199@baptisttrumpet.com
SUMMARY:Homecoming Event
DESCRIPTION:Faustina Baptist Church near Hampton will host a homecoming event on Sunday\, August 28. The day’s activities will include 10 a.m. – Sunday School\, 11 a.m. – Worship (Russ Hopper speaking) and potluck to follow. Gene Boyette serves as pastor.
URL:https://baptisttrumpet.com/event/homecoming-event/
LOCATION:Faustina Baptist Church\, Hwy 172 and County Rd. 35 S\, Hampton\, AR\, 71744\, United States
ATTACH;FMTTYPE=image/jpeg:https://baptisttrumpet.com/wp-content/uploads/2022/04/Homecoming.jpg
END:VEVENT
BEGIN:VEVENT
DTSTART;TZID=America/Chicago:20220827T000000
DTEND;TZID=America/Chicago:20220827T235959
DTSTAMP:20260425T053046
CREATED:20220809T180656Z
LAST-MODIFIED:20220809T180657Z
UID:14424-1661558400-1661644799@baptisttrumpet.com
SUMMARY:Youthfest
DESCRIPTION:Youthfest\, a one day youth conference for 7-12 graders is set for August 27 at Central Baptist College
URL:https://baptisttrumpet.com/event/youthfest/
LOCATION:Central Baptist College\, 1500 College Ave.\, Conway\, AR\, 72034\, United States
ATTACH;FMTTYPE=image/jpeg:https://baptisttrumpet.com/wp-content/uploads/2022/08/Upcoming-event.jpg
END:VEVENT
BEGIN:VEVENT
DTSTART;TZID=America/Chicago:20220822T193000
DTEND;TZID=America/Chicago:20220826T220000
DTSTAMP:20260425T053046
CREATED:20220726T191350Z
LAST-MODIFIED:20220809T175401Z
UID:14190-1661196600-1661551200@baptisttrumpet.com
SUMMARY:Revival - New Liberty\, Emmet
DESCRIPTION:    New Liberty\, Emmet\, Aug. 22-26; 7:30 pm; Dr. Neal Clark evangelist; Billy Compton\, pastor.
URL:https://baptisttrumpet.com/event/revival-new-liberty-emmet/
LOCATION:New Liberty Baptist Church- Emmet\, County Rd. 275 and 14\, Emmet\, AR\, 71835\, United States
CATEGORIES:Revival
ATTACH;FMTTYPE=image/jpeg:https://baptisttrumpet.com/wp-content/uploads/2022/02/revival.jpg
END:VEVENT
BEGIN:VEVENT
DTSTART;TZID=America/Chicago:20220822T000000
DTEND;TZID=America/Chicago:20220824T235959
DTSTAMP:20260425T053046
CREATED:20220816T133241Z
LAST-MODIFIED:20220816T133242Z
UID:14458-1661126400-1661385599@baptisttrumpet.com
SUMMARY:Revival Services
DESCRIPTION:Dickinson Baptist Church in Harrell is hosting Revival Services on August 22-24\, 6:30 p.m. nightly.  John Fulton will serve as evangelist. Phillip Reddin is the pastor.
URL:https://baptisttrumpet.com/event/revival-services-14/
LOCATION:Dickinson Baptist Church\, 1372 Calhoun 38\, Harrell\, 71745\, United States
ATTACH;FMTTYPE=image/jpeg:https://baptisttrumpet.com/wp-content/uploads/2022/02/revival.jpg
END:VEVENT
BEGIN:VEVENT
DTSTART;TZID=America/Chicago:20220822T000000
DTEND;TZID=America/Chicago:20220822T235959
DTSTAMP:20260425T053046
CREATED:20220524T125305Z
LAST-MODIFIED:20220524T125306Z
UID:13607-1661126400-1661212799@baptisttrumpet.com
SUMMARY:Mt. Vernon Youth In Harvest
DESCRIPTION:Mt. Vernon Youth In Harvest will meet on August 22\, at 6:30 p.m. with the Fourth Street Baptist Church in West Helena.
URL:https://baptisttrumpet.com/event/mt-vernon-youth-in-harvest-3/
LOCATION:Fourth Street Baptist Church- West Helena\, 1226 N 4th St.\, West Helena\, AR\, 72390\, United States
ATTACH;FMTTYPE=image/jpeg:https://baptisttrumpet.com/wp-content/uploads/2022/01/DistrictEvent.jpg
END:VEVENT
BEGIN:VEVENT
DTSTART;TZID=America/Chicago:20220821T110000
DTEND;TZID=America/Chicago:20220821T150000
DTSTAMP:20260425T053046
CREATED:20220726T191043Z
LAST-MODIFIED:20220809T175256Z
UID:14186-1661079600-1661094000@baptisttrumpet.com
SUMMARY:181st Homecoming - Macedonia\, Jonesboro
DESCRIPTION:     181st Homecoming\, Macedonia\, Jonesboro\, Aug. 21; 11 a.m. worship; Noon\, lunch; message\, Don Seat\, pastor.
URL:https://baptisttrumpet.com/event/181st-homecoming-macedonia-jonesboro/
LOCATION:Macedonia Baptist Church\, 1058 County Rd. 712\, Jonesboro\, AR\, 72401\, United States
CATEGORIES:Homecoming
ATTACH;FMTTYPE=image/jpeg:https://baptisttrumpet.com/wp-content/uploads/2022/04/Homecoming.jpg
END:VEVENT
BEGIN:VEVENT
DTSTART;TZID=America/Chicago:20220820T000000
DTEND;TZID=America/Chicago:20220820T235959
DTSTAMP:20260425T053046
CREATED:20220809T192928Z
LAST-MODIFIED:20220809T192929Z
UID:14439-1660953600-1661039999@baptisttrumpet.com
SUMMARY:Greenbrier District Men's Fellowship
DESCRIPTION:The Greenbrier District Men’s Fellowship is set for 8 a.m. on August 20 at Bethlehem Baptist Church in Greenbrier. Contact Reed Rust @ (501) 730-2524 for details.
URL:https://baptisttrumpet.com/event/greenbrier-district-mens-fellowship-2/
LOCATION:Bethlehem Baptist Church- Greenbrier\, 505 Hwy 225 W\, Greenbrier\, AR\, 72058\, United States
ATTACH;FMTTYPE=image/jpeg:https://baptisttrumpet.com/wp-content/uploads/2022/01/DistrictEvent.jpg
END:VEVENT
BEGIN:VEVENT
DTSTART;TZID=America/Chicago:20220815T000000
DTEND;TZID=America/Chicago:20220819T235959
DTSTAMP:20260425T053046
CREATED:20220802T134509Z
LAST-MODIFIED:20220802T134511Z
UID:14282-1660521600-1660953599@baptisttrumpet.com
SUMMARY:Revival Services
DESCRIPTION:Beacon Baptist Church in Taylor\, Arkansas will host Revival Services August 15-19\, 7 pm. nightly. Daniel Williams will serve as evangelist. Kerry Easley is the pastor.
URL:https://baptisttrumpet.com/event/revival-services-12/
LOCATION:Beacon Baptist Church\, 10061 Highway 371 S\, Taylor\, AR\, 71861\, United States
ATTACH;FMTTYPE=image/jpeg:https://baptisttrumpet.com/wp-content/uploads/2022/02/revival.jpg
END:VEVENT
BEGIN:VEVENT
DTSTART;TZID=America/Chicago:20220814T023000
DTEND;TZID=America/Chicago:20220814T150000
DTSTAMP:20260425T053046
CREATED:20220726T190901Z
LAST-MODIFIED:20220802T134235Z
UID:14184-1660444200-1660489200@baptisttrumpet.com
SUMMARY:Homecoming - Barney\, Enola
DESCRIPTION:     Barney\, Enola\, Aug. 14; 10:30 a.m. worship; Bill Goodwin\, message; lunch and singing in the afternoon; Reagan Shearer\, pastor.
URL:https://baptisttrumpet.com/event/homecoming-barney-enola/
LOCATION:Barney Baptist Church- Enola\, 594 Hwy 107 N\, Enola\, AR\, 72047\, United States
CATEGORIES:Homecoming
ATTACH;FMTTYPE=image/jpeg:https://baptisttrumpet.com/wp-content/uploads/2022/04/Homecoming.jpg
END:VEVENT
BEGIN:VEVENT
DTSTART;TZID=America/Chicago:20220814T000000
DTEND;TZID=America/Chicago:20220817T235959
DTSTAMP:20260425T053046
CREATED:20220329T133845Z
LAST-MODIFIED:20220510T134102Z
UID:12038-1660435200-1660780799@baptisttrumpet.com
SUMMARY:Revival Meetings
DESCRIPTION:Landmark Baptist Church will host a series of revival meetings\, August 14-17. The meetings will begin at 6 p.m. on Sunday and 7 p.m. the remaining evenings. Ricky Capps will serve as evangelist.
URL:https://baptisttrumpet.com/event/revival-meetings-7/
LOCATION:Landmark Baptist Church- England\, 501 Stuttgart Hwy.\, England\, AR\, 71046\, United States
ATTACH;FMTTYPE=image/jpeg:https://baptisttrumpet.com/wp-content/uploads/2022/02/revival.jpg
END:VEVENT
BEGIN:VEVENT
DTSTART;TZID=America/Chicago:20220814T000000
DTEND;TZID=America/Chicago:20220814T235959
DTSTAMP:20260425T053046
CREATED:20220802T133527Z
LAST-MODIFIED:20220802T133529Z
UID:14276-1660435200-1660521599@baptisttrumpet.com
SUMMARY:Bethany Baptist Homecoming
DESCRIPTION:Bethany Baptist Church in Jonesboro\, Arkansas will host a Homecoming event on August 14. The activities will include worship @ 10 a.m.\, lunch @ 11:30 a.m.\, and singing to follow. Mitch Doss\, pastor.
URL:https://baptisttrumpet.com/event/bethany-baptist-homecoming/
LOCATION:Bethany Baptist Church- Jonesboro\, 4701 E Johnson St.\, Jonesboro\, AR\, 72403\, United States
ATTACH;FMTTYPE=image/jpeg:https://baptisttrumpet.com/wp-content/uploads/2022/04/Homecoming.jpg
END:VEVENT
BEGIN:VEVENT
DTSTART;TZID=America/Chicago:20220814T000000
DTEND;TZID=America/Chicago:20220814T235959
DTSTAMP:20260425T053046
CREATED:20220802T133136Z
LAST-MODIFIED:20220802T133137Z
UID:14274-1660435200-1660521599@baptisttrumpet.com
SUMMARY:Beacon Baptist Homecoming
DESCRIPTION:Beacon Baptist Church in Taylor\, Arkansas will host a Homecoming event on August 14. The day will include Sunday School @ 9 a.m.\, Worship @ 10 a.m.\, fellowship @ 11 a.m.\, and singing/church history @ 12 p.m.; Kerry Easley serves as pastor.
URL:https://baptisttrumpet.com/event/beacon-baptist-homecoming/
LOCATION:Beacon Baptist Church\, 10061 Highway 371 S\, Taylor\, AR\, 71861\, United States
ATTACH;FMTTYPE=image/jpeg:https://baptisttrumpet.com/wp-content/uploads/2022/04/Homecoming.jpg
END:VEVENT
BEGIN:VEVENT
DTSTART;TZID=America/Chicago:20220807T170000
DTEND;TZID=America/Chicago:20220810T210000
DTSTAMP:20260425T053046
CREATED:20220726T191237Z
LAST-MODIFIED:20220802T134032Z
UID:14188-1659891600-1660165200@baptisttrumpet.com
SUMMARY:Revival - Banks\, Banks
DESCRIPTION:     Banks\, Banks\, Aug. 7-10; 5 p.m. Sunday\, 7 p.m. Mon.-Wed.; David Inzer\, evangelist; Jerry Burress\, pastor.
URL:https://baptisttrumpet.com/event/revival-banks-banks-3/
LOCATION:Banks Baptist Church- Banks\, Grand Ave and Main St.\, Banks\, AR\, 71631\, United States
CATEGORIES:Revival
ATTACH;FMTTYPE=image/jpeg:https://baptisttrumpet.com/wp-content/uploads/2022/02/revival.jpg
END:VEVENT
BEGIN:VEVENT
DTSTART;TZID=America/Chicago:20220807T000000
DTEND;TZID=America/Chicago:20220810T235959
DTSTAMP:20260425T053046
CREATED:20220510T125716Z
LAST-MODIFIED:20220510T125716Z
UID:13379-1659830400-1660175999@baptisttrumpet.com
SUMMARY:Revival Services
DESCRIPTION:County Line Baptist Church in Marvell is hosting revival services August 7-10. The meetings will begin at 9:45 a.m. and 5:30 p.m. on Sunday and 7:00 p.m. on Monday – Wednesday. Chris Vines will be the evangelist.
URL:https://baptisttrumpet.com/event/revival-services-3/
LOCATION:County Line Baptist Church- Marvell\, 116 Lee Rd\, Marvell\, AR\, 72366\, United States
ATTACH;FMTTYPE=image/jpeg:https://baptisttrumpet.com/wp-content/uploads/2022/02/revival.jpg
END:VEVENT
BEGIN:VEVENT
DTSTART;TZID=America/Chicago:20220807T000000
DTEND;TZID=America/Chicago:20220809T235959
DTSTAMP:20260425T053046
CREATED:20220628T130228Z
LAST-MODIFIED:20220712T143910Z
UID:13931-1659830400-1660089599@baptisttrumpet.com
SUMMARY:Revival Services
DESCRIPTION:Pleasant Springs Baptist Church in McCaskill will host Revival Services on August 7-9. Services begin at 5 p.m. on Sunday\, August 7. Services will begin at 7 p.m. on Monday and Tuesday\, August 8 and August 9. Bobby Fisher is the evangelist. Jarod Hendry serves a pastor.
URL:https://baptisttrumpet.com/event/revival-services-10/
LOCATION:Pleasant Springs Baptist Church – McCaskill\, McCaskill\, AR\, 71847\, United States
ATTACH;FMTTYPE=image/jpeg:https://baptisttrumpet.com/wp-content/uploads/2022/02/revival.jpg
END:VEVENT
BEGIN:VEVENT
DTSTART;TZID=America/Chicago:20220801T080000
DTEND;TZID=America/Chicago:20220805T170000
DTSTAMP:20260425T053046
CREATED:20220628T125802Z
LAST-MODIFIED:20220628T125802Z
UID:13928-1659340800-1659718800@baptisttrumpet.com
SUMMARY:BMA of the Ozarks Camp
DESCRIPTION:The BMA of the Ozarks Church Camp will be held August 1-5 at the Ozarks Baptist Encampment in Siloam Springs.
URL:https://baptisttrumpet.com/event/bma-of-the-ozarks-camp/
ATTACH;FMTTYPE=image/jpeg:https://baptisttrumpet.com/wp-content/uploads/2022/06/church_camp.jpeg
END:VEVENT
BEGIN:VEVENT
DTSTART;TZID=America/Chicago:20220731T000000
DTEND;TZID=America/Chicago:20220803T235959
DTSTAMP:20260425T053046
CREATED:20220517T123527Z
LAST-MODIFIED:20220517T124226Z
UID:13517-1659225600-1659571199@baptisttrumpet.com
SUMMARY:Revival Services
DESCRIPTION:Center Point Baptist Church in Nashville will host revival services July 31- Aug. 3. Shawn Kemp is the evangelist. Jaron Tipton serves as pastor.
URL:https://baptisttrumpet.com/event/revival-services-7/
LOCATION:Center Point Baptist Church- Nashville\, 157 Madison St.\, Nashville\, AR\, 71852\, United States
ATTACH;FMTTYPE=image/jpeg:https://baptisttrumpet.com/wp-content/uploads/2022/02/revival.jpg
END:VEVENT
BEGIN:VEVENT
DTSTART;TZID=America/Chicago:20220725T000000
DTEND;TZID=America/Chicago:20220729T235959
DTSTAMP:20260425T053046
CREATED:20220517T130407Z
LAST-MODIFIED:20220517T130408Z
UID:13529-1658707200-1659139199@baptisttrumpet.com
SUMMARY:Vacation Bible School
DESCRIPTION:Liberty Baptist Church in Stamps will host a Vacation Bible School on July 25-29 from 6 – 8:30 p.m. The theme is Sparks Studio.
URL:https://baptisttrumpet.com/event/vacation-bible-school-11/
LOCATION:Liberty Baptist Church – Stamps\, 53 Lafayette 257\, Buckner\, AR\, 71827\, United States
ATTACH;FMTTYPE=image/png:https://baptisttrumpet.com/wp-content/uploads/2022/04/VBS-Column-Announcement.png
END:VEVENT
BEGIN:VEVENT
DTSTART;TZID=America/Chicago:20220725T000000
DTEND;TZID=America/Chicago:20220729T235959
DTSTAMP:20260425T053046
CREATED:20220322T115925Z
LAST-MODIFIED:20220322T115954Z
UID:11547-1658707200-1659139199@baptisttrumpet.com
SUMMARY:Revival Meetings
DESCRIPTION:Bodcaw Baptist Church in Bodcaw\, Arkansas will host a series of revival meetings July 25-29. Worship will begin at 7:00 p.m.\, nightly. Jimmy Walker will serve as Evangelist. Lane Garner is the pastor.
URL:https://baptisttrumpet.com/event/revival-meetings-5/
LOCATION:Bodcaw #1 Baptist Church\, 751 Nevada 13\, Bodcaw\, AR\, United States
ATTACH;FMTTYPE=image/jpeg:https://baptisttrumpet.com/wp-content/uploads/2022/02/revival.jpg
END:VEVENT
BEGIN:VEVENT
DTSTART;TZID=America/Chicago:20220725T000000
DTEND;TZID=America/Chicago:20220727T235959
DTSTAMP:20260425T053046
CREATED:20220712T145611Z
LAST-MODIFIED:20220712T145613Z
UID:14042-1658707200-1658966399@baptisttrumpet.com
SUMMARY:Revival Meetings
DESCRIPTION:The Blooming Grove Baptist Church in Rector will host revival services on July 25-27\, 7 p.m. nightly. Aaron Milligan\, newly elected pastor\, will serve as the evangelist.
URL:https://baptisttrumpet.com/event/revival-meetings-11/
LOCATION:Blooming Grove\, Rector\, 207 No. Fairview St.\, Rector\, Arkansas\, 72461\, United States
ATTACH;FMTTYPE=image/jpeg:https://baptisttrumpet.com/wp-content/uploads/2022/02/revival.jpg
END:VEVENT
END:VCALENDAR