BEGIN:VCALENDAR
VERSION:2.0
PRODID:-//Baptist Trumpet - ECPv6.15.20//NONSGML v1.0//EN
CALSCALE:GREGORIAN
METHOD:PUBLISH
X-WR-CALNAME:Baptist Trumpet
X-ORIGINAL-URL:https://baptisttrumpet.com
X-WR-CALDESC:Events for Baptist Trumpet
REFRESH-INTERVAL;VALUE=DURATION:PT1H
X-Robots-Tag:noindex
X-PUBLISHED-TTL:PT1H
BEGIN:VTIMEZONE
TZID:America/Chicago
BEGIN:DAYLIGHT
TZOFFSETFROM:-0600
TZOFFSETTO:-0500
TZNAME:CDT
DTSTART:20210314T080000
END:DAYLIGHT
BEGIN:STANDARD
TZOFFSETFROM:-0500
TZOFFSETTO:-0600
TZNAME:CST
DTSTART:20211107T070000
END:STANDARD
BEGIN:DAYLIGHT
TZOFFSETFROM:-0600
TZOFFSETTO:-0500
TZNAME:CDT
DTSTART:20220313T080000
END:DAYLIGHT
BEGIN:STANDARD
TZOFFSETFROM:-0500
TZOFFSETTO:-0600
TZNAME:CST
DTSTART:20221106T070000
END:STANDARD
BEGIN:DAYLIGHT
TZOFFSETFROM:-0600
TZOFFSETTO:-0500
TZNAME:CDT
DTSTART:20230312T080000
END:DAYLIGHT
BEGIN:STANDARD
TZOFFSETFROM:-0500
TZOFFSETTO:-0600
TZNAME:CST
DTSTART:20231105T070000
END:STANDARD
END:VTIMEZONE
BEGIN:VEVENT
DTSTART;TZID=America/Chicago:20221120T000000
DTEND;TZID=America/Chicago:20221123T235959
DTSTAMP:20260425T071620
CREATED:20221025T170058Z
LAST-MODIFIED:20221025T170059Z
UID:15292-1668902400-1669247999@baptisttrumpet.com
SUMMARY:Revival Services - First\, North Lewisville
DESCRIPTION:First Baptist Church of North Lewisville will hold revival services\, November 20-23\, 7 p.m. nightly. Eric Bararee will be the evangelist. Jerry Evans serves as Interim Pastor.
URL:https://baptisttrumpet.com/event/revival-services-first-north-lewisville/
LOCATION:First Baptist Church- North Lewisville\, 2915 Spruce Street\, Lewisville\, AR\, 71845\, United States
ATTACH;FMTTYPE=image/jpeg:https://baptisttrumpet.com/wp-content/uploads/2022/02/revival.jpg
END:VEVENT
BEGIN:VEVENT
DTSTART;TZID=America/Chicago:20221120T000000
DTEND;TZID=America/Chicago:20221120T235959
DTSTAMP:20260425T071620
CREATED:20221025T165828Z
LAST-MODIFIED:20221025T165829Z
UID:15290-1668902400-1668988799@baptisttrumpet.com
SUMMARY:71st Anniversary/Homecoming
DESCRIPTION:First Baptist Church of North Lewisville will host a 71st Anniversary/Homecoming celebration on Sunday\, November 20. Morning Worship is at 10:30 a.m. with Adam Rogers speaking. A potluck meal will follow. Jerry Evans serves as Interim Pastor.
URL:https://baptisttrumpet.com/event/71st-anniversary-homecoming/
LOCATION:First Baptist Church- North Lewisville\, 2915 Spruce Street\, Lewisville\, AR\, 71845\, United States
ATTACH;FMTTYPE=image/jpeg:https://baptisttrumpet.com/wp-content/uploads/2022/04/Homecoming.jpg
END:VEVENT
BEGIN:VEVENT
DTSTART;TZID=America/Chicago:20221115T000000
DTEND;TZID=America/Chicago:20221117T235959
DTSTAMP:20260425T071620
CREATED:20211214T151616Z
LAST-MODIFIED:20220201T155853Z
UID:7744-1668470400-1668729599@baptisttrumpet.com
SUMMARY:National Senior Adult Conference
DESCRIPTION:
URL:https://baptisttrumpet.com/event/national-senior-adult-conference/
LOCATION:Chateau on the Lake – Branson\, Missouri\, 415 N State Hwy 265\, Branson\, MO\, 65616\, United States
ATTACH;FMTTYPE=image/jpeg:https://baptisttrumpet.com/wp-content/uploads/2021/12/2022-NSA-Header.jpeg
END:VEVENT
BEGIN:VEVENT
DTSTART;TZID=America/Chicago:20221108T000000
DTEND;TZID=America/Chicago:20221108T235959
DTSTAMP:20260425T071620
CREATED:20220920T135429Z
LAST-MODIFIED:20220920T141650Z
UID:14830-1667865600-1667951999@baptisttrumpet.com
SUMMARY:Jonesboro Dist. Brotherhood Meeting
DESCRIPTION:Center Hill Baptist Church in Jonesboro will host the Jonesboro District Brotherhood on November 8.
URL:https://baptisttrumpet.com/event/jonesboro-dist-brotherhood-meeting-2/
LOCATION:Center Hill Baptist Church- Jonesboro\, 7341 County Rd. 333\, Jonesboro\, Arkansas\, 72401\, United States
ATTACH;FMTTYPE=image/jpeg:https://baptisttrumpet.com/wp-content/uploads/2022/01/DistrictEvent.jpg
END:VEVENT
BEGIN:VEVENT
DTSTART;TZID=America/Chicago:20221106T000000
DTEND;TZID=America/Chicago:20221108T235959
DTSTAMP:20260425T071620
CREATED:20220920T143117Z
LAST-MODIFIED:20220920T143118Z
UID:14848-1667692800-1667951999@baptisttrumpet.com
SUMMARY:Revival Services
DESCRIPTION:Bethel Baptist Church in Forrest City will host revival services\, November 6-8\, 7 p.m. nightly. Marty Cantwell serves pastor.
URL:https://baptisttrumpet.com/event/revival-services-16/
LOCATION:Bethel Baptist Church- Forrest City\, 1025 N Izard St.\, Forrest City\, arkansas\, 72336\, Tanzania\, United Republic Of
ATTACH;FMTTYPE=image/jpeg:https://baptisttrumpet.com/wp-content/uploads/2022/02/revival.jpg
END:VEVENT
BEGIN:VEVENT
DTSTART;TZID=America/Chicago:20221106T000000
DTEND;TZID=America/Chicago:20221106T235959
DTSTAMP:20260425T071620
CREATED:20221025T165253Z
LAST-MODIFIED:20221025T165531Z
UID:15288-1667692800-1667779199@baptisttrumpet.com
SUMMARY:95th Anniversary/Homecoming
DESCRIPTION:Central Baptist Church in Prescott is hosting a 95th Anniversary/Homecoming on November 6. Morning worship is at 10:00 a.m. with former pastor\, Dr. Tom Mitchell speaking. A potluck meal will follow. Roy Johnson serves as pastor. \n\n\n\n speakCentral\, Prescott; Nov. 6; 10:00 a.m. – worship (Dr. Tom Mitchell\, speaker); noon – potluck; Roy Johnson\, pastor.
URL:https://baptisttrumpet.com/event/95th-anniversary-homecoming/
LOCATION:Central Baptist Church – Prescott\, 615 E 2nd St S\, Prescott\, AR\, 71857\, United States
ATTACH;FMTTYPE=image/jpeg:https://baptisttrumpet.com/wp-content/uploads/2022/04/Homecoming.jpg
END:VEVENT
BEGIN:VEVENT
DTSTART;TZID=America/Chicago:20221106T000000
DTEND;TZID=America/Chicago:20221106T235959
DTSTAMP:20260425T071620
CREATED:20221017T125406Z
LAST-MODIFIED:20221017T125422Z
UID:15156-1667692800-1667779199@baptisttrumpet.com
SUMMARY:Southern Gospel Singing
DESCRIPTION:Union Baptist Church in Rosston will host The Kinsmen Quartet in concert at 10:30 a.m.\, November 6.  The church will dismiss Sunday School\, begin the singing at 10:30\, host a potluck to follow\, and dismiss evening activities. Joe Brown serves as pastor.
URL:https://baptisttrumpet.com/event/southern-gospel-singing/
LOCATION:Union Baptist Church- Rosston\, 1925 Hwy 53\, Rosston\, AR\, 71858\, United States
ATTACH;FMTTYPE=image/png:https://baptisttrumpet.com/wp-content/uploads/2022/03/GospelConcert.png
END:VEVENT
BEGIN:VEVENT
DTSTART;TZID=America/Chicago:20221103T000000
DTEND;TZID=America/Chicago:20221104T235959
DTSTAMP:20260425T071620
CREATED:20211214T151334Z
LAST-MODIFIED:20221025T163522Z
UID:7742-1667433600-1667606399@baptisttrumpet.com
SUMMARY:BMA of Arkansas Annual Meeting
DESCRIPTION:
URL:https://baptisttrumpet.com/event/bma-of-arkansas-annual-meeting/
LOCATION:Central Baptist College\, 1500 College Ave.\, Conway\, AR\, 72034\, United States
ATTACH;FMTTYPE=image/jpeg:https://baptisttrumpet.com/wp-content/uploads/2022/10/BMA-of-Arkansas-Theme-Graphic1.jpg
END:VEVENT
BEGIN:VEVENT
DTSTART;TZID=America/Chicago:20221102T000000
DTEND;TZID=America/Chicago:20221104T235959
DTSTAMP:20260425T071620
CREATED:20220823T123015Z
LAST-MODIFIED:20221003T121247Z
UID:14571-1667347200-1667606399@baptisttrumpet.com
SUMMARY:Revival Services - Kingsland\, Kingsland
DESCRIPTION:Kingsland Baptist Church will host revival services November 2-4\, 7 p.m. nightly. Jeremy Horton is the evangelist. Rick Bolin serves as pastor.
URL:https://baptisttrumpet.com/event/revival-services-kingsland-kingsland-2/
LOCATION:Kingsland Baptist Church\, 200 1st St.\, Kingsland\, AR\, 71652\, United States
ATTACH;FMTTYPE=image/jpeg:https://baptisttrumpet.com/wp-content/uploads/2022/02/revival.jpg
END:VEVENT
BEGIN:VEVENT
DTSTART;TZID=America/Chicago:20221031T180000
DTEND;TZID=America/Chicago:20221031T200000
DTSTAMP:20260425T071620
CREATED:20221011T145412Z
LAST-MODIFIED:20221011T145455Z
UID:15121-1667239200-1667246400@baptisttrumpet.com
SUMMARY:Trunk or Treat Event
DESCRIPTION:Fellowship Baptist Church in Walnut Ridge will host a Trunk-n-Treat event on Monday\, October 31\, from 6-8 p.m.
URL:https://baptisttrumpet.com/event/trunk-n-treat-event/
LOCATION:Fellowship Baptist Church- Walnut Ridge\, 207 Rebecca Lane\, Walnut Ridge\, AR\, 72476\, United States
ATTACH;FMTTYPE=image/jpeg:https://baptisttrumpet.com/wp-content/uploads/2022/10/shutterstock_1501270985-scaled.jpg
END:VEVENT
BEGIN:VEVENT
DTSTART;TZID=America/Chicago:20221030T000000
DTEND;TZID=America/Chicago:20221030T235959
DTSTAMP:20260425T071620
CREATED:20221004T130249Z
LAST-MODIFIED:20221004T130250Z
UID:14985-1667088000-1667174399@baptisttrumpet.com
SUMMARY:Morning of Worship & Praise
DESCRIPTION:The White’s Chapel baptist Church will host a morning of Worship and Praise featuring Measure of Grace on October 20 at 1:130 a.m. David Heckman serves as pastor.
URL:https://baptisttrumpet.com/event/morning-of-worship-praise/
LOCATION:White’s Chapel Baptist Church\, 624 Nevada 120\, Rosston\, AR\, 71858\, United States
ATTACH;FMTTYPE=image/jpeg:https://baptisttrumpet.com/wp-content/uploads/2022/08/Upcoming-event.jpg
END:VEVENT
BEGIN:VEVENT
DTSTART;TZID=America/Chicago:20221030T000000
DTEND;TZID=America/Chicago:20221030T235959
DTSTAMP:20260425T071620
CREATED:20220823T121953Z
LAST-MODIFIED:20220823T121953Z
UID:14564-1667088000-1667174399@baptisttrumpet.com
SUMMARY:Friends and Family Day
DESCRIPTION:Kingsland Baptist Church in Kingsland\, Arkansas will host a Friends and Family Day on Sunday\, October 30. The schedule will include 9:30 a.m.- Sunday School\, 10:30 a.m. – Worship\, and a potluck to follow. Rick Bolin serves as pastor.
URL:https://baptisttrumpet.com/event/friends-and-family-day-3/
LOCATION:AR
ATTACH;FMTTYPE=image/jpeg:https://baptisttrumpet.com/wp-content/uploads/2022/08/Upcoming-event.jpg
END:VEVENT
BEGIN:VEVENT
DTSTART;TZID=America/Chicago:20221029T000000
DTEND;TZID=America/Chicago:20221029T235959
DTSTAMP:20260425T071620
CREATED:20221004T125039Z
LAST-MODIFIED:20221004T125256Z
UID:14977-1667001600-1667087999@baptisttrumpet.com
SUMMARY:Greenbrier District Galileans
DESCRIPTION:The Greenbrier District Galileans will meet at Antioch Baptist Church in Conway on October 29 at 2 p.m.
URL:https://baptisttrumpet.com/event/greenbrier-district-galileans/
LOCATION:Antioch Baptist Church- Conway\, 150 Amity Rd.\, Conway\, AR\, 72034
ATTACH;FMTTYPE=image/png:https://baptisttrumpet.com/wp-content/uploads/2022/02/Galilean-Logo6.png
END:VEVENT
BEGIN:VEVENT
DTSTART;TZID=America/Chicago:20221029T000000
DTEND;TZID=America/Chicago:20221029T235959
DTSTAMP:20260425T071620
CREATED:20221004T124642Z
LAST-MODIFIED:20221004T124756Z
UID:14974-1667001600-1667087999@baptisttrumpet.com
SUMMARY:Greenbrier Men's Fellowship Breakfast
DESCRIPTION:The Greenbrier Men’s Fellowship will be hosted by Sand Springs Baptist Church in Quitman on October 29 at 8 a.m.
URL:https://baptisttrumpet.com/event/greenbrier-mens-fellowship-breakfast/
LOCATION:Sand Springs Baptist Church\, Damascus\, 5189 Hwy 124\, AR\, 72039\, United States
ATTACH;FMTTYPE=image/jpeg:https://baptisttrumpet.com/wp-content/uploads/2022/01/DistrictEvent.jpg
END:VEVENT
BEGIN:VEVENT
DTSTART;TZID=America/Chicago:20221026T180000
DTEND;TZID=America/Chicago:20221026T200000
DTSTAMP:20260425T071620
CREATED:20221011T145210Z
LAST-MODIFIED:20221011T145211Z
UID:15119-1666807200-1666814400@baptisttrumpet.com
SUMMARY:Fall Festival Event
DESCRIPTION:Calvary Baptist Church in Morrilton will host a Fall Festival event on Wednesday\, October 26\, from 6-8 p.m.
URL:https://baptisttrumpet.com/event/fall-festival-event/
LOCATION:AR
ATTACH;FMTTYPE=image/jpeg:https://baptisttrumpet.com/wp-content/uploads/2022/10/shutterstock_1792846417.jpg
END:VEVENT
BEGIN:VEVENT
DTSTART;TZID=America/Chicago:20221024T000000
DTEND;TZID=America/Chicago:20221028T235959
DTSTAMP:20260425T071620
CREATED:20221003T121628Z
LAST-MODIFIED:20221003T121630Z
UID:14971-1666569600-1667001599@baptisttrumpet.com
SUMMARY:Revival Services
DESCRIPTION:Milligan Ridge Baptist Church in Manilla will host revival services October 24-28\, 7 p.m. nightly. Hershel Conley will serve as evangelist. Mike Colvin is pastor.
URL:https://baptisttrumpet.com/event/revival-services-17/
LOCATION:Milligan Ridge Baptist Church\, 751 N County Rd 49\, Manila\, AR\, 72442\, United States
ATTACH;FMTTYPE=image/jpeg:https://baptisttrumpet.com/wp-content/uploads/2022/02/revival.jpg
END:VEVENT
BEGIN:VEVENT
DTSTART;TZID=America/Chicago:20221023T000000
DTEND;TZID=America/Chicago:20221026T235959
DTSTAMP:20260425T071620
CREATED:20221004T125900Z
LAST-MODIFIED:20221004T125901Z
UID:14981-1666483200-1666828799@baptisttrumpet.com
SUMMARY:Revival Services
DESCRIPTION:Old Hickory Baptist Church in Hattieville will host revival services October 23-26. Jordan Bown and Shawn Hammontree will serve as evangelists. Blake Martin is the pastor.
URL:https://baptisttrumpet.com/event/revival-services-18/
LOCATION:Old Hickory Baptist Church- Hattieville\, 728 Old Hickory Rd.\, Hattieville\, AR\, 72063\, United States
ATTACH;FMTTYPE=image/jpeg:https://baptisttrumpet.com/wp-content/uploads/2022/02/revival.jpg
END:VEVENT
BEGIN:VEVENT
DTSTART;TZID=America/Chicago:20221023T000000
DTEND;TZID=America/Chicago:20221023T235959
DTSTAMP:20260425T071620
CREATED:20220222T150802Z
LAST-MODIFIED:20220222T150842Z
UID:8950-1666483200-1666569599@baptisttrumpet.com
SUMMARY:Lifeword Sunday
DESCRIPTION:
URL:https://baptisttrumpet.com/event/lifeword-sunday/
LOCATION:AR
ATTACH;FMTTYPE=image/png:https://baptisttrumpet.com/wp-content/uploads/2022/02/lifeword-logo.png
END:VEVENT
BEGIN:VEVENT
DTSTART;TZID=America/Chicago:20221018T000000
DTEND;TZID=America/Chicago:20221018T235959
DTSTAMP:20260425T071620
CREATED:20220816T133635Z
LAST-MODIFIED:20220816T133636Z
UID:14460-1666051200-1666137599@baptisttrumpet.com
SUMMARY:Art for Water Gala
DESCRIPTION:The Art for Water Gala\, benefiting the Water for Christ ministry\, is scheduled for October 18 at the Arkansas Governor’s Mansion. The evening will begin at 5:30 pm with a Meet and Greet\, followed by dinner and the program at 6:30 p.m.
URL:https://baptisttrumpet.com/event/art-for-water-gala/
LOCATION:Arkansas Governor’s Mansion\, 1800 Center St\, Little Rock\, AR 72206\, Little Rock
ATTACH;FMTTYPE=image/jpeg:https://baptisttrumpet.com/wp-content/uploads/2022/08/Upcoming-event.jpg
END:VEVENT
BEGIN:VEVENT
DTSTART;TZID=America/Chicago:20221017T000000
DTEND;TZID=America/Chicago:20221019T235959
DTSTAMP:20260425T071620
CREATED:20220510T125937Z
LAST-MODIFIED:20220510T125938Z
UID:13381-1665964800-1666223999@baptisttrumpet.com
SUMMARY:Revival Services
DESCRIPTION:Cross Roads Baptist Church in Warren is hosting revival services October 17 -19 at 7 p.m. nightly. Richard Gambill will serve as evangelist. Sidney McGraw serves as pastor.
URL:https://baptisttrumpet.com/event/revival-services-4/
LOCATION:Cross Roads Baptist Church- Warren\, 1337 Hwy 278 W\, Warren\, AR\, 71671\, United States
ATTACH;FMTTYPE=image/jpeg:https://baptisttrumpet.com/wp-content/uploads/2022/02/revival.jpg
END:VEVENT
BEGIN:VEVENT
DTSTART;TZID=America/Chicago:20221016T000000
DTEND;TZID=America/Chicago:20221019T235959
DTSTAMP:20260425T071620
CREATED:20220802T134745Z
LAST-MODIFIED:20220802T134746Z
UID:14284-1665878400-1666223999@baptisttrumpet.com
SUMMARY:Revival Services
DESCRIPTION:Antioch Baptist Church in Hampton\, Arkansas will host Revival Services October 16-19\, 7 p.m. nightly. Jim Moss will serve as evangelist.
URL:https://baptisttrumpet.com/event/revival-services-13/
LOCATION:Antioch Baptist Church – Hampton\, 167 US-167\, Hampton\, AR\, 71744\, United States
ATTACH;FMTTYPE=image/jpeg:https://baptisttrumpet.com/wp-content/uploads/2022/02/revival.jpg
END:VEVENT
BEGIN:VEVENT
DTSTART;TZID=America/Chicago:20221016T000000
DTEND;TZID=America/Chicago:20221016T235959
DTSTAMP:20260425T071620
CREATED:20221011T140701Z
LAST-MODIFIED:20221011T140702Z
UID:15115-1665878400-1665964799@baptisttrumpet.com
SUMMARY:Destined for Glory In Concert
DESCRIPTION:A gospel concert\, featuring Destined for Glory\, is set for October 16\, at 6 p.m.\, at First Baptist Church in Damascus. Daniel Williams is pastor.
URL:https://baptisttrumpet.com/event/destined-for-glory-in-concert/
LOCATION:First Baptist Church- Damascus\, 43 Oak Tree Rd.\, Damascus\, AR\, 72039\, United States
ATTACH;FMTTYPE=image/png:https://baptisttrumpet.com/wp-content/uploads/2022/03/GospelConcert.png
END:VEVENT
BEGIN:VEVENT
DTSTART;TZID=America/Chicago:20221014T000000
DTEND;TZID=America/Chicago:20221016T235959
DTSTAMP:20260425T071620
CREATED:20221004T125620Z
LAST-MODIFIED:20221004T125621Z
UID:14979-1665705600-1665964799@baptisttrumpet.com
SUMMARY:Brush Arbor Services
DESCRIPTION:Kaley Hill Baptist Church in Quitman will host Brush Arbor style revival services\, October 14-16\, 7 p.m. nightly. Jim Goodson serves as pastor and will preach all services.
URL:https://baptisttrumpet.com/event/brush-arbor-services/
LOCATION:Kaley Hill Baptist Church- Quitman\, 6505 Bee Branch Rd.\, Quitman\, AR\, 72131\, United States
ATTACH;FMTTYPE=image/jpeg:https://baptisttrumpet.com/wp-content/uploads/2022/02/revival.jpg
END:VEVENT
BEGIN:VEVENT
DTSTART;TZID=America/Chicago:20221013T000000
DTEND;TZID=America/Chicago:20221013T235959
DTSTAMP:20260425T071620
CREATED:20220920T135405Z
LAST-MODIFIED:20220920T141504Z
UID:14828-1665619200-1665705599@baptisttrumpet.com
SUMMARY:Greenbrier Dist. WMA Meeting
DESCRIPTION:Friendship Baptist Church in Greenbrier will host a Greenbrier District WMA Meeting on October 13 at 10 a.m.
URL:https://baptisttrumpet.com/event/greenbrier-dist-wma-meeting/
LOCATION:Friendship Baptist Church- Greenbrier\, 170 Cash Springs Rd.\, Greenbrier\, AR\, 72058\, United States
ATTACH;FMTTYPE=image/jpeg:https://baptisttrumpet.com/wp-content/uploads/2022/01/DistrictEvent.jpg
END:VEVENT
BEGIN:VEVENT
DTSTART;TZID=America/Chicago:20221011T000000
DTEND;TZID=America/Chicago:20221011T235959
DTSTAMP:20260425T071620
CREATED:20220920T135335Z
LAST-MODIFIED:20220920T135956Z
UID:14826-1665446400-1665532799@baptisttrumpet.com
SUMMARY:Southwest Dist. Brotherhood Meeting
DESCRIPTION:Antioch East Baptist Church in Magnolia will host the Southwest District Brotherhood Meeting\, October 11 at 6 p.m. A meal will be served at 6 p.m.\, followed by a message at 7 p.m..
URL:https://baptisttrumpet.com/event/southwest-dist-brotherhood-meeting/
LOCATION:Antioch East Baptist Church- Magnolia\, 370 Columbia Rd 25\, Magnolia\, AR\, 71753\, United States
ATTACH;FMTTYPE=image/jpeg:https://baptisttrumpet.com/wp-content/uploads/2022/01/DistrictEvent.jpg
END:VEVENT
BEGIN:VEVENT
DTSTART;TZID=America/Chicago:20221011T000000
DTEND;TZID=America/Chicago:20221011T235959
DTSTAMP:20260425T071620
CREATED:20220920T135259Z
LAST-MODIFIED:20220920T135741Z
UID:14824-1665446400-1665532799@baptisttrumpet.com
SUMMARY:Jonesboro Dist. Brotherhood Meeting
DESCRIPTION:A Jonesboro District Brotherhood Meeting is set for October 11 at Lorado Baptist Church.
URL:https://baptisttrumpet.com/event/jonesboro-dist-brotherhood-meeting/
LOCATION:Lorado – Jonesboro\, 3765 Highway 141 N\, Jonesboro\, AR\, 72401\, United States
ATTACH;FMTTYPE=image/jpeg:https://baptisttrumpet.com/wp-content/uploads/2022/01/DistrictEvent.jpg
END:VEVENT
BEGIN:VEVENT
DTSTART;TZID=America/Chicago:20221010T000000
DTEND;TZID=America/Chicago:20221010T235959
DTSTAMP:20260425T071620
CREATED:20220809T193308Z
LAST-MODIFIED:20220809T193309Z
UID:14442-1665360000-1665446399@baptisttrumpet.com
SUMMARY:Central Arkansas Dist. Brotherhood
DESCRIPTION:The Central Arkansas District Brotherhood will meet at Village Creek Baptist Church in Mabelvale on October 10 at 6:30 p.m.
URL:https://baptisttrumpet.com/event/central-arkansas-dist-brotherhood/
LOCATION:Village Creek Baptist Church – Mabelvale\, 13224 Sardis Rd\, Mabelvale\, AR\, 72103\, United States
ATTACH;FMTTYPE=image/jpeg:https://baptisttrumpet.com/wp-content/uploads/2022/01/DistrictEvent.jpg
END:VEVENT
BEGIN:VEVENT
DTSTART;TZID=America/Chicago:20221008T000000
DTEND;TZID=America/Chicago:20221008T235959
DTSTAMP:20260425T071620
CREATED:20220927T130108Z
LAST-MODIFIED:20220927T130110Z
UID:14919-1665187200-1665273599@baptisttrumpet.com
SUMMARY:Jonesboro Dist. WMA Mtg.
DESCRIPTION:The Jonesboro District WMA will meet October 8 at 10 a.m.  Walnut Grove Baptist Church in Lake City will host the meeting.
URL:https://baptisttrumpet.com/event/jonesboro-dist-wma-mtg/
LOCATION:AR
ATTACH;FMTTYPE=image/jpeg:https://baptisttrumpet.com/wp-content/uploads/2022/01/DistrictEvent.jpg
END:VEVENT
BEGIN:VEVENT
DTSTART;TZID=America/Chicago:20221008T000000
DTEND;TZID=America/Chicago:20221008T235959
DTSTAMP:20260425T071620
CREATED:20220712T143546Z
LAST-MODIFIED:20220712T143547Z
UID:14039-1665187200-1665273599@baptisttrumpet.com
SUMMARY:Central AR WMA
DESCRIPTION:The Central Arkansas WMA will meet at the South City Church campus in Little Rock on Saturday\, October 8 beginning at 10 a.m.
URL:https://baptisttrumpet.com/event/central-ar-wma/
LOCATION:South City Church- Little Rock\, 10710 Interstate 30\, Little Rock\, AR\, 72219\, United States
ATTACH;FMTTYPE=image/jpeg:https://baptisttrumpet.com/wp-content/uploads/2022/01/DistrictEvent.jpg
END:VEVENT
BEGIN:VEVENT
DTSTART;TZID=America/Chicago:20221007T000000
DTEND;TZID=America/Chicago:20221009T235959
DTSTAMP:20260425T071620
CREATED:20220920T142857Z
LAST-MODIFIED:20220920T142857Z
UID:14846-1665100800-1665359999@baptisttrumpet.com
SUMMARY:Revival Services
DESCRIPTION:Lemonwood Baptist Church in White Hall will host revival services\, October 7-9; Fri. & Sat. 7 p.m.\, Sunday 11 a.m.  Jamie Coulter is the evangelist. Ronnie Johnson serves at pastor.
URL:https://baptisttrumpet.com/event/revival-services-15/
LOCATION:Lemonwood – White Hall\, 920 Shepherd Drive\, White Hall\, AR\, 71602\, United States
ATTACH;FMTTYPE=image/jpeg:https://baptisttrumpet.com/wp-content/uploads/2022/02/revival.jpg
END:VEVENT
END:VCALENDAR