BEGIN:VCALENDAR
VERSION:2.0
PRODID:-//Baptist Trumpet - ECPv6.15.20//NONSGML v1.0//EN
CALSCALE:GREGORIAN
METHOD:PUBLISH
X-WR-CALNAME:Baptist Trumpet
X-ORIGINAL-URL:https://baptisttrumpet.com
X-WR-CALDESC:Events for Baptist Trumpet
REFRESH-INTERVAL;VALUE=DURATION:PT1H
X-Robots-Tag:noindex
X-PUBLISHED-TTL:PT1H
BEGIN:VTIMEZONE
TZID:America/Chicago
BEGIN:DAYLIGHT
TZOFFSETFROM:-0600
TZOFFSETTO:-0500
TZNAME:CDT
DTSTART:20210314T080000
END:DAYLIGHT
BEGIN:STANDARD
TZOFFSETFROM:-0500
TZOFFSETTO:-0600
TZNAME:CST
DTSTART:20211107T070000
END:STANDARD
BEGIN:DAYLIGHT
TZOFFSETFROM:-0600
TZOFFSETTO:-0500
TZNAME:CDT
DTSTART:20220313T080000
END:DAYLIGHT
BEGIN:STANDARD
TZOFFSETFROM:-0500
TZOFFSETTO:-0600
TZNAME:CST
DTSTART:20221106T070000
END:STANDARD
BEGIN:DAYLIGHT
TZOFFSETFROM:-0600
TZOFFSETTO:-0500
TZNAME:CDT
DTSTART:20230312T080000
END:DAYLIGHT
BEGIN:STANDARD
TZOFFSETFROM:-0500
TZOFFSETTO:-0600
TZNAME:CST
DTSTART:20231105T070000
END:STANDARD
END:VTIMEZONE
BEGIN:VEVENT
DTSTART;TZID=America/Chicago:20220721T000000
DTEND;TZID=America/Chicago:20220723T235959
DTSTAMP:20260425T054409
CREATED:20220517T123311Z
LAST-MODIFIED:20220517T123311Z
UID:13515-1658361600-1658620799@baptisttrumpet.com
SUMMARY:Revival Services
DESCRIPTION:Sulphur Springs Baptist Church in Fordyce will host revival services on July 21-23\, 7 p.m. nightly. Eddie Raines is the evangelist. Sam Hobson serves as pastor.
URL:https://baptisttrumpet.com/event/revival-services-6/
LOCATION:Sulphur Springs – Fordyce
ATTACH;FMTTYPE=image/jpeg:https://baptisttrumpet.com/wp-content/uploads/2022/02/revival.jpg
END:VEVENT
BEGIN:VEVENT
DTSTART;TZID=America/Chicago:20220718T080000
DTEND;TZID=America/Chicago:20220721T170000
DTSTAMP:20260425T054409
CREATED:20220628T125107Z
LAST-MODIFIED:20220628T125107Z
UID:13923-1658131200-1658422800@baptisttrumpet.com
SUMMARY:Vacation Bible School
DESCRIPTION:Prospect Baptist Church in Jonesboro is hosting a Vacation Bible School on July 18-21\, 6-8 p.m. The theme is Celebrating God’s Creation.
URL:https://baptisttrumpet.com/event/vacation-bible-school-21/
LOCATION:Prospect Baptist Church- Jonesboro\, 1603 Hwy 351\, Jonesboro\, AR\, 72401\, United States
ATTACH;FMTTYPE=image/png:https://baptisttrumpet.com/wp-content/uploads/2022/04/VBS-Column-Announcement.png
END:VEVENT
BEGIN:VEVENT
DTSTART;TZID=America/Chicago:20220718T080000
DTEND;TZID=America/Chicago:20220718T170000
DTSTAMP:20260425T054409
CREATED:20220614T150044Z
LAST-MODIFIED:20220614T150045Z
UID:13786-1658131200-1658163600@baptisttrumpet.com
SUMMARY:Central Arkansas Brotherhood
DESCRIPTION:The Central Arkansas District Brotherhood will meet Monday\, July 18 at 6:30 p.m. North View Baptist Church in North Little Rock will host the meeting.
URL:https://baptisttrumpet.com/event/central-arkansas-brotherhood/
LOCATION:North View Baptist Church- North Little Rock\, 6801 John F Kennedy Blvd\, North Little Rock\, AR\, 72117\, United States
ATTACH;FMTTYPE=image/jpeg:https://baptisttrumpet.com/wp-content/uploads/2022/01/DistrictEvent.jpg
END:VEVENT
BEGIN:VEVENT
DTSTART;TZID=America/Chicago:20220718T000000
DTEND;TZID=America/Chicago:20220722T235959
DTSTAMP:20260425T054409
CREATED:20220628T124918Z
LAST-MODIFIED:20220628T124919Z
UID:13921-1658102400-1658534399@baptisttrumpet.com
SUMMARY:Vacation Bible School
DESCRIPTION:Dickinson Baptist Church in Harrelll will host a Vacation Bible School on July 18-22\, 6:30 – 8:15 p.m. The theme is Make Waves.
URL:https://baptisttrumpet.com/event/vacation-bible-school-20/
LOCATION:Dickinson Baptist Church\, 1372 Calhoun 38\, Harrell\, 71745\, United States
ATTACH;FMTTYPE=image/png:https://baptisttrumpet.com/wp-content/uploads/2022/04/VBS-Column-Announcement.png
END:VEVENT
BEGIN:VEVENT
DTSTART;TZID=America/Chicago:20220718T000000
DTEND;TZID=America/Chicago:20220722T235959
DTSTAMP:20260425T054409
CREATED:20220607T125943Z
LAST-MODIFIED:20220607T125944Z
UID:13706-1658102400-1658534399@baptisttrumpet.com
SUMMARY:Vacation Bible School
DESCRIPTION:Kaley Hill Baptist Church in Quitman will host a Vacation Bible School on July 18-22\, 9a.m. – 12 p.m.\, daily. The theme will be Farm Fresh Faith.
URL:https://baptisttrumpet.com/event/vacation-bible-school-16/
LOCATION:Kaley Hill Baptist Church- Quitman\, 6505 Bee Branch Rd.\, Quitman\, AR\, 72131\, United States
ATTACH;FMTTYPE=image/png:https://baptisttrumpet.com/wp-content/uploads/2022/04/VBS-Column-Announcement.png
END:VEVENT
BEGIN:VEVENT
DTSTART;TZID=America/Chicago:20220718T000000
DTEND;TZID=America/Chicago:20220722T235959
DTSTAMP:20260425T054409
CREATED:20220510T131720Z
LAST-MODIFIED:20220510T132524Z
UID:13394-1658102400-1658534399@baptisttrumpet.com
SUMMARY:Vacation Bible School
DESCRIPTION:County Line Baptist Church in Marvell will host a Vacation Bible School\, July 18-22 at 9 a.m. daily. The theme is Victory.
URL:https://baptisttrumpet.com/event/vacation-bible-school-8/
LOCATION:County Line Baptist Church- Marvell\, 116 Lee Rd\, Marvell\, AR\, 72366\, United States
ATTACH;FMTTYPE=image/png:https://baptisttrumpet.com/wp-content/uploads/2022/04/VBS-Column-Announcement.png
END:VEVENT
BEGIN:VEVENT
DTSTART;TZID=America/Chicago:20220718T000000
DTEND;TZID=America/Chicago:20220721T235959
DTSTAMP:20260425T054409
CREATED:20220712T150810Z
LAST-MODIFIED:20220712T150811Z
UID:14048-1658102400-1658447999@baptisttrumpet.com
SUMMARY:Vacation Bible School
DESCRIPTION:Calvary Baptist Church in Morrilton is hosting a Vacation Bible School on July 18-21\, 9 a.m. daily. The theme is MegaSports Camp.
URL:https://baptisttrumpet.com/event/vacation-bible-school-23/
LOCATION:Calvary Baptist Church\, 703 Opera Street\, Stamps\, Arkansas\, 71860\, United States
ATTACH;FMTTYPE=image/png:https://baptisttrumpet.com/wp-content/uploads/2022/04/VBS-Column-Announcement.png
END:VEVENT
BEGIN:VEVENT
DTSTART;TZID=America/Chicago:20220717T000000
DTEND;TZID=America/Chicago:20220720T235959
DTSTAMP:20260425T054409
CREATED:20220712T150516Z
LAST-MODIFIED:20220712T150518Z
UID:14046-1658016000-1658361599@baptisttrumpet.com
SUMMARY:Vacation Bible School
DESCRIPTION:The Springdale Baptist Church in Springdale will host a Vacation Bible School on July 17-20. The sessions will begin at 10 a.m. on Sunday and 6 p.m. on Monday-Wednesday. The theme is Zoomerang.
URL:https://baptisttrumpet.com/event/vacation-bible-school-22/
LOCATION:Springdale Baptist Church\, 2844 McRay Avenue\, Springdale\, AR\, 72762\, United States
ATTACH;FMTTYPE=image/png:https://baptisttrumpet.com/wp-content/uploads/2022/04/VBS-Column-Announcement.png
END:VEVENT
BEGIN:VEVENT
DTSTART;TZID=America/Chicago:20220717T000000
DTEND;TZID=America/Chicago:20220720T235959
DTSTAMP:20260425T054409
CREATED:20220524T130337Z
LAST-MODIFIED:20220524T130338Z
UID:13612-1658016000-1658361599@baptisttrumpet.com
SUMMARY:Revival Services
DESCRIPTION:Bluff Springs Baptist Church in Rosston will host Revival Services\, July 17-20. Services will begin at 5 p.m. on Sunday and at 7 p.m. on Monday-Wednesday. Evangelists include Kenneth Bobo (Sunday)\, David Dillard (Monday)\, Neal Riddling (Tuesday) and Frank Henson (Wednesday). Donnie Dillard serves as pastor.
URL:https://baptisttrumpet.com/event/revival-services-9/
LOCATION:Bluff Springs Baptist Church- Rosston\, 559 Nevada 131\, Rosston\, AR\, 71858\, United States
ATTACH;FMTTYPE=image/jpeg:https://baptisttrumpet.com/wp-content/uploads/2022/02/revival.jpg
END:VEVENT
BEGIN:VEVENT
DTSTART;TZID=America/Chicago:20220717T000000
DTEND;TZID=America/Chicago:20220717T235959
DTSTAMP:20260425T054409
CREATED:20220614T145746Z
LAST-MODIFIED:20220614T145747Z
UID:13784-1658016000-1658102399@baptisttrumpet.com
SUMMARY:Immanuel Baptist Church Homecoming
DESCRIPTION:Immanuel Baptist Church in Jonesboro will host a Homecoming event on Sunday\, July 17\, 11 a.m. A potluck meal will follow.
URL:https://baptisttrumpet.com/event/immanuel-baptist-church-homecoming/
LOCATION:Immanuel Baptist Church – Jonesboro\, 2014 N. Church St\, Jonesboro\, AR\, 72401\, United States
ATTACH;FMTTYPE=image/jpeg:https://baptisttrumpet.com/wp-content/uploads/2022/04/Homecoming.jpg
END:VEVENT
BEGIN:VEVENT
DTSTART;TZID=America/Chicago:20220714T000000
DTEND;TZID=America/Chicago:20220714T235959
DTSTAMP:20260425T054409
CREATED:20220628T131248Z
LAST-MODIFIED:20220628T131249Z
UID:13937-1657756800-1657843199@baptisttrumpet.com
SUMMARY:Greenbrier District WMA
DESCRIPTION:The Greenbrier District WMA will meet at Springhill Baptist Church in Greenbrier on July 14 at 10 a.m.
URL:https://baptisttrumpet.com/event/greenbrier-district-wma-6/
LOCATION:Springhill Baptist Church-Greenbrier\, 25 Hwy 287\, Greenbrier\, AR\, 72058\, United States
ATTACH;FMTTYPE=image/jpeg:https://baptisttrumpet.com/wp-content/uploads/2022/01/DistrictEvent.jpg
END:VEVENT
BEGIN:VEVENT
DTSTART;TZID=America/Chicago:20220712T000000
DTEND;TZID=America/Chicago:20220712T235959
DTSTAMP:20260425T054409
CREATED:20220628T131048Z
LAST-MODIFIED:20220628T131343Z
UID:13935-1657584000-1657670399@baptisttrumpet.com
SUMMARY:Southwest District WMA
DESCRIPTION:The Southwest District WMA will meet at First Baptist Church in Taylor\, Arkansas on July 12 at 10 a.m.
URL:https://baptisttrumpet.com/event/southwest-district-wma/
LOCATION:First Baptist Church\, Taylor
ATTACH;FMTTYPE=image/jpeg:https://baptisttrumpet.com/wp-content/uploads/2022/01/DistrictEvent.jpg
END:VEVENT
BEGIN:VEVENT
DTSTART;TZID=America/Chicago:20220712T000000
DTEND;TZID=America/Chicago:20220712T235959
DTSTAMP:20260425T054409
CREATED:20220607T123412Z
LAST-MODIFIED:20220607T123413Z
UID:13691-1657584000-1657670399@baptisttrumpet.com
SUMMARY:SW Dist. Brotherhood Mtg.
DESCRIPTION:A Southwest District Brotherhood Meeting is planned for Tuesday\, July 12. The meal will be served at 6 p.m. The message will follow at 7 p.m.  Shiloh Lamartine Baptist Church in Waldo will host the gathering
URL:https://baptisttrumpet.com/event/sw-dist-brotherhood-mtg/
LOCATION:Shiloh Baptist Church- Waldo\, 430 Columbia 60 E\, Waldo\, AR\, 71858\, United States
ATTACH;FMTTYPE=image/jpeg:https://baptisttrumpet.com/wp-content/uploads/2022/01/DistrictEvent.jpg
END:VEVENT
BEGIN:VEVENT
DTSTART;TZID=America/Chicago:20220711T000000
DTEND;TZID=America/Chicago:20220715T235959
DTSTAMP:20260425T054409
CREATED:20220510T131508Z
LAST-MODIFIED:20220510T132500Z
UID:13392-1657497600-1657929599@baptisttrumpet.com
SUMMARY:Vacation Bible School
DESCRIPTION:Victory Baptist Church in Gentry will host a Vacation Bible School\, July 11-15 at 6 p.m. nightly. The theme is Zoomerang: Returning to the Value of Life.
URL:https://baptisttrumpet.com/event/vacation-bible-school-7/
LOCATION:Victory Baptist Church- Gentry\, 1120 E Main St.\, Gentry\, AR\, 72734\, United States
ATTACH;FMTTYPE=image/png:https://baptisttrumpet.com/wp-content/uploads/2022/04/VBS-Column-Announcement.png
END:VEVENT
BEGIN:VEVENT
DTSTART;TZID=America/Chicago:20220711T000000
DTEND;TZID=America/Chicago:20220713T235959
DTSTAMP:20260425T054409
CREATED:20220524T125949Z
LAST-MODIFIED:20220524T125959Z
UID:13609-1657497600-1657756799@baptisttrumpet.com
SUMMARY:Revival Services
DESCRIPTION:Bodcaw Baptist Church in Rosston will host Revival Services\, July 11-13\, at 7 p.m. nightly. Bruce Porter will be the evangelist. Ed Phillips serves as pastor.
URL:https://baptisttrumpet.com/event/revival-services-8/
LOCATION:Bodcaw #2 Baptist Church\, 2469 Hwy 53\, Rosston\, AR\, 71858\, United States
ATTACH;FMTTYPE=image/jpeg:https://baptisttrumpet.com/wp-content/uploads/2022/02/revival.jpg
END:VEVENT
BEGIN:VEVENT
DTSTART;TZID=America/Chicago:20220710T000000
DTEND;TZID=America/Chicago:20220715T235959
DTSTAMP:20260425T054409
CREATED:20220426T193647Z
LAST-MODIFIED:20220426T193648Z
UID:13312-1657411200-1657929599@baptisttrumpet.com
SUMMARY:Vacation Bible School
DESCRIPTION:Bodcaw Baptist Church in Bodcaw will host a Vacation Bible School\, July 10-15\, 6:30-8:30 nightly. The theme will be The Mighty God.
URL:https://baptisttrumpet.com/event/vacation-bible-school-3/
LOCATION:Bodcaw #1 Baptist Church\, 751 Nevada 13\, Bodcaw\, AR\, United States
ATTACH;FMTTYPE=image/png:https://baptisttrumpet.com/wp-content/uploads/2022/04/VBS-Column-Announcement.png
END:VEVENT
BEGIN:VEVENT
DTSTART;TZID=America/Chicago:20220710T000000
DTEND;TZID=America/Chicago:20220714T235959
DTSTAMP:20260425T054409
CREATED:20220524T131503Z
LAST-MODIFIED:20220524T131504Z
UID:13619-1657411200-1657843199@baptisttrumpet.com
SUMMARY:Vacation Bible School
DESCRIPTION:Temple Baptist Church in Rogers will host a Vacation Bible School\, July 10-14\, 6:10-8:50 nightly. The theme is Norb-E.
URL:https://baptisttrumpet.com/event/vacation-bible-school-12/
LOCATION:Temple Baptist Church\, 1812 S Dixieland Road\, Rogers\, AR\, 72758\, United States
ATTACH;FMTTYPE=image/png:https://baptisttrumpet.com/wp-content/uploads/2022/04/VBS-Column-Announcement.png
END:VEVENT
BEGIN:VEVENT
DTSTART;TZID=America/Chicago:20220710T000000
DTEND;TZID=America/Chicago:20220714T235959
DTSTAMP:20260425T054409
CREATED:20220510T131107Z
LAST-MODIFIED:20220510T132217Z
UID:13390-1657411200-1657843199@baptisttrumpet.com
SUMMARY:Vacation Bible School
DESCRIPTION:North View Baptist Church in North Little Rock will host a Vacation Bible School\, July 10-14\, 6:15 p.m. nightly. The theme is The Mighty God.
URL:https://baptisttrumpet.com/event/vacation-bible-school-6/
LOCATION:North View Baptist Church- North Little Rock\, 6801 John F Kennedy Blvd\, North Little Rock\, AR\, 72117\, United States
ATTACH;FMTTYPE=image/png:https://baptisttrumpet.com/wp-content/uploads/2022/04/VBS-Column-Announcement.png
END:VEVENT
BEGIN:VEVENT
DTSTART;TZID=America/Chicago:20220710T000000
DTEND;TZID=America/Chicago:20220710T235959
DTSTAMP:20260425T054409
CREATED:20220607T124112Z
LAST-MODIFIED:20220607T124112Z
UID:13696-1657411200-1657497599@baptisttrumpet.com
SUMMARY:Friendship Baptist Homecoming
DESCRIPTION:Friendship Baptist Church in Greenbrier will host Homecoming Services on Sunday\, July 10. The schedule includes worship at 11 a.m.\, followed by lunch and singing. James Crews serves as pastor.
URL:https://baptisttrumpet.com/event/friendship-baptist-homecoming/
LOCATION:Friendship Baptist Church- Greenbrier\, 170 Cash Springs Rd.\, Greenbrier\, AR\, 72058\, United States
ATTACH;FMTTYPE=image/jpeg:https://baptisttrumpet.com/wp-content/uploads/2022/04/Homecoming.jpg
END:VEVENT
BEGIN:VEVENT
DTSTART;TZID=America/Chicago:20220710T000000
DTEND;TZID=America/Chicago:20220710T235959
DTSTAMP:20260425T054409
CREATED:20220524T130755Z
LAST-MODIFIED:20220524T130914Z
UID:13614-1657411200-1657497599@baptisttrumpet.com
SUMMARY:Bodcaw Baptist Homecoming
DESCRIPTION:Bodcaw Baptist Church in Rosston will host a Homecoming event on Sunday\, July 10\, at 10:30 am. Bruce Porter will preach the morning sermon. Ed Phillips serves as pastor.
URL:https://baptisttrumpet.com/event/homecoming-services/
LOCATION:Bodcaw #2 Baptist Church\, 2469 Hwy 53\, Rosston\, AR\, 71858\, United States
ATTACH;FMTTYPE=image/jpeg:https://baptisttrumpet.com/wp-content/uploads/2022/04/Homecoming.jpg
END:VEVENT
BEGIN:VEVENT
DTSTART;TZID=America/Chicago:20220709T000000
DTEND;TZID=America/Chicago:20220709T235959
DTSTAMP:20260425T054409
CREATED:20220628T130649Z
LAST-MODIFIED:20220628T130651Z
UID:13933-1657324800-1657411199@baptisttrumpet.com
SUMMARY:Jonesboro District WMA
DESCRIPTION:The Jonesboro District WMA will meet at Bethany Baptist Church on July 9th at 10 a.m.
URL:https://baptisttrumpet.com/event/jonesboro-district-wma-6/
LOCATION:Bethany Baptist Church- Jonesboro\, 4701 E Johnson St.\, Jonesboro\, AR\, 72403\, United States
ATTACH;FMTTYPE=image/jpeg:https://baptisttrumpet.com/wp-content/uploads/2022/01/DistrictEvent.jpg
END:VEVENT
BEGIN:VEVENT
DTSTART;TZID=America/Chicago:20220629T000000
DTEND;TZID=America/Chicago:20220701T235959
DTSTAMP:20260425T054409
CREATED:20211214T151213Z
LAST-MODIFIED:20220318T002621Z
UID:7738-1656460800-1656719999@baptisttrumpet.com
SUMMARY:SOAR Student Conference
DESCRIPTION:2022 SOAR Promo.mov from BMA Productions on Vimeo.
URL:https://baptisttrumpet.com/event/soar-student-conference/
LOCATION:Hilton-Anatole\, 2201 N Stemmons Fwy\, Dallas\, Texas\, 75207\, United States
ATTACH;FMTTYPE=image/jpeg:https://baptisttrumpet.com/wp-content/uploads/2021/12/SOAR-2022.jpg
END:VEVENT
BEGIN:VEVENT
DTSTART;TZID=America/Chicago:20220627T000000
DTEND;TZID=America/Chicago:20220701T235959
DTSTAMP:20260425T054409
CREATED:20220607T140904Z
LAST-MODIFIED:20220607T141008Z
UID:13715-1656288000-1656719999@baptisttrumpet.com
SUMMARY:Vacation Bible School
DESCRIPTION:Garner Baptist Church in Garner is hosting a Vacation Bible School on June 27-July 1\, 6-8:20 p.m.\, nightly. The theme will be Under Construction
URL:https://baptisttrumpet.com/event/vacation-bible-school-18/
LOCATION:Garner Baptist Church\, 114 N Main\, Garner\, arkansas\, 72052\, Tanzania\, United Republic Of
ATTACH;FMTTYPE=image/png:https://baptisttrumpet.com/wp-content/uploads/2022/04/VBS-Column-Announcement.png
END:VEVENT
BEGIN:VEVENT
DTSTART;TZID=America/Chicago:20220627T000000
DTEND;TZID=America/Chicago:20220701T235959
DTSTAMP:20260425T054409
CREATED:20220607T125750Z
LAST-MODIFIED:20220607T130403Z
UID:13704-1656288000-1656719999@baptisttrumpet.com
SUMMARY:Vacation Bible School
DESCRIPTION:First Baptist Church in North Lewisville is hosting a Vacation Bible School on June 27-July 1\, 6:30-8:30 p.m. nightly. The theme will be The Might God.
URL:https://baptisttrumpet.com/event/vacation-bible-school-15/
LOCATION:First Baptist Church- North Lewisville\, 2915 Spruce Street\, Lewisville\, AR\, 71845\, United States
ATTACH;FMTTYPE=image/png:https://baptisttrumpet.com/wp-content/uploads/2022/04/VBS-Column-Announcement.png
END:VEVENT
BEGIN:VEVENT
DTSTART;TZID=America/Chicago:20220626T000000
DTEND;TZID=America/Chicago:20220626T235959
DTSTAMP:20260425T054409
CREATED:20220607T123751Z
LAST-MODIFIED:20220607T123752Z
UID:13693-1656201600-1656287999@baptisttrumpet.com
SUMMARY:Marcus Hill Homecoming
DESCRIPTION:Marcus Hill Baptist Church in Enola will host Homecoming Services on Sunday\, June 26\, at 10 a.m. Lunch will be served followed by singing. Kim Leach serves as pastor.
URL:https://baptisttrumpet.com/event/marcus-hill-homecoming/
LOCATION:Marcus Hill Baptist Church- Enola\, 266 Marcus Hill Rd.\, Enola\, AR\, 72047\, United States
ATTACH;FMTTYPE=image/jpeg:https://baptisttrumpet.com/wp-content/uploads/2022/04/Homecoming.jpg
END:VEVENT
BEGIN:VEVENT
DTSTART;TZID=America/Chicago:20220624T000000
DTEND;TZID=America/Chicago:20220627T235959
DTSTAMP:20260425T054409
CREATED:20220426T185446Z
LAST-MODIFIED:20220607T122949Z
UID:13297-1656028800-1656374399@baptisttrumpet.com
SUMMARY:National Galilean Camp
DESCRIPTION:National Galilean Camp is set for June 24-29 at StoneRidge Baptist Camp in Smithville\, Arkansas.
URL:https://baptisttrumpet.com/event/national-galilean-camp-4/
LOCATION:StoneRidge Baptist Camp\, 105 Lawrence Rd 155\, Smithville\, AR\, 72466\, United States
ATTACH;FMTTYPE=image/png:https://baptisttrumpet.com/wp-content/uploads/2022/02/Galilean-Logo6.png
END:VEVENT
BEGIN:VEVENT
DTSTART;TZID=America/Chicago:20220620T000000
DTEND;TZID=America/Chicago:20220624T235959
DTSTAMP:20260425T054409
CREATED:20220607T125544Z
LAST-MODIFIED:20220607T125545Z
UID:13702-1655683200-1656115199@baptisttrumpet.com
SUMMARY:Vacation Bible School
DESCRIPTION:Sulphur Spring Baptist Church in Quitman is hosting a Vacation Bible School\, June 20-24\, 6-8:30 nightly.
URL:https://baptisttrumpet.com/event/vacation-bible-school-14/
LOCATION:Sulpher Springs Baptist Church – Quitman\, 1091 Highway 107\, Quitman\, AR\, 72131\, United States
ATTACH;FMTTYPE=image/png:https://baptisttrumpet.com/wp-content/uploads/2022/04/VBS-Column-Announcement.png
END:VEVENT
BEGIN:VEVENT
DTSTART;TZID=America/Chicago:20220620T000000
DTEND;TZID=America/Chicago:20220624T235959
DTSTAMP:20260425T054409
CREATED:20220510T130846Z
LAST-MODIFIED:20220510T132407Z
UID:13388-1655683200-1656115199@baptisttrumpet.com
SUMMARY:Vacation Bible School
DESCRIPTION:Zion Baptist Church in Fordyce will host a Vacation Bible School\, June 20-24 at 6 p.m. nightly. The theme is Monumental – Celebrating God’s Greatness.
URL:https://baptisttrumpet.com/event/vacation-bible-school-5/
LOCATION:Zion Baptist Church- Fordyce\, 989 Hwy 229\, Fordyce\, AR\, 71742\, United States
ATTACH;FMTTYPE=image/png:https://baptisttrumpet.com/wp-content/uploads/2022/04/VBS-Column-Announcement.png
END:VEVENT
BEGIN:VEVENT
DTSTART;TZID=America/Chicago:20220620T000000
DTEND;TZID=America/Chicago:20220623T235959
DTSTAMP:20260425T054409
CREATED:20220510T130641Z
LAST-MODIFIED:20220510T131937Z
UID:13385-1655683200-1656028799@baptisttrumpet.com
SUMMARY:Vacation Bible School
DESCRIPTION:Antioch Baptist Church in Conway will host a Vacation Bible School\, June 20-23 at 9 a.m. daily. The theme is Monumental: Celebrating God’s Greatness.
URL:https://baptisttrumpet.com/event/vacation-bible-school-4/
LOCATION:Antioch Baptist Church- Conway\, 150 Amity Rd.\, Conway\, AR\, 72034
ATTACH;FMTTYPE=image/png:https://baptisttrumpet.com/wp-content/uploads/2022/04/VBS-Column-Announcement.png
END:VEVENT
BEGIN:VEVENT
DTSTART;TZID=America/Chicago:20220613T000000
DTEND;TZID=America/Chicago:20220617T235959
DTSTAMP:20260425T054409
CREATED:20220517T130156Z
LAST-MODIFIED:20220517T130525Z
UID:13526-1655078400-1655510399@baptisttrumpet.com
SUMMARY:Vacation Bible School
DESCRIPTION:Bodcaw Baptist Church and Corinth Baptist Church in Rosston will host a Vacation Bible School on June 13-17 from 6:30-9 p.m. The theme will be Zoomerang: Returning to the Value of Life.
URL:https://baptisttrumpet.com/event/vacation-bible-school-10/
LOCATION:Bodcaw #2 Baptist Church\, 2469 Hwy 53\, Rosston\, AR\, 71858\, United States
ATTACH;FMTTYPE=image/png:https://baptisttrumpet.com/wp-content/uploads/2022/04/VBS-Column-Announcement.png
END:VEVENT
END:VCALENDAR