BEGIN:VCALENDAR
VERSION:2.0
PRODID:-//Baptist Trumpet - ECPv6.15.20//NONSGML v1.0//EN
CALSCALE:GREGORIAN
METHOD:PUBLISH
X-WR-CALNAME:Baptist Trumpet
X-ORIGINAL-URL:https://baptisttrumpet.com
X-WR-CALDESC:Events for Baptist Trumpet
REFRESH-INTERVAL;VALUE=DURATION:PT1H
X-Robots-Tag:noindex
X-PUBLISHED-TTL:PT1H
BEGIN:VTIMEZONE
TZID:America/Chicago
BEGIN:DAYLIGHT
TZOFFSETFROM:-0600
TZOFFSETTO:-0500
TZNAME:CDT
DTSTART:20200308T080000
END:DAYLIGHT
BEGIN:STANDARD
TZOFFSETFROM:-0500
TZOFFSETTO:-0600
TZNAME:CST
DTSTART:20201101T070000
END:STANDARD
BEGIN:DAYLIGHT
TZOFFSETFROM:-0600
TZOFFSETTO:-0500
TZNAME:CDT
DTSTART:20210314T080000
END:DAYLIGHT
BEGIN:STANDARD
TZOFFSETFROM:-0500
TZOFFSETTO:-0600
TZNAME:CST
DTSTART:20211107T070000
END:STANDARD
BEGIN:DAYLIGHT
TZOFFSETFROM:-0600
TZOFFSETTO:-0500
TZNAME:CDT
DTSTART:20220313T080000
END:DAYLIGHT
BEGIN:STANDARD
TZOFFSETFROM:-0500
TZOFFSETTO:-0600
TZNAME:CST
DTSTART:20221106T070000
END:STANDARD
BEGIN:DAYLIGHT
TZOFFSETFROM:-0600
TZOFFSETTO:-0500
TZNAME:CDT
DTSTART:20230312T080000
END:DAYLIGHT
BEGIN:STANDARD
TZOFFSETFROM:-0500
TZOFFSETTO:-0600
TZNAME:CST
DTSTART:20231105T070000
END:STANDARD
END:VTIMEZONE
BEGIN:VEVENT
DTSTART;TZID=America/Chicago:20220130T000000
DTEND;TZID=America/Chicago:20220130T235959
DTSTAMP:20260425T113852
CREATED:20220118T141522Z
LAST-MODIFIED:20220127T140221Z
UID:8035-1643500800-1643587199@baptisttrumpet.com
SUMMARY:KBC World Missions Day
DESCRIPTION:Kingsland Baptist Church will observe World Missions Day on Sunday\, January 30. During Morning Worship\, Missionary Filimeno Kakilala will speak. A potluck meal will follow.
URL:https://baptisttrumpet.com/event/kbc-world-missions-day/
LOCATION:Kingsland Baptist Church\, 200 1st St.\, Kingsland\, AR\, 71652\, United States
END:VEVENT
BEGIN:VEVENT
DTSTART;VALUE=DATE:20220128
DTEND;VALUE=DATE:20220130
DTSTAMP:20260425T113852
CREATED:20220125T181509Z
LAST-MODIFIED:20220127T135342Z
UID:835-1643328000-1643500799@baptisttrumpet.com
SUMMARY:CBC Homecoming
DESCRIPTION:
URL:https://baptisttrumpet.com/event/cbc-homecoming/
LOCATION:Central Baptist College\, 1500 College Ave.\, Conway\, AR\, United States
END:VEVENT
BEGIN:VEVENT
DTSTART;TZID=America/Chicago:20211106T180000
DTEND;TZID=America/Chicago:20211106T200000
DTSTAMP:20260425T113852
CREATED:20211005T173810Z
LAST-MODIFIED:20211005T173810Z
UID:7375-1636221600-1636228800@baptisttrumpet.com
SUMMARY:Gospel Concert
DESCRIPTION:Featured musical artist is NEW START singing group.
URL:https://baptisttrumpet.com/event/gospel-concert/
LOCATION:Retina BaptistTrumpet_Logo_BlackRedCMYK
END:VEVENT
BEGIN:VEVENT
DTSTART;TZID=America/Chicago:20211104T080000
DTEND;TZID=America/Chicago:20211105T170000
DTSTAMP:20260425T113852
CREATED:20210406T161958Z
LAST-MODIFIED:20210406T161958Z
UID:6662-1636012800-1636131600@baptisttrumpet.com
SUMMARY:BMA of Arkansas Meeting
DESCRIPTION:
URL:https://baptisttrumpet.com/event/bma-of-arkansas-meeting/
LOCATION:Home
END:VEVENT
BEGIN:VEVENT
DTSTART;TZID=America/Chicago:20211103T000000
DTEND;TZID=America/Chicago:20211105T235959
DTSTAMP:20260425T113852
CREATED:20210914T165403Z
LAST-MODIFIED:20210914T165403Z
UID:7294-1635897600-1636156799@baptisttrumpet.com
SUMMARY:Revival Services @ First\, St. Charles
DESCRIPTION:
URL:https://baptisttrumpet.com/event/revival-services-first-st-charles/
LOCATION:Author Template – Default PRO
END:VEVENT
BEGIN:VEVENT
DTSTART;TZID=America/Chicago:20211025T190000
DTEND;TZID=America/Chicago:20211025T200000
DTSTAMP:20260425T113852
CREATED:20211005T174102Z
LAST-MODIFIED:20211005T174102Z
UID:7381-1635188400-1635192000@baptisttrumpet.com
SUMMARY:Youth Leaders Digital Hangout
DESCRIPTION:
URL:https://baptisttrumpet.com/event/youth-leaders-digital-hangout/
LOCATION:AR
END:VEVENT
BEGIN:VEVENT
DTSTART;TZID=America/Chicago:20211024T100000
DTEND;TZID=America/Chicago:20211024T113000
DTSTAMP:20260425T113852
CREATED:20211005T173929Z
LAST-MODIFIED:20211005T173929Z
UID:7379-1635069600-1635075000@baptisttrumpet.com
SUMMARY:Gospel Concert
DESCRIPTION:Featured musical artist is Kevin Spencer.
URL:https://baptisttrumpet.com/event/gospel-concert-2/
LOCATION:Continuing Education
END:VEVENT
BEGIN:VEVENT
DTSTART;TZID=America/Chicago:20211018T080000
DTEND;TZID=America/Chicago:20211020T170000
DTSTAMP:20260425T113852
CREATED:20210720T165649Z
LAST-MODIFIED:20210720T165649Z
UID:7081-1634544000-1634749200@baptisttrumpet.com
SUMMARY:Revival Services @ Crossroads\, Warren
DESCRIPTION:
URL:https://baptisttrumpet.com/event/revival-services-crossroads-warren/
LOCATION:Crossroads Baptist Church – Warren\, 1337 US Highway 278 W\, AR\, Warren\, Arkansas\, 71671\, United States
END:VEVENT
BEGIN:VEVENT
DTSTART;TZID=America/Chicago:20211012T180000
DTEND;TZID=America/Chicago:20211012T200000
DTSTAMP:20260425T113852
CREATED:20211005T174300Z
LAST-MODIFIED:20211005T174300Z
UID:7383-1634061600-1634068800@baptisttrumpet.com
SUMMARY:SW Ark. Dist. Brotherhodd
DESCRIPTION:The meeting will be held at Macedonia Baptist Church in Magnolia\, Arkansas.
URL:https://baptisttrumpet.com/event/sw-ark-dist-brotherhodd/
LOCATION:AR
END:VEVENT
BEGIN:VEVENT
DTSTART;TZID=America/Chicago:20211010T080000
DTEND;TZID=America/Chicago:20211013T170000
DTSTAMP:20260425T113852
CREATED:20210914T165705Z
LAST-MODIFIED:20210914T165705Z
UID:7296-1633852800-1634144400@baptisttrumpet.com
SUMMARY:Revival Services @ Fairview\, Jonesboro
DESCRIPTION:
URL:https://baptisttrumpet.com/event/revival-services-fairview-jonesboro/
LOCATION:Fairview Baptist Church- Jonesboro\, 3203 Race St.\, Jonesboro\, AR\, 72401\, United States
END:VEVENT
BEGIN:VEVENT
DTSTART;TZID=America/Chicago:20211009T100000
DTEND;TZID=America/Chicago:20211009T140000
DTSTAMP:20260425T113852
CREATED:20210914T164833Z
LAST-MODIFIED:20210914T164833Z
UID:7289-1633773600-1633788000@baptisttrumpet.com
SUMMARY:Central AR Dist. WMA
DESCRIPTION:
URL:https://baptisttrumpet.com/event/central-ar-dist-wma/
LOCATION:AR
END:VEVENT
BEGIN:VEVENT
DTSTART;TZID=America/Chicago:20211009T090000
DTEND;TZID=America/Chicago:20211009T120000
DTSTAMP:20260425T113852
CREATED:20210928T192704Z
LAST-MODIFIED:20210928T192704Z
UID:7357-1633770000-1633780800@baptisttrumpet.com
SUMMARY:Mt. Vernon District WMA
DESCRIPTION:
URL:https://baptisttrumpet.com/event/mt-vernon-district-wma-3/
LOCATION:Grace Baptist Church – Wynne\, 400 E Martin Drive\, Wynne\, AR\, 72936\, United States
END:VEVENT
BEGIN:VEVENT
DTSTART;TZID=America/Chicago:20211008T080000
DTEND;TZID=America/Chicago:20211010T170000
DTSTAMP:20260425T113852
CREATED:20210914T165157Z
LAST-MODIFIED:20210914T165157Z
UID:7291-1633680000-1633885200@baptisttrumpet.com
SUMMARY:Revival Services @ Lemonwood\, Pine Bluff
DESCRIPTION:
URL:https://baptisttrumpet.com/event/revival-services-lemonwood-pinebluff/
LOCATION:Lemonwood – White Hall\, 920 Shepherd Drive\, White Hall\, AR\, 71602\, United States
END:VEVENT
BEGIN:VEVENT
DTSTART;TZID=America/Chicago:20211002T180000
DTEND;TZID=America/Chicago:20211002T200000
DTSTAMP:20260425T113852
CREATED:20210921T152743Z
LAST-MODIFIED:20210921T152743Z
UID:7331-1633197600-1633204800@baptisttrumpet.com
SUMMARY:Gospel Singing
DESCRIPTION:
URL:https://baptisttrumpet.com/event/gospel-singing-2/
LOCATION:Retina BaptistTrumpet_Logo_BlackRedCMYK
END:VEVENT
BEGIN:VEVENT
DTSTART;TZID=America/Chicago:20210927T000000
DTEND;TZID=America/Chicago:20210929T235959
DTSTAMP:20260425T113852
CREATED:20210727T130512Z
LAST-MODIFIED:20210727T130512Z
UID:7118-1632700800-1632959999@baptisttrumpet.com
SUMMARY:Re:Charge Leaders Oasis
DESCRIPTION:
URL:https://baptisttrumpet.com/event/recharge-leaders-oasis/
LOCATION:AR
END:VEVENT
BEGIN:VEVENT
DTSTART;TZID=America/Chicago:20210918T090000
DTEND;TZID=America/Chicago:20210918T153000
DTSTAMP:20260425T113852
CREATED:20210119T184540Z
LAST-MODIFIED:20210119T184540Z
UID:6265-1631955600-1631979000@baptisttrumpet.com
SUMMARY:Arkansas Ladies Retreat
DESCRIPTION:
URL:https://baptisttrumpet.com/event/arkansas-ladies-retreat/
LOCATION:AR
END:VEVENT
BEGIN:VEVENT
DTSTART;TZID=America/Chicago:20210912T000000
DTEND;TZID=America/Chicago:20210912T235959
DTSTAMP:20260425T113852
CREATED:20210608T191227Z
LAST-MODIFIED:20210608T191227Z
UID:6947-1631404800-1631491199@baptisttrumpet.com
SUMMARY:CBC Day 2021
DESCRIPTION:CBC Day will be observed on Sept. 12. Churches are asked to set aside that Sunday\, to devote a specific part of the morning worship service to a special called time of prayer for CBC\, taking a one-time offering for our annual fund program\, “Gifts that Transform” and/or making a pledge to give additional offerings over the 12 months to follow. CBC Day contributions will be for the CBC Gifts that Transform Church Fund that supports\, among many other things\, the ministry tuition grant\, academic and performance scholarships\, spiritual life programs and the development of new academic programs.
URL:https://baptisttrumpet.com/event/cbc-day-2021/
LOCATION:AR
END:VEVENT
BEGIN:VEVENT
DTSTART;TZID=America/Chicago:20210905T000000
DTEND;TZID=America/Chicago:20210908T235959
DTSTAMP:20260425T113852
CREATED:20210720T165554Z
LAST-MODIFIED:20210720T165554Z
UID:7079-1630800000-1631145599@baptisttrumpet.com
SUMMARY:Revival Services @ County Line\, Marvell
DESCRIPTION:
URL:https://baptisttrumpet.com/event/revival-services-county-line-marvell/
LOCATION:AR
END:VEVENT
BEGIN:VEVENT
DTSTART;TZID=America/Chicago:20210823T080000
DTEND;TZID=America/Chicago:20210825T170000
DTSTAMP:20260425T113852
CREATED:20210608T192523Z
LAST-MODIFIED:20210608T192523Z
UID:6961-1629705600-1629910800@baptisttrumpet.com
SUMMARY:Revival Services @ Faustina\, Hampton
DESCRIPTION:
URL:https://baptisttrumpet.com/event/revival-services-faustina-hampton-2/
LOCATION:Retina BaptistTrumpet_Logo_BlackRedCMYK
END:VEVENT
BEGIN:VEVENT
DTSTART;TZID=America/Chicago:20210816T190000
DTEND;TZID=America/Chicago:20210816T203000
DTSTAMP:20260425T113852
CREATED:20210525T182156Z
LAST-MODIFIED:20210525T182156Z
UID:6918-1629140400-1629145800@baptisttrumpet.com
SUMMARY:Mt. Vernon Youth In Harvest
DESCRIPTION:
URL:https://baptisttrumpet.com/event/mt-vernon-youth-in-harvest-2/
END:VEVENT
BEGIN:VEVENT
DTSTART;TZID=America/Chicago:20210815T000000
DTEND;TZID=America/Chicago:20210818T235959
DTSTAMP:20260425T113852
CREATED:20210720T165457Z
LAST-MODIFIED:20210720T165457Z
UID:7077-1628985600-1629331199@baptisttrumpet.com
SUMMARY:Revival Services @ Macedonia\, Jonesboro
DESCRIPTION:
URL:https://baptisttrumpet.com/event/revival-services-macedonia-jonesboro/
LOCATION:AR
END:VEVENT
BEGIN:VEVENT
DTSTART;TZID=America/Chicago:20210808T000000
DTEND;TZID=America/Chicago:20210811T235959
DTSTAMP:20260425T113852
CREATED:20210720T165358Z
LAST-MODIFIED:20210720T165358Z
UID:7075-1628380800-1628726399@baptisttrumpet.com
SUMMARY:Revival Services @ Oak Grove\, Jonesboro
DESCRIPTION:
URL:https://baptisttrumpet.com/event/revival-services-oak-grove-jonesboro/
LOCATION:Oak Grove Baptist Church\, Jonesboro\, 2187 Highway 349\, Jonesboro\, AR\, 72404\, United States
END:VEVENT
BEGIN:VEVENT
DTSTART;TZID=America/Chicago:20210806T000000
DTEND;TZID=America/Chicago:20210807T235959
DTSTAMP:20260425T113852
CREATED:20201020T200355Z
LAST-MODIFIED:20201020T200355Z
UID:5573-1628208000-1628380799@baptisttrumpet.com
SUMMARY:Fresh Grounded Faith Women's Event
DESCRIPTION:
URL:https://baptisttrumpet.com/event/fresh-grounded-faith-womens-event/
LOCATION:AR
END:VEVENT
BEGIN:VEVENT
DTSTART;TZID=America/Chicago:20210802T000000
DTEND;TZID=America/Chicago:20210804T235959
DTSTAMP:20260425T113852
CREATED:20210118T125332Z
LAST-MODIFIED:20210118T125332Z
UID:6257-1627862400-1628121599@baptisttrumpet.com
SUMMARY:BMAA National Meeting
DESCRIPTION:
URL:https://baptisttrumpet.com/event/bmaa-national-meeting-2/
LOCATION:AR
END:VEVENT
BEGIN:VEVENT
DTSTART;TZID=America/Chicago:20210801T080000
DTEND;TZID=America/Chicago:20210804T170000
DTSTAMP:20260425T113852
CREATED:20210518T150108Z
LAST-MODIFIED:20210518T150108Z
UID:6883-1627804800-1628096400@baptisttrumpet.com
SUMMARY:Revival Services @ Center Point\, Nashville
DESCRIPTION:
URL:https://baptisttrumpet.com/event/revival-services-center-point-nashville/
LOCATION:AR
END:VEVENT
BEGIN:VEVENT
DTSTART;TZID=America/Chicago:20210725T000000
DTEND;TZID=America/Chicago:20210727T235959
DTSTAMP:20260425T113852
CREATED:20210622T122657Z
LAST-MODIFIED:20210622T122657Z
UID:6990-1627171200-1627430399@baptisttrumpet.com
SUMMARY:Revival Services @ Pleasant Springs\, McCaskill
DESCRIPTION:
URL:https://baptisttrumpet.com/event/revival-services-pleasant-springs-mccaskill/
LOCATION:Pleasant Springs Baptist Church – McCaskill\, McCaskill\, AR\, 71847\, United States
END:VEVENT
BEGIN:VEVENT
DTSTART;TZID=America/Chicago:20210718T080000
DTEND;TZID=America/Chicago:20210721T170000
DTSTAMP:20260425T113852
CREATED:20210608T192154Z
LAST-MODIFIED:20210608T192154Z
UID:6955-1626595200-1626886800@baptisttrumpet.com
SUMMARY:Revival Services @ Bluff Springs\, Rosston
DESCRIPTION:
URL:https://baptisttrumpet.com/event/revival-services-bluff-springs-rosston/
LOCATION:AR
END:VEVENT
BEGIN:VEVENT
DTSTART;TZID=America/Chicago:20210713T180000
DTEND;TZID=America/Chicago:20210713T200000
DTSTAMP:20260425T113852
CREATED:20210608T191935Z
LAST-MODIFIED:20210608T191935Z
UID:6949-1626199200-1626206400@baptisttrumpet.com
SUMMARY:Southwest AR District Brotherhood
DESCRIPTION:
URL:https://baptisttrumpet.com/event/southwest-ar-district-brotherhood/
LOCATION:First Baptist Church\, Taylor
END:VEVENT
BEGIN:VEVENT
DTSTART;TZID=America/Chicago:20210712T000000
DTEND;TZID=America/Chicago:20210714T235959
DTSTAMP:20260425T113852
CREATED:20210622T122600Z
LAST-MODIFIED:20210622T122600Z
UID:6988-1626048000-1626307199@baptisttrumpet.com
SUMMARY:Revival Services @ Bodcaw\, Rosston
DESCRIPTION:
URL:https://baptisttrumpet.com/event/revival-services-bodcaw-rosston/
LOCATION:404 Template – Default PRO
END:VEVENT
BEGIN:VEVENT
DTSTART;TZID=America/Chicago:20210710T060000
DTEND;TZID=America/Chicago:20210710T200000
DTSTAMP:20260425T113852
CREATED:20210622T123237Z
LAST-MODIFIED:20210622T123237Z
UID:6992-1625896800-1625947200@baptisttrumpet.com
SUMMARY:Karen Peck & New River Concert
DESCRIPTION:
URL:https://baptisttrumpet.com/event/karen-peck-new-river-concert/
LOCATION:Landmark Baptist Church- England\, 501 Stuttgart Hwy.\, England\, AR\, 71046\, United States
END:VEVENT
END:VCALENDAR