BEGIN:VCALENDAR
VERSION:2.0
PRODID:-//Baptist Trumpet - ECPv6.15.20//NONSGML v1.0//EN
CALSCALE:GREGORIAN
METHOD:PUBLISH
X-ORIGINAL-URL:https://baptisttrumpet.com
X-WR-CALDESC:Events for Baptist Trumpet
REFRESH-INTERVAL;VALUE=DURATION:PT1H
X-Robots-Tag:noindex
X-PUBLISHED-TTL:PT1H
BEGIN:VTIMEZONE
TZID:America/Chicago
BEGIN:DAYLIGHT
TZOFFSETFROM:-0600
TZOFFSETTO:-0500
TZNAME:CDT
DTSTART:20250309T080000
END:DAYLIGHT
BEGIN:STANDARD
TZOFFSETFROM:-0500
TZOFFSETTO:-0600
TZNAME:CST
DTSTART:20251102T070000
END:STANDARD
BEGIN:DAYLIGHT
TZOFFSETFROM:-0600
TZOFFSETTO:-0500
TZNAME:CDT
DTSTART:20260308T080000
END:DAYLIGHT
BEGIN:STANDARD
TZOFFSETFROM:-0500
TZOFFSETTO:-0600
TZNAME:CST
DTSTART:20261101T070000
END:STANDARD
BEGIN:DAYLIGHT
TZOFFSETFROM:-0600
TZOFFSETTO:-0500
TZNAME:CDT
DTSTART:20270314T080000
END:DAYLIGHT
BEGIN:STANDARD
TZOFFSETFROM:-0500
TZOFFSETTO:-0600
TZNAME:CST
DTSTART:20271107T070000
END:STANDARD
END:VTIMEZONE
BEGIN:VEVENT
DTSTART;TZID=America/Chicago:20260518T190000
DTEND;TZID=America/Chicago:20260520T203000
DTSTAMP:20260423T191439
CREATED:20260317T194448Z
LAST-MODIFIED:20260317T194449Z
UID:30430-1779130800-1779309000@baptisttrumpet.com
SUMMARY:REVIVAL: Immanuel\, Jonesboro
DESCRIPTION:      Immanuel\, Jonesboro; May 18-20\, 7 p.m.; Rick Jensen\, evangelist; George Harvey\, pastor.
URL:https://baptisttrumpet.com/event/revival-immanuel-jonesboro/
CATEGORIES:Revival
ATTACH;FMTTYPE=image/jpeg:https://baptisttrumpet.com/wp-content/uploads/2022/02/revival.jpg
END:VEVENT
BEGIN:VEVENT
DTSTART;TZID=America/Chicago:20260524T103000
DTEND;TZID=America/Chicago:20260524T140000
DTSTAMP:20260423T191439
CREATED:20260324T135635Z
LAST-MODIFIED:20260324T135636Z
UID:30506-1779618600-1779631200@baptisttrumpet.com
SUMMARY:HOMECOMING: Union\, Rosston
DESCRIPTION:      Union\, Rosston; May 24\, 10:30 a.m.; Mitch Dulaney\, message; lunch to follow; Joe Brown\, pastor.
URL:https://baptisttrumpet.com/event/homecoming-union-rosston-3/
CATEGORIES:Homecoming
ATTACH;FMTTYPE=image/jpeg:https://baptisttrumpet.com/wp-content/uploads/2022/04/Homecoming.jpg
END:VEVENT
BEGIN:VEVENT
DTSTART;TZID=America/Chicago:20260525T190000
DTEND;TZID=America/Chicago:20260527T203000
DTSTAMP:20260423T191439
CREATED:20260324T140853Z
LAST-MODIFIED:20260324T140853Z
UID:30515-1779735600-1779913800@baptisttrumpet.com
SUMMARY:REVIVALS: Union\, Rosston
DESCRIPTION:      Union\, Rosston; May 25-27\, 7 p.m.; Jim Moss\, evangelist; Joe Brown\, pastor.
URL:https://baptisttrumpet.com/event/revivals-union-rosston/
CATEGORIES:Revival
ATTACH;FMTTYPE=image/jpeg:https://baptisttrumpet.com/wp-content/uploads/2022/02/revival.jpg
END:VEVENT
BEGIN:VEVENT
DTSTART;TZID=America/Chicago:20260530T170000
DTEND;TZID=America/Chicago:20260530T210000
DTSTAMP:20260423T191439
CREATED:20260414T223748Z
LAST-MODIFIED:20260414T223749Z
UID:30836-1780160400-1780174800@baptisttrumpet.com
SUMMARY:UPCOMING: Gospel Singing
DESCRIPTION:      Gospel Singing; His Story; May 30\, 5 p.m.; New Hope\, Wynne.
URL:https://baptisttrumpet.com/event/upcoming-gospel-singing/
CATEGORIES:Upcoming Events
ATTACH;FMTTYPE=image/jpeg:https://baptisttrumpet.com/wp-content/uploads/2022/08/Upcoming-event.jpg
END:VEVENT
BEGIN:VEVENT
DTSTART;TZID=America/Chicago:20260604T190000
DTEND;TZID=America/Chicago:20260606T203000
DTSTAMP:20260423T191439
CREATED:20260416T131953Z
LAST-MODIFIED:20260416T131955Z
UID:30844-1780599600-1780777800@baptisttrumpet.com
SUMMARY:REVIVALS: Sulphur Springs\, Fordyce
DESCRIPTION:      Sulphur Springs\, Fordyce; June 4-6\, 7 p.m.; Dennis Blackerby\, evangelist; Keith Grice\, pastor.
URL:https://baptisttrumpet.com/event/revivals-sulphur-springs-fordyce/
CATEGORIES:Revival
ATTACH;FMTTYPE=image/jpeg:https://baptisttrumpet.com/wp-content/uploads/2022/02/revival.jpg
END:VEVENT
BEGIN:VEVENT
DTSTART;TZID=America/Chicago:20260608T183000
DTEND;TZID=America/Chicago:20260608T203000
DTSTAMP:20260423T191439
CREATED:20260414T224306Z
LAST-MODIFIED:20260414T224307Z
UID:30842-1780943400-1780950600@baptisttrumpet.com
SUMMARY:DISTRICTS: Mt. Vernon District Brotherhood
DESCRIPTION:      Mt. Vernon District Brotherhood; June 8\, 6:30 p.m.; First\, Caldwell.
URL:https://baptisttrumpet.com/event/districts-mt-vernon-district-brotherhood/
CATEGORIES:District Meeting
END:VEVENT
BEGIN:VEVENT
DTSTART;TZID=America/Chicago:20260612T180000
DTEND;TZID=America/Chicago:20260614T200000
DTSTAMP:20260423T191439
CREATED:20260217T194321Z
LAST-MODIFIED:20260217T194322Z
UID:30050-1781287200-1781467200@baptisttrumpet.com
SUMMARY:REVIVAL: Mt Pleasant\, Plumerville
DESCRIPTION:     Mt. Pleasant\, Plumerville; June 12-14\, Fri.-Sun. 6 p.m.\, Sun. 10:30 a.m.; Luis Ortega\, evangelist; Jesse Hales\, pastor.
URL:https://baptisttrumpet.com/event/revival-mt-pleasant-plumerville/
CATEGORIES:Revival
ATTACH;FMTTYPE=image/jpeg:https://baptisttrumpet.com/wp-content/uploads/2022/02/revival.jpg
END:VEVENT
BEGIN:VEVENT
DTSTART;TZID=America/Chicago:20260614T100000
DTEND;TZID=America/Chicago:20260614T130000
DTSTAMP:20260423T191439
CREATED:20260408T161555Z
LAST-MODIFIED:20260408T161556Z
UID:30705-1781431200-1781442000@baptisttrumpet.com
SUMMARY:HOMECOMINGS: Grace\, Temple
DESCRIPTION:         Grace Temple\, Paragould; June 14\, 10 a.m.; 50th Anniversary.
URL:https://baptisttrumpet.com/event/homecomings-grace-temple/
CATEGORIES:Homecoming
ATTACH;FMTTYPE=image/jpeg:https://baptisttrumpet.com/wp-content/uploads/2022/04/Homecoming.jpg
END:VEVENT
BEGIN:VEVENT
DTSTART;TZID=America/Chicago:20260614T103000
DTEND;TZID=America/Chicago:20260614T140000
DTSTAMP:20260423T191439
CREATED:20260408T161652Z
LAST-MODIFIED:20260408T161654Z
UID:30707-1781433000-1781445600@baptisttrumpet.com
SUMMARY:HOMECOMINGS: Center Grove\, Cord
DESCRIPTION:      Center Grove\, Cord; June 14\, 10:30 a.m.; lunch to follow; Celebrating 168 Years; Jerry Hagar\, message; Barry Anderson\, pastor.
URL:https://baptisttrumpet.com/event/homecomings-center-grove-cord/
CATEGORIES:Homecoming
ATTACH;FMTTYPE=image/jpeg:https://baptisttrumpet.com/wp-content/uploads/2022/04/Homecoming.jpg
END:VEVENT
BEGIN:VEVENT
DTSTART;TZID=America/Chicago:20260701T080000
DTEND;TZID=America/Chicago:20260703T170000
DTSTAMP:20260423T191439
CREATED:20260120T172706Z
LAST-MODIFIED:20260217T193259Z
UID:29608-1782892800-1783098000@baptisttrumpet.com
SUMMARY:SOAR 2026
DESCRIPTION:Norman\, Okla.; soarconference.com
URL:https://baptisttrumpet.com/event/soar-2026/
CATEGORIES:Upcoming Events
ATTACH;FMTTYPE=image/jpeg:https://baptisttrumpet.com/wp-content/uploads/2022/08/Upcoming-event.jpg
END:VEVENT
BEGIN:VEVENT
DTSTART;TZID=America/Chicago:20260713T183000
DTEND;TZID=America/Chicago:20260713T203000
DTSTAMP:20260423T191439
CREATED:20260317T184020Z
LAST-MODIFIED:20260317T184022Z
UID:30422-1783967400-1783974600@baptisttrumpet.com
SUMMARY:VBS: Dickinson\, Harrell
DESCRIPTION:     Dickinson\, Harrell; July 13-17\, 6:30 p.m.-8:15 p.m.
URL:https://baptisttrumpet.com/event/vbs-dickinson-harrell-2/
CATEGORIES:VBS
ATTACH;FMTTYPE=image/png:https://baptisttrumpet.com/wp-content/uploads/2022/04/VBS-Column-Announcement.png
END:VEVENT
BEGIN:VEVENT
DTSTART;TZID=America/Chicago:20260719T180000
DTEND;TZID=America/Chicago:20260723T203000
DTSTAMP:20260423T191439
CREATED:20260317T184147Z
LAST-MODIFIED:20260317T184148Z
UID:30424-1784484000-1784838600@baptisttrumpet.com
SUMMARY:VBS: North View\, North Little Rock
DESCRIPTION:     North View\, North Little Rock; July 19-23\, 6 p.m.-8:15 p.m.; Wonder
URL:https://baptisttrumpet.com/event/vbs-north-view-north-little-rock-2/
CATEGORIES:VBS
ATTACH;FMTTYPE=image/png:https://baptisttrumpet.com/wp-content/uploads/2022/04/VBS-Column-Announcement.png
END:VEVENT
BEGIN:VEVENT
DTSTART;TZID=America/Chicago:20260809T103000
DTEND;TZID=America/Chicago:20260812T200000
DTSTAMP:20260423T191439
CREATED:20260324T140242Z
LAST-MODIFIED:20260324T140243Z
UID:30508-1786271400-1786564800@baptisttrumpet.com
SUMMARY:REVIVALS: Landmark\, England
DESCRIPTION:      Landmark\, England; Aug. 9-12; Sun. 10:45 a.m.\, 6 p.m.; Mon.-Wed.\, 7 p.m.; Masters Voice in Concert; Ricky Capps\, evangelist; David Inzer\, pastor.
URL:https://baptisttrumpet.com/event/revivals-landmark-england/
CATEGORIES:Revival
ATTACH;FMTTYPE=image/jpeg:https://baptisttrumpet.com/wp-content/uploads/2022/02/revival.jpg
END:VEVENT
BEGIN:VEVENT
DTSTART;TZID=America/Chicago:20260925T080000
DTEND;TZID=America/Chicago:20260926T170000
DTSTAMP:20260423T191439
CREATED:20260310T182511Z
LAST-MODIFIED:20260310T182512Z
UID:30344-1790323200-1790442000@baptisttrumpet.com
SUMMARY:UPCOMING: Arkansas Ladies Retreat
DESCRIPTION:      Arkansas Ladies Retreat; Sept. 25-26; CBC\, Conway.
URL:https://baptisttrumpet.com/event/upcoming-arkansas-ladies-retreat/
CATEGORIES:Upcoming Events
ATTACH;FMTTYPE=image/jpeg:https://baptisttrumpet.com/wp-content/uploads/2022/08/Upcoming-event.jpg
END:VEVENT
END:VCALENDAR