BEGIN:VCALENDAR
VERSION:2.0
PRODID:-//Baptist Trumpet - ECPv6.15.20//NONSGML v1.0//EN
CALSCALE:GREGORIAN
METHOD:PUBLISH
X-WR-CALNAME:Baptist Trumpet
X-ORIGINAL-URL:https://baptisttrumpet.com
X-WR-CALDESC:Events for Baptist Trumpet
REFRESH-INTERVAL;VALUE=DURATION:PT1H
X-Robots-Tag:noindex
X-PUBLISHED-TTL:PT1H
BEGIN:VTIMEZONE
TZID:America/Chicago
BEGIN:DAYLIGHT
TZOFFSETFROM:-0600
TZOFFSETTO:-0500
TZNAME:CDT
DTSTART:20240310T080000
END:DAYLIGHT
BEGIN:STANDARD
TZOFFSETFROM:-0500
TZOFFSETTO:-0600
TZNAME:CST
DTSTART:20241103T070000
END:STANDARD
BEGIN:DAYLIGHT
TZOFFSETFROM:-0600
TZOFFSETTO:-0500
TZNAME:CDT
DTSTART:20250309T080000
END:DAYLIGHT
BEGIN:STANDARD
TZOFFSETFROM:-0500
TZOFFSETTO:-0600
TZNAME:CST
DTSTART:20251102T070000
END:STANDARD
BEGIN:DAYLIGHT
TZOFFSETFROM:-0600
TZOFFSETTO:-0500
TZNAME:CDT
DTSTART:20260308T080000
END:DAYLIGHT
BEGIN:STANDARD
TZOFFSETFROM:-0500
TZOFFSETTO:-0600
TZNAME:CST
DTSTART:20261101T070000
END:STANDARD
END:VTIMEZONE
BEGIN:VEVENT
DTSTART;TZID=America/Chicago:20251114T000000
DTEND;TZID=America/Chicago:20251114T235959
DTSTAMP:20260423T185109
CREATED:20251007T195242Z
LAST-MODIFIED:20251007T195243Z
UID:28531-1763078400-1763164799@baptisttrumpet.com
SUMMARY:UPCOMING: True Woman Conferance
DESCRIPTION:         True Woman Conference; Nov. 14-15; Sponsored by Revive Our Hearts and hosted by Worden\, Bald Knob.
URL:https://baptisttrumpet.com/event/upcoming-true-woman-conferance/
CATEGORIES:Upcoming Events
ATTACH;FMTTYPE=image/jpeg:https://baptisttrumpet.com/wp-content/uploads/2022/08/Upcoming-event.jpg
END:VEVENT
BEGIN:VEVENT
DTSTART;TZID=America/Chicago:20251113T190000
DTEND;TZID=America/Chicago:20251113T200000
DTSTAMP:20260423T185109
CREATED:20251007T194702Z
LAST-MODIFIED:20251007T194929Z
UID:28525-1763060400-1763064000@baptisttrumpet.com
SUMMARY:REVIVAL: First Baptist Church
DESCRIPTION:      First\, St. Charles; Nov. 13-15\, 7 p.m.; Luke Watson\, evangelist; The Walker Sisters\, special music; Wayne McLean\, interim pastor.
URL:https://baptisttrumpet.com/event/revival-first-baptist-church/
CATEGORIES:Revival
ATTACH;FMTTYPE=image/jpeg:https://baptisttrumpet.com/wp-content/uploads/2022/02/revival.jpg
END:VEVENT
BEGIN:VEVENT
DTSTART;TZID=America/Chicago:20251106T080000
DTEND;TZID=America/Chicago:20251107T170000
DTSTAMP:20260423T185109
CREATED:20250716T193415Z
LAST-MODIFIED:20251021T190027Z
UID:27417-1762416000-1762534800@baptisttrumpet.com
SUMMARY:UPCOMING: BMA of Arkansas
DESCRIPTION:This is the Annual State meeting hosted at Central Baptist College in Conway\, Ark. Schedule for this event will be out prior to the event. Times will vary from what is posted here.
URL:https://baptisttrumpet.com/event/bma-of-arkansas/
ATTACH;FMTTYPE=image/png:https://baptisttrumpet.com/wp-content/uploads/2022/10/BMA-of-Arkansas-Logo-with-Departments-CBC-Background.png
END:VEVENT
BEGIN:VEVENT
DTSTART;TZID=America/Chicago:20251104T183000
DTEND;TZID=America/Chicago:20251104T200000
DTSTAMP:20260423T185109
CREATED:20251023T144430Z
LAST-MODIFIED:20251023T144431Z
UID:28696-1762281000-1762286400@baptisttrumpet.com
SUMMARY:CBC Chamber Choir Fall Concert
DESCRIPTION:Nov. 4 – CBC Chamber Choir Fall Concert – 6:30 pm in Toland Worship Center
URL:https://baptisttrumpet.com/event/cbc-chamber-choir-fall-concert/
ATTACH;FMTTYPE=image/jpeg:https://baptisttrumpet.com/wp-content/uploads/2022/08/Upcoming-event.jpg
END:VEVENT
BEGIN:VEVENT
DTSTART;TZID=America/Chicago:20251031T183000
DTEND;TZID=America/Chicago:20251031T203000
DTSTAMP:20260423T185109
CREATED:20251021T185624Z
LAST-MODIFIED:20251021T190014Z
UID:28672-1761935400-1761942600@baptisttrumpet.com
SUMMARY:UPCOMING: Party on the Parking Lot
DESCRIPTION:         Party on the Parking Lot; Oct 31\, 6:30-8:30 p.m.; Antioch\, Conway.
URL:https://baptisttrumpet.com/event/party-on-the-parking-lot-4/
CATEGORIES:Upcoming Events
ATTACH;FMTTYPE=image/jpeg:https://baptisttrumpet.com/wp-content/uploads/2022/08/Upcoming-event.jpg
END:VEVENT
BEGIN:VEVENT
DTSTART;TZID=America/Chicago:20251031T180000
DTEND;TZID=America/Chicago:20251031T200000
DTSTAMP:20260423T185109
CREATED:20251021T185738Z
LAST-MODIFIED:20251021T190005Z
UID:28674-1761933600-1761940800@baptisttrumpet.com
SUMMARY:UPCOMING: Trunk or Treat
DESCRIPTION:      Trunk or Treat; Oct. 31\, 6 p.m.-8 p.m.; Prospect\, Jonesboro.
URL:https://baptisttrumpet.com/event/trunk-or-treat-5/
CATEGORIES:Upcoming Events
ATTACH;FMTTYPE=image/jpeg:https://baptisttrumpet.com/wp-content/uploads/2022/08/Upcoming-event.jpg
END:VEVENT
BEGIN:VEVENT
DTSTART;TZID=America/Chicago:20251030T183000
DTEND;TZID=America/Chicago:20251030T200000
DTSTAMP:20260423T185109
CREATED:20251023T144337Z
LAST-MODIFIED:20251023T144338Z
UID:28694-1761849000-1761854400@baptisttrumpet.com
SUMMARY:CBC Concert Band and Women's Chorus Fall Concert
DESCRIPTION:Oct. 30 – CBC Concert Band and Women’s Chorus Fall Concert – 6:30 pm in Burgess Auditorium
URL:https://baptisttrumpet.com/event/cbc-concert-band-and-womens-chorus-fall-concert/
ATTACH;FMTTYPE=image/jpeg:https://baptisttrumpet.com/wp-content/uploads/2022/08/Upcoming-event.jpg
END:VEVENT
BEGIN:VEVENT
DTSTART;TZID=America/Chicago:20251028T183000
DTEND;TZID=America/Chicago:20251028T200000
DTSTAMP:20260423T185109
CREATED:20251023T144245Z
LAST-MODIFIED:20251023T144247Z
UID:28692-1761676200-1761681600@baptisttrumpet.com
SUMMARY:CBC Senior Piano Recital: Caleb Claiborne
DESCRIPTION:Oct. 28 – Caleb Claiborne\, Senior Piano Recital @ Central Baptist College – 6:30 pm in Toland Worship Center
URL:https://baptisttrumpet.com/event/cbc-senior-piano-recital-caleb-claiborne/
ATTACH;FMTTYPE=image/jpeg:https://baptisttrumpet.com/wp-content/uploads/2022/08/Upcoming-event.jpg
END:VEVENT
BEGIN:VEVENT
DTSTART;TZID=America/Chicago:20251026T190000
DTEND;TZID=America/Chicago:20251026T210000
DTSTAMP:20260423T185109
CREATED:20251007T195108Z
LAST-MODIFIED:20251007T195109Z
UID:28529-1761505200-1761512400@baptisttrumpet.com
SUMMARY:UPCOMING: Karen Peck & New River Concert
DESCRIPTION:      Karen Peck & New River Concert; Oct. 26\, 7 p.m.; Landmark\, England.
URL:https://baptisttrumpet.com/event/upcoming-karen-peck-new-river-concert/
CATEGORIES:Upcoming Events
ATTACH;FMTTYPE=image/jpeg:https://baptisttrumpet.com/wp-content/uploads/2022/08/Upcoming-event.jpg
END:VEVENT
BEGIN:VEVENT
DTSTART;TZID=America/Chicago:20251026T173000
DTEND;TZID=America/Chicago:20251026T193000
DTSTAMP:20260423T185109
CREATED:20251021T185444Z
LAST-MODIFIED:20251021T185957Z
UID:28670-1761499800-1761507000@baptisttrumpet.com
SUMMARY:UPCOMING: Fall Festival
DESCRIPTION:      Fall Festival; Oct 26; 5:30-7:30 p.m.; Chenal Valley\, Little Rock.
URL:https://baptisttrumpet.com/event/fall-festival-4/
CATEGORIES:Upcoming Events
ATTACH;FMTTYPE=image/jpeg:https://baptisttrumpet.com/wp-content/uploads/2022/08/Upcoming-event.jpg
END:VEVENT
BEGIN:VEVENT
DTSTART;TZID=America/Chicago:20251025T110000
DTEND;TZID=America/Chicago:20251025T140000
DTSTAMP:20260423T185109
CREATED:20251021T185307Z
LAST-MODIFIED:20251021T185943Z
UID:28668-1761390000-1761400800@baptisttrumpet.com
SUMMARY:UPCOMING: Fall Festival
DESCRIPTION:      Fall Festival; Oct. 25\, 11 a.m. – 2 p.m.; Calvary\, Morrilton.
URL:https://baptisttrumpet.com/event/fall-fesitval/
CATEGORIES:Upcoming Events
ATTACH;FMTTYPE=image/jpeg:https://baptisttrumpet.com/wp-content/uploads/2022/08/Upcoming-event.jpg
END:VEVENT
BEGIN:VEVENT
DTSTART;TZID=America/Chicago:20251025T090000
DTEND;TZID=America/Chicago:20251025T170000
DTSTAMP:20260423T185109
CREATED:20250909T224850Z
LAST-MODIFIED:20250909T224851Z
UID:28103-1761382800-1761411600@baptisttrumpet.com
SUMMARY:DISTRICT: Howard Assoc. Annual Meeting
DESCRIPTION:Oct. 25\, 9 a.m.; Centerpoint\, Nashville.
URL:https://baptisttrumpet.com/event/district-howard-assoc-annual-meeting/
CATEGORIES:District Meeting
ATTACH;FMTTYPE=image/jpeg:https://baptisttrumpet.com/wp-content/uploads/2022/01/DistrictEvent.jpg
END:VEVENT
BEGIN:VEVENT
DTSTART;TZID=America/Chicago:20251024T083000
DTEND;TZID=America/Chicago:20251024T210000
DTSTAMP:20260423T185109
CREATED:20250909T224743Z
LAST-MODIFIED:20250909T224745Z
UID:28101-1761294600-1761339600@baptisttrumpet.com
SUMMARY:DISTRICT: Arkansas Prairie Assoc. Annual Meeting
DESCRIPTION:Oct. 24-25; 7 p.m. Friday\, 10 a.m. Saturday.
URL:https://baptisttrumpet.com/event/district-arkansas-prairie-assoc-annual-meeting/
CATEGORIES:District Meeting
ATTACH;FMTTYPE=image/jpeg:https://baptisttrumpet.com/wp-content/uploads/2022/01/DistrictEvent.jpg
END:VEVENT
BEGIN:VEVENT
DTSTART;TZID=America/Chicago:20251024T000000
DTEND;TZID=America/Chicago:20251025T235959
DTSTAMP:20260423T185109
CREATED:20251007T200439Z
LAST-MODIFIED:20251007T200440Z
UID:28540-1761264000-1761436799@baptisttrumpet.com
SUMMARY:DISTRICTS: Arkansas Prairie Assoc. Meeting
DESCRIPTION:      Arkansas Prairie Assoc. Annual Mtg; Oct. 24-25; 7 p.m. Friday\, 10 a.m. Saturday.
URL:https://baptisttrumpet.com/event/districts-arkansas-prairie-assoc-meeting/
CATEGORIES:District Meeting
ATTACH;FMTTYPE=image/jpeg:https://baptisttrumpet.com/wp-content/uploads/2022/01/DistrictEvent.jpg
END:VEVENT
BEGIN:VEVENT
DTSTART;TZID=America/Chicago:20251023T000000
DTEND;TZID=America/Chicago:20251023T235959
DTSTAMP:20260423T185109
CREATED:20250909T200418Z
LAST-MODIFIED:20250909T200508Z
UID:28057-1761177600-1761263999@baptisttrumpet.com
SUMMARY:Water for Christ - Art for Water Gala
DESCRIPTION:
URL:https://baptisttrumpet.com/event/water-for-christ-art-for-water-gala/
END:VEVENT
BEGIN:VEVENT
DTSTART;TZID=America/Chicago:20251020T183000
DTEND;TZID=America/Chicago:20251020T200000
DTSTAMP:20260423T185109
CREATED:20251007T200540Z
LAST-MODIFIED:20251007T200542Z
UID:28542-1760985000-1760990400@baptisttrumpet.com
SUMMARY:DISTRICTS: Mt. Vernon Youth in Harvest
DESCRIPTION:      Mt. Vernon Youth in Harvest; Oct. 20\, 6:30 p.m. Rondo\, Lexa.
URL:https://baptisttrumpet.com/event/districts-mt-vernon-youth-in-harvest-3/
CATEGORIES:District Meeting
ATTACH;FMTTYPE=image/jpeg:https://baptisttrumpet.com/wp-content/uploads/2022/01/DistrictEvent.jpg
END:VEVENT
BEGIN:VEVENT
DTSTART;TZID=America/Chicago:20251019T000000
DTEND;TZID=America/Chicago:20251019T235959
DTSTAMP:20260423T185109
CREATED:20250909T200754Z
LAST-MODIFIED:20250909T205647Z
UID:28059-1760832000-1760918399@baptisttrumpet.com
SUMMARY:Lifeword Sunday
DESCRIPTION:This annual event is set aside for churches across the work of the BMAA to promote the work of Lifeword Ministries and receive a special offering for this ministry.
URL:https://baptisttrumpet.com/event/lifeword-sunday-2/
END:VEVENT
BEGIN:VEVENT
DTSTART;TZID=America/Chicago:20251018T100000
DTEND;TZID=America/Chicago:20251018T160000
DTSTAMP:20260423T185109
CREATED:20250909T224615Z
LAST-MODIFIED:20250916T205619Z
UID:28099-1760781600-1760803200@baptisttrumpet.com
SUMMARY:DISTRICT: Jonesboro Assoc. Annual Mtg
DESCRIPTION:Oct. 18\, 10 a.m.; Pocahontas\, Pocahontas.
URL:https://baptisttrumpet.com/event/district-jonesboro-assoc-annual-mtg/
CATEGORIES:District Meeting
ATTACH;FMTTYPE=image/jpeg:https://baptisttrumpet.com/wp-content/uploads/2022/01/DistrictEvent.jpg
END:VEVENT
BEGIN:VEVENT
DTSTART;TZID=America/Chicago:20251018T013000
DTEND;TZID=America/Chicago:20251018T020000
DTSTAMP:20260423T185109
CREATED:20251007T200652Z
LAST-MODIFIED:20251007T200653Z
UID:28544-1760751000-1760752800@baptisttrumpet.com
SUMMARY:DISTRICTS: Mt. Vernon WMA
DESCRIPTION:      Mt. Vernon WMA; Oct. 18\, 10 a.m.; Rondo\, Lexa.
URL:https://baptisttrumpet.com/event/districts-mt-vernon-wma/
CATEGORIES:District Meeting
ATTACH;FMTTYPE=image/jpeg:https://baptisttrumpet.com/wp-content/uploads/2022/01/DistrictEvent.jpg
END:VEVENT
BEGIN:VEVENT
DTSTART;TZID=America/Chicago:20251014T180000
DTEND;TZID=America/Chicago:20251014T200000
DTSTAMP:20260423T185109
CREATED:20251007T200800Z
LAST-MODIFIED:20251007T200802Z
UID:28546-1760464800-1760472000@baptisttrumpet.com
SUMMARY:DISTRICTS: SW Arkansas Brotherhood
DESCRIPTION:      Southwest Arkansas District Brotherhood; Oct. 14\, 6 p.m.; Bodcaw\, Rosston.
URL:https://baptisttrumpet.com/event/districts-sw-arkansas-brotherhood/
CATEGORIES:District Meeting
ATTACH;FMTTYPE=image/jpeg:https://baptisttrumpet.com/wp-content/uploads/2022/01/DistrictEvent.jpg
END:VEVENT
BEGIN:VEVENT
DTSTART;TZID=America/Chicago:20251014T100000
DTEND;TZID=America/Chicago:20251014T140000
DTSTAMP:20260423T185109
CREATED:20251007T200852Z
LAST-MODIFIED:20251007T200852Z
UID:28548-1760436000-1760450400@baptisttrumpet.com
SUMMARY:DISTRICTS: SW Arkansas WMA
DESCRIPTION:      Southwest Arkansas WMA; Oct. 14\, 10 a.m.; First\, McNeil.
URL:https://baptisttrumpet.com/event/districts-sw-arkansas-wma/
CATEGORIES:District Meeting
ATTACH;FMTTYPE=image/jpeg:https://baptisttrumpet.com/wp-content/uploads/2022/01/DistrictEvent.jpg
END:VEVENT
BEGIN:VEVENT
DTSTART;TZID=America/Chicago:20251013T183000
DTEND;TZID=America/Chicago:20251013T203000
DTSTAMP:20260423T185109
CREATED:20250722T192605Z
LAST-MODIFIED:20250722T192607Z
UID:27508-1760380200-1760387400@baptisttrumpet.com
SUMMARY:Central Arkansas District Brotherhood
DESCRIPTION:
URL:https://baptisttrumpet.com/event/central-arkansas-district-brotherhood-3/
ATTACH;FMTTYPE=image/jpeg:https://baptisttrumpet.com/wp-content/uploads/2025/07/Brotherhood-July-23.jpeg
END:VEVENT
BEGIN:VEVENT
DTSTART;TZID=America/Chicago:20251012T180000
DTEND;TZID=America/Chicago:20251015T200000
DTSTAMP:20260423T185109
CREATED:20251007T194539Z
LAST-MODIFIED:20251007T194541Z
UID:28523-1760292000-1760558400@baptisttrumpet.com
SUMMARY:REVIVAL: Kingsland Baptist Church
DESCRIPTION:      Kingsland\, Kingsland; Oct. 12-15; Sun. 6 p.m.\, Scott Smith\, evangelist; Mon. 7 p.m.\, Brian Sheppard\, evangelist; Tues. 7 p.m.\, Jerry Burress\, evangelist; Wed. 7 p.m. Scott McCurry\, evangelist; Rick Bolin\, pastor.
URL:https://baptisttrumpet.com/event/revival-kingsland-baptist-church/
CATEGORIES:Revival
ATTACH;FMTTYPE=image/jpeg:https://baptisttrumpet.com/wp-content/uploads/2022/02/revival.jpg
END:VEVENT
BEGIN:VEVENT
DTSTART;TZID=America/Chicago:20251012T180000
DTEND;TZID=America/Chicago:20251012T210000
DTSTAMP:20260423T185109
CREATED:20250909T224357Z
LAST-MODIFIED:20250909T224358Z
UID:28097-1760292000-1760302800@baptisttrumpet.com
SUMMARY:DISTRICT: Harmony Assoc. Annual Mtg
DESCRIPTION:Oct. 12\, 6 p.m.; Central\, Ashdown.
URL:https://baptisttrumpet.com/event/district-harmony-assoc-annual-mtg/
CATEGORIES:District Meeting
ATTACH;FMTTYPE=image/jpeg:https://baptisttrumpet.com/wp-content/uploads/2022/01/DistrictEvent.jpg
END:VEVENT
BEGIN:VEVENT
DTSTART;TZID=America/Chicago:20251012T180000
DTEND;TZID=America/Chicago:20251012T190000
DTSTAMP:20260423T185109
CREATED:20250909T211930Z
LAST-MODIFIED:20250909T211931Z
UID:28076-1760292000-1760295600@baptisttrumpet.com
SUMMARY:REVIVAL: Flat Rock\, Quitman
DESCRIPTION:Oct. 12-17; Sun. 6 p.m.\, Mon.-Fri. 7 p.m.; Dalton Richey\, evangelist; Myles Evans\, pastor.
URL:https://baptisttrumpet.com/event/revival-flat-rock-quitman/
CATEGORIES:Revival
ATTACH;FMTTYPE=image/jpeg:https://baptisttrumpet.com/wp-content/uploads/2022/02/revival.jpg
END:VEVENT
BEGIN:VEVENT
DTSTART;TZID=America/Chicago:20251012T153000
DTEND;TZID=America/Chicago:20251012T203000
DTSTAMP:20260423T185109
CREATED:20250909T223801Z
LAST-MODIFIED:20250909T223803Z
UID:28095-1760283000-1760301000@baptisttrumpet.com
SUMMARY:DISTRICT: Greenbrier Assoc. Annual Meeting
DESCRIPTION:Oct. 12\, 3:30 p.m.\, Missionary Committee; 4 p.m.\, general session; 6 p.m.\, message; First\, Damascus.
URL:https://baptisttrumpet.com/event/district-greenbrier-assoc-annual-meeting/
CATEGORIES:District Meeting
ATTACH;FMTTYPE=image/jpeg:https://baptisttrumpet.com/wp-content/uploads/2022/01/DistrictEvent.jpg
END:VEVENT
BEGIN:VEVENT
DTSTART;TZID=America/Chicago:20251012T110000
DTEND;TZID=America/Chicago:20251012T150000
DTSTAMP:20260423T185109
CREATED:20250916T210304Z
LAST-MODIFIED:20250916T210305Z
UID:28213-1760266800-1760281200@baptisttrumpet.com
SUMMARY:Sunday Day of Singing
DESCRIPTION:Oct. 12\, 11 a.m.; lunch provided; Continues at 1 p.m.\, specials and local talent welcome; Pleasant Grove\, Stamps; For information\, contact Andy Coleman at (870) 533-4358.
URL:https://baptisttrumpet.com/event/sunday-day-of-singing/
CATEGORIES:Upcoming Events
ATTACH;FMTTYPE=image/jpeg:https://baptisttrumpet.com/wp-content/uploads/2022/08/Upcoming-event.jpg
END:VEVENT
BEGIN:VEVENT
DTSTART;TZID=America/Chicago:20251012T103000
DTEND;TZID=America/Chicago:20251012T143000
DTSTAMP:20260423T185109
CREATED:20250729T162458Z
LAST-MODIFIED:20250729T162459Z
UID:27538-1760265000-1760279400@baptisttrumpet.com
SUMMARY:Homecoming: First\, Caldwell
DESCRIPTION:Oct. 12\, 10:30 a.m.; potluck to follow; Martin Jameson\, speaker.
URL:https://baptisttrumpet.com/event/homecoming-first-caldwell/
ATTACH;FMTTYPE=image/jpeg:https://baptisttrumpet.com/wp-content/uploads/2022/04/Homecoming.jpg
END:VEVENT
BEGIN:VEVENT
DTSTART;TZID=America/Chicago:20251012T090000
DTEND;TZID=America/Chicago:20251012T140000
DTSTAMP:20260423T185109
CREATED:20251007T194837Z
LAST-MODIFIED:20251007T194839Z
UID:28527-1760259600-1760277600@baptisttrumpet.com
SUMMARY:UPCOMING: 25 Year Celebration
DESCRIPTION:      25 Year Celebration; Oct. 12; Beacon\, Taylor will celebrate 25 years of service for pastor Karry Easley and his wife\, Lucy Easley. Sunday School 9 a.m.\, Worship\, 10 a.m.\, fellowship lunch to follow. All are welcome.
URL:https://baptisttrumpet.com/event/upcoming-25-year-celebration/
CATEGORIES:Upcoming Events
ATTACH;FMTTYPE=image/jpeg:https://baptisttrumpet.com/wp-content/uploads/2022/08/Upcoming-event.jpg
END:VEVENT
BEGIN:VEVENT
DTSTART;TZID=America/Chicago:20251011T180000
DTEND;TZID=America/Chicago:20251011T200000
DTSTAMP:20260423T185109
CREATED:20250812T204859Z
LAST-MODIFIED:20250812T204859Z
UID:27818-1760205600-1760212800@baptisttrumpet.com
SUMMARY:Hallelujah Harmony Quartet
DESCRIPTION:Hallelujah Harmony Quartet will be at First Baptist in Caldwell on October 11 @ 6 p.m. All are welcome!
URL:https://baptisttrumpet.com/event/hallelujah-harmony-quartet/
ATTACH;FMTTYPE=image/jpeg:https://baptisttrumpet.com/wp-content/uploads/2022/08/Upcoming-event.jpg
END:VEVENT
END:VCALENDAR