BEGIN:VCALENDAR
VERSION:2.0
PRODID:-//Baptist Trumpet - ECPv6.15.20//NONSGML v1.0//EN
CALSCALE:GREGORIAN
METHOD:PUBLISH
X-WR-CALNAME:Baptist Trumpet
X-ORIGINAL-URL:https://baptisttrumpet.com
X-WR-CALDESC:Events for Baptist Trumpet
REFRESH-INTERVAL;VALUE=DURATION:PT1H
X-Robots-Tag:noindex
X-PUBLISHED-TTL:PT1H
BEGIN:VTIMEZONE
TZID:America/Chicago
BEGIN:DAYLIGHT
TZOFFSETFROM:-0600
TZOFFSETTO:-0500
TZNAME:CDT
DTSTART:20220313T080000
END:DAYLIGHT
BEGIN:STANDARD
TZOFFSETFROM:-0500
TZOFFSETTO:-0600
TZNAME:CST
DTSTART:20221106T070000
END:STANDARD
BEGIN:DAYLIGHT
TZOFFSETFROM:-0600
TZOFFSETTO:-0500
TZNAME:CDT
DTSTART:20230312T080000
END:DAYLIGHT
BEGIN:STANDARD
TZOFFSETFROM:-0500
TZOFFSETTO:-0600
TZNAME:CST
DTSTART:20231105T070000
END:STANDARD
BEGIN:DAYLIGHT
TZOFFSETFROM:-0600
TZOFFSETTO:-0500
TZNAME:CDT
DTSTART:20240310T080000
END:DAYLIGHT
BEGIN:STANDARD
TZOFFSETFROM:-0500
TZOFFSETTO:-0600
TZNAME:CST
DTSTART:20241103T070000
END:STANDARD
END:VTIMEZONE
BEGIN:VEVENT
DTSTART;TZID=America/Chicago:20231001T000000
DTEND;TZID=America/Chicago:20231004T235959
DTSTAMP:20260424T072249
CREATED:20230228T162426Z
LAST-MODIFIED:20230228T162427Z
UID:16562-1696118400-1696463999@baptisttrumpet.com
SUMMARY:Revival Services - Fourth Street
DESCRIPTION:Fourth Street Baptist Church will host revival services October 1-4. Worship will begin at 5 p.m. on Sunday and 6:30 p.m. on Monday through Wednesday. Michael Hight is the evangelist. Lance Madden serves as pastor.
URL:https://baptisttrumpet.com/event/revival-services-fourth-street/
LOCATION:Fourth Street Baptist Church- West Helena\, 1226 N 4th St.\, West Helena\, AR\, 72390\, United States
ATTACH;FMTTYPE=image/jpeg:https://baptisttrumpet.com/wp-content/uploads/2022/02/revival.jpg
END:VEVENT
BEGIN:VEVENT
DTSTART;TZID=America/Chicago:20230916T000000
DTEND;TZID=America/Chicago:20230916T235959
DTSTAMP:20260424T072249
CREATED:20230508T185256Z
LAST-MODIFIED:20230508T185257Z
UID:17400-1694822400-1694908799@baptisttrumpet.com
SUMMARY:Gospel Singing
DESCRIPTION:Cross Roads Baptist Church near Warren will host the Kinsmen Quartet in concert on September 16 at 6 p.m. Sinday McGraw serves as pastor.
URL:https://baptisttrumpet.com/event/gospel-singing-9/
LOCATION:Cross Roads Baptist Church- Warren\, 1337 Hwy 278 W\, Warren\, AR\, 71671\, United States
ATTACH;FMTTYPE=image/png:https://baptisttrumpet.com/wp-content/uploads/2022/03/GospelConcert.png
END:VEVENT
BEGIN:VEVENT
DTSTART;TZID=America/Chicago:20230916T000000
DTEND;TZID=America/Chicago:20230916T235959
DTSTAMP:20260424T072249
CREATED:20221107T165338Z
LAST-MODIFIED:20221108T120034Z
UID:15409-1694822400-1694908799@baptisttrumpet.com
SUMMARY:Student Ministry Workers Retreat
DESCRIPTION:
URL:https://baptisttrumpet.com/event/student-ministry-workers-retreat-4/
LOCATION:Central Baptist College\, 1500 College Ave.\, Conway\, AR\, 72034\, United States
ATTACH;FMTTYPE=image/jpeg:https://baptisttrumpet.com/wp-content/uploads/2022/03/SMM.jpg
END:VEVENT
BEGIN:VEVENT
DTSTART;TZID=America/Chicago:20230911T000000
DTEND;TZID=America/Chicago:20230911T235959
DTSTAMP:20260424T072249
CREATED:20230613T165623Z
LAST-MODIFIED:20230613T165630Z
UID:17820-1694390400-1694476799@baptisttrumpet.com
SUMMARY:Mt. Vernon Dist. Brotherhood Mtg.
DESCRIPTION:Mt. Vernon District Brotherhood will meet at Harmony Baptist Church in West Helena\, Monday\, September 11\, at 6:30 p.m.
URL:https://baptisttrumpet.com/event/mt-vernon-dist-brotherhood-mtg/
LOCATION:Harmony Baptist Church – West Helena\, 801 Airport Road\, West Helena\, AR\, 72390\, United States
ATTACH;FMTTYPE=image/jpeg:https://baptisttrumpet.com/wp-content/uploads/2022/01/DistrictEvent.jpg
END:VEVENT
BEGIN:VEVENT
DTSTART;TZID=America/Chicago:20230907T000000
DTEND;TZID=America/Chicago:20230907T235959
DTSTAMP:20260424T072249
CREATED:20230613T171342Z
LAST-MODIFIED:20230613T171343Z
UID:17836-1694044800-1694131199@baptisttrumpet.com
SUMMARY:Mt. Calvary Association Annual Meeting
DESCRIPTION:The Mt. Calvary Association’s Annual Meeting is set for Thursday\, September 7 @ 7 p.m.\, at the Park Avenue Baptist Church in Searcy. Bill Goodwin serves as moderator.
URL:https://baptisttrumpet.com/event/mt-calvary-association-annual-meeting/
LOCATION:Park Avenue Baptist Church- Searcy\, 211 E Park Ave\, Searcy\, AR\, 72143\, United States
ATTACH;FMTTYPE=image/jpeg:https://baptisttrumpet.com/wp-content/uploads/2022/01/DistrictEvent.jpg
END:VEVENT
BEGIN:VEVENT
DTSTART;TZID=America/Chicago:20230808T000000
DTEND;TZID=America/Chicago:20230808T235959
DTSTAMP:20260424T072249
CREATED:20230613T170351Z
LAST-MODIFIED:20230613T170353Z
UID:17828-1691452800-1691539199@baptisttrumpet.com
SUMMARY:Jonesboro Dist. Brotherhood Meeting
DESCRIPTION:The Jonesboro District Brotherhood will meet at Herman Baptist Church in Bono on Tuesday\, August 8.
URL:https://baptisttrumpet.com/event/jonesboro-dist-brotherhood-meeting-5/
LOCATION:Herman Baptist Church- Bono\, 845 Hwy 91 W\, Bono\, AR\, 72416\, United States
ATTACH;FMTTYPE=image/jpeg:https://baptisttrumpet.com/wp-content/uploads/2022/10/Brotherhood.jpeg
END:VEVENT
BEGIN:VEVENT
DTSTART;TZID=America/Chicago:20230806T000000
DTEND;TZID=America/Chicago:20230809T235959
DTSTAMP:20260424T072249
CREATED:20230508T184742Z
LAST-MODIFIED:20230508T184743Z
UID:17396-1691280000-1691625599@baptisttrumpet.com
SUMMARY:County Line (Marvel) to Host Revival Services
DESCRIPTION:County Line Baptist Church near Marvell will host revival services on August 6-9. Services will be 9:30 a.m. and 5:30  p.m. on Sunday and 7 pm.\, Monday – Wednesday.  David Inzer is the evangelist.
URL:https://baptisttrumpet.com/event/county-line-marvel-to-host-revival-services/
LOCATION:County Line Baptist Church- Marvell\, 116 Lee Rd\, Marvell\, AR\, 72366\, United States
ATTACH;FMTTYPE=image/jpeg:https://baptisttrumpet.com/wp-content/uploads/2022/02/revival.jpg
END:VEVENT
BEGIN:VEVENT
DTSTART;TZID=America/Chicago:20230731T000000
DTEND;TZID=America/Chicago:20230802T235959
DTSTAMP:20260424T072249
CREATED:20230517T155139Z
LAST-MODIFIED:20230517T155141Z
UID:17593-1690761600-1691020799@baptisttrumpet.com
SUMMARY:Center Point (Nashville) to Hold Revival Services
DESCRIPTION:Center Point Baptist Church of Nashville will hold revival services July 31-August 2\, 7 p.m. nightly. Scott Feemster is the evangelist. Jaron Tipton serves as pastor.
URL:https://baptisttrumpet.com/event/center-point-nashville-to-hold-revival-services/
LOCATION:Center Point Baptist Church- Nashville\, 157 Madison St.\, Nashville\, AR\, 71852\, United States
ATTACH;FMTTYPE=image/jpeg:https://baptisttrumpet.com/wp-content/uploads/2022/02/revival.jpg
END:VEVENT
BEGIN:VEVENT
DTSTART;TZID=America/Chicago:20230728T080000
DTEND;TZID=America/Chicago:20230730T170000
DTSTAMP:20260424T072249
CREATED:20230328T205648Z
LAST-MODIFIED:20230328T205650Z
UID:16957-1690531200-1690736400@baptisttrumpet.com
SUMMARY:Arkansas Galilean Camp
DESCRIPTION:The annual Arkansas Galilean Camp will be held at Ponca Bible Camp\, July 28-30.
URL:https://baptisttrumpet.com/event/arkansas-galilean-camp/
LOCATION:Ponca Bible Camp\, 4699 AR-43\, Ponca\, Arkansas\, 72670\, United States
ATTACH;FMTTYPE=image/png:https://baptisttrumpet.com/wp-content/uploads/2022/02/Galilean-Logo6.png
END:VEVENT
BEGIN:VEVENT
DTSTART;TZID=America/Chicago:20230724T000000
DTEND;TZID=America/Chicago:20230728T235959
DTSTAMP:20260424T072249
CREATED:20230411T163349Z
LAST-MODIFIED:20230411T163350Z
UID:17198-1690156800-1690588799@baptisttrumpet.com
SUMMARY:Bodcaw (Rosston) Hosts Revival Services
DESCRIPTION:Bodcaw #1 Baptist Church in Rosston will host revival services on July 24-28\, 7 p.m. nightly. Time Vines will be the evangelist. Lane Garner serves as pastor.
URL:https://baptisttrumpet.com/event/bodcaw-rosston-hosts-revival-services/
LOCATION:Bodcaw #1 Baptist Church\, 751 Nevada 13\, Bodcaw\, AR\, United States
ATTACH;FMTTYPE=image/jpeg:https://baptisttrumpet.com/wp-content/uploads/2022/02/revival.jpg
END:VEVENT
BEGIN:VEVENT
DTSTART;TZID=America/Chicago:20230723T000000
DTEND;TZID=America/Chicago:20230723T235959
DTSTAMP:20260424T072249
CREATED:20230508T190028Z
LAST-MODIFIED:20230508T190029Z
UID:17406-1690070400-1690156799@baptisttrumpet.com
SUMMARY:Bodcaw #1 Homecoming
DESCRIPTION:Bodcaw # 1 Baptist Church near Rosston will host Homecoming Services on July 23\, 10:30 a.m.  John Norman will give the devotional. James Ross will deliver the sermon. Potluck and singing will follow. Lane Garner pastor.
URL:https://baptisttrumpet.com/event/bodcaw-1-homecoming/
LOCATION:Bodcaw #1 Baptist Church\, 751 Nevada 13\, Bodcaw\, AR\, United States
ATTACH;FMTTYPE=image/jpeg:https://baptisttrumpet.com/wp-content/uploads/2022/04/Homecoming.jpg
END:VEVENT
BEGIN:VEVENT
DTSTART;TZID=America/Chicago:20230715T000000
DTEND;TZID=America/Chicago:20230715T235959
DTSTAMP:20260424T072249
CREATED:20230613T171028Z
LAST-MODIFIED:20230613T171030Z
UID:17834-1689379200-1689465599@baptisttrumpet.com
SUMMARY:United District WMA to Meet
DESCRIPTION:The United District WMA will meet at the Bald Knob Baptist Church in Plumerville on July 15.
URL:https://baptisttrumpet.com/event/united-district-wma-to-meet/
LOCATION:Bald Knob Baptist Church\, 106 Hwy 287\, Plumerville\, AR\, 72127\, United States
ATTACH;FMTTYPE=image/jpeg:https://baptisttrumpet.com/wp-content/uploads/2022/01/DistrictEvent.jpg
END:VEVENT
BEGIN:VEVENT
DTSTART;TZID=America/Chicago:20230715T000000
DTEND;TZID=America/Chicago:20230715T235959
DTSTAMP:20260424T072249
CREATED:20230508T190718Z
LAST-MODIFIED:20230508T190719Z
UID:17412-1689379200-1689465599@baptisttrumpet.com
SUMMARY:United District WMA
DESCRIPTION:The United District WMA will meet on Saturday\, July 15 with the Bald Knob Baptist Church near Plumerville.
URL:https://baptisttrumpet.com/event/united-district-wma-2/
LOCATION:Bald Knob Baptist Church\, 106 Hwy 287\, Plumerville\, AR\, 72127\, United States
ATTACH;FMTTYPE=image/jpeg:https://baptisttrumpet.com/wp-content/uploads/2022/01/DistrictEvent.jpg
END:VEVENT
BEGIN:VEVENT
DTSTART;TZID=America/Chicago:20230713T000000
DTEND;TZID=America/Chicago:20230713T235959
DTSTAMP:20260424T072249
CREATED:20230613T170834Z
LAST-MODIFIED:20230613T170835Z
UID:17832-1689206400-1689292799@baptisttrumpet.com
SUMMARY:Greenbrier District WMA to Meet
DESCRIPTION:The Greenbrier District WMA will meet at the Springhill Baptist Church in Greenbrier on Thursday\, July 11.
URL:https://baptisttrumpet.com/event/greenbrier-district-wma-to-meet/
LOCATION:Springhill Baptist Church-Greenbrier\, 25 Hwy 287\, Greenbrier\, AR\, 72058\, United States
ATTACH;FMTTYPE=image/jpeg:https://baptisttrumpet.com/wp-content/uploads/2022/01/DistrictEvent.jpg
END:VEVENT
BEGIN:VEVENT
DTSTART;TZID=America/Chicago:20230711T000000
DTEND;TZID=America/Chicago:20230711T235959
DTSTAMP:20260424T072249
CREATED:20230613T170636Z
LAST-MODIFIED:20230613T170638Z
UID:17830-1689033600-1689119999@baptisttrumpet.com
SUMMARY:Southwest District WMA to Meet
DESCRIPTION:The Southwest District WMA will meet on Tuesday\, July 11\, 2023at Pleasant Springs Baptist Church in McCaskell.
URL:https://baptisttrumpet.com/event/southwest-district-wma-to-meet/
LOCATION:Pleasant Springs Baptist Church – McCaskill\, McCaskill\, AR\, 71847\, United States
ATTACH;FMTTYPE=image/jpeg:https://baptisttrumpet.com/wp-content/uploads/2022/01/DistrictEvent.jpg
END:VEVENT
BEGIN:VEVENT
DTSTART;TZID=America/Chicago:20230711T000000
DTEND;TZID=America/Chicago:20230711T235959
DTSTAMP:20260424T072249
CREATED:20230613T170116Z
LAST-MODIFIED:20230613T170130Z
UID:17825-1689033600-1689119999@baptisttrumpet.com
SUMMARY:Jonesboro Dist. Brotherhood Meeting
DESCRIPTION:The Jonesboro District Brotherhood will meet at Highland Hills Baptist Church in Highland on Tuesday\, July 11.
URL:https://baptisttrumpet.com/event/jonesboro-dist-brotherhood-meeting-4/
LOCATION:Highland Hills Baptist Church- Highland\, 2021 Hwy 62 412\, Highland\, AR\, 72542\, United States
ATTACH;FMTTYPE=image/jpeg:https://baptisttrumpet.com/wp-content/uploads/2022/10/Brotherhood.jpeg
END:VEVENT
BEGIN:VEVENT
DTSTART;TZID=America/Chicago:20230710T000000
DTEND;TZID=America/Chicago:20230710T235959
DTSTAMP:20260424T072249
CREATED:20230613T165932Z
LAST-MODIFIED:20230613T165933Z
UID:17823-1688947200-1689033599@baptisttrumpet.com
SUMMARY:Central Ark. Dist. Brotherhood to Meet
DESCRIPTION:The Central Arkansas District Brotherhood will meet with The Church at Willow Beach in North Little Rock on Monday\, July 10 at 6:30 p.m.
URL:https://baptisttrumpet.com/event/central-ark-dist-brotherhood-to-meet/
LOCATION:Church at Willow Beach\, 11200 US-165\, North Little Rock\, AR\, 72117\, United States
ATTACH;FMTTYPE=image/jpeg:https://baptisttrumpet.com/wp-content/uploads/2022/10/Brotherhood.jpeg
END:VEVENT
BEGIN:VEVENT
DTSTART;TZID=America/Chicago:20230710T000000
DTEND;TZID=America/Chicago:20230710T235959
DTSTAMP:20260424T072249
CREATED:20230508T190919Z
LAST-MODIFIED:20230508T190920Z
UID:17414-1688947200-1689033599@baptisttrumpet.com
SUMMARY:Central Arkansas District Brotherhood
DESCRIPTION:The Central Arkansas District Brotherhood will meet on July 10 at 6:30 p.m. with the Church at Willow Beach\, North Little Rock.
URL:https://baptisttrumpet.com/event/central-arkansas-district-brotherhood-2/
LOCATION:Church at Willow Beach\, 11200 US-165\, North Little Rock\, AR\, 72117\, United States
ATTACH;FMTTYPE=image/jpeg:https://baptisttrumpet.com/wp-content/uploads/2022/01/DistrictEvent.jpg
END:VEVENT
BEGIN:VEVENT
DTSTART;TZID=America/Chicago:20230703T000000
DTEND;TZID=America/Chicago:20230705T235959
DTSTAMP:20260424T072249
CREATED:20220705T195454Z
LAST-MODIFIED:20220705T195456Z
UID:14023-1688342400-1688601599@baptisttrumpet.com
SUMMARY:SOAR Student Conference
DESCRIPTION:
URL:https://baptisttrumpet.com/event/soar-student-conference-2/
LOCATION:Gaylord Texan\, Grapevine\, Texas\, 1501 Gaylord Trail\, Grapevine\, TX\, 76051\, United States
ATTACH;FMTTYPE=image/jpeg:https://baptisttrumpet.com/wp-content/uploads/2022/07/soar-2023.jpeg
END:VEVENT
BEGIN:VEVENT
DTSTART;TZID=America/Chicago:20230623T000000
DTEND;TZID=America/Chicago:20230626T235959
DTSTAMP:20260424T072249
CREATED:20220823T121640Z
LAST-MODIFIED:20220823T121641Z
UID:14562-1687478400-1687823999@baptisttrumpet.com
SUMMARY:National Galilean Camp
DESCRIPTION:National Galilean Camp is planned for June 23-26\, 2023 at Stoneridge Baptist Camp in Smithville\, Arkansas.
URL:https://baptisttrumpet.com/event/national-galilean-camp-5/
LOCATION:Stone Ridge Camp\, Smithville\, AR\, United States
ATTACH;FMTTYPE=image/png:https://baptisttrumpet.com/wp-content/uploads/2022/02/Galilean-Logo6.png
END:VEVENT
BEGIN:VEVENT
DTSTART;TZID=America/Chicago:20230614T000000
DTEND;TZID=America/Chicago:20230617T235959
DTSTAMP:20260424T072249
CREATED:20230517T161336Z
LAST-MODIFIED:20230517T161337Z
UID:17602-1686700800-1687046399@baptisttrumpet.com
SUMMARY:Girls' Discipleship Camp
DESCRIPTION:A girls’ discipleship camp is planned for June 14-17 at Daniel Springs Baptist Canp in Gary Texas. Visit nationalgma.org/retreat for more information.
URL:https://baptisttrumpet.com/event/girls-discipleship-camp/
ATTACH;FMTTYPE=image/png:https://baptisttrumpet.com/wp-content/uploads/2023/05/SummerCamp.png
END:VEVENT
BEGIN:VEVENT
DTSTART;TZID=America/Chicago:20230611T000000
DTEND;TZID=America/Chicago:20230611T235959
DTSTAMP:20260424T072249
CREATED:20230508T185724Z
LAST-MODIFIED:20230508T185725Z
UID:17404-1686441600-1686527999@baptisttrumpet.com
SUMMARY:Center Grove Homecoming
DESCRIPTION:Center Grove Baptist Church near Cord will host Homecoming services on June 11 at 10:30 a.m. Dr. Charlie Holmes will deliver the sermon. Lunch will follow. Barry Anderson serves as pastor.
URL:https://baptisttrumpet.com/event/center-grove-homecoming/
LOCATION:Center Grove Baptist Church\, 8070 White Dr.\, Cord\, AR\, 72501\, United States
ATTACH;FMTTYPE=image/jpeg:https://baptisttrumpet.com/wp-content/uploads/2022/04/Homecoming.jpg
END:VEVENT
BEGIN:VEVENT
DTSTART;TZID=America/Chicago:20230606T000000
DTEND;TZID=America/Chicago:20230606T235959
DTSTAMP:20260424T072249
CREATED:20230508T190559Z
LAST-MODIFIED:20230508T190600Z
UID:17410-1686009600-1686095999@baptisttrumpet.com
SUMMARY:Jonesboro District Brotherhood
DESCRIPTION:Jonesboro District Brotherhood will meet on June 6 with the Oak Grove Baptist Church in Jonesboro.
URL:https://baptisttrumpet.com/event/jonesboro-district-brotherhood-12/
LOCATION:Oak Grove Baptist Church\, Jonesboro\, 2187 Highway 349\, Jonesboro\, AR\, 72404\, United States
ATTACH;FMTTYPE=image/jpeg:https://baptisttrumpet.com/wp-content/uploads/2022/01/DistrictEvent.jpg
END:VEVENT
BEGIN:VEVENT
DTSTART;TZID=America/Chicago:20230605T000000
DTEND;TZID=America/Chicago:20230605T235959
DTSTAMP:20260424T072249
CREATED:20230328T210958Z
LAST-MODIFIED:20230328T211000Z
UID:16967-1685923200-1686009599@baptisttrumpet.com
SUMMARY:Mt. Vernon District Brotherhood
DESCRIPTION:The Mt. Vernon District Brotherhood will meet with the First Baptist Church of Caldwell\, June 5\, at 6:30 p.m.
URL:https://baptisttrumpet.com/event/mt-vernon-district-brotherhood-6/
LOCATION:First Baptist Church- Caldwell\, 5298 Hwy 1 N\, Caldwell\, AR\, 72322\, United States
ATTACH;FMTTYPE=image/jpeg:https://baptisttrumpet.com/wp-content/uploads/2022/01/DistrictEvent.jpg
END:VEVENT
BEGIN:VEVENT
DTSTART;TZID=America/Chicago:20230604T000000
DTEND;TZID=America/Chicago:20230607T235959
DTSTAMP:20260424T072249
CREATED:20230508T184456Z
LAST-MODIFIED:20230508T184457Z
UID:17394-1685836800-1686182399@baptisttrumpet.com
SUMMARY:Shiloh (Waldo) to Host Revival Services
DESCRIPTION:Shiloh Baptist Church (Lamartine Community) near Waldo will host revival services on June 4-7. Services will begin at 11 a.m. and 6 p.m. on Sunday and 7 p.m. Monday – Wednesday. Bobby Sparks is the evangelist. Michael Clark serves as pastor.
URL:https://baptisttrumpet.com/event/shiloh-waldo-to-host-revival-services/
LOCATION:Shiloh Baptist Church- Waldo\, 430 Columbia 60 E\, Waldo\, AR\, 71858\, United States
ATTACH;FMTTYPE=image/jpeg:https://baptisttrumpet.com/wp-content/uploads/2022/02/revival.jpg
END:VEVENT
BEGIN:VEVENT
DTSTART;TZID=America/Chicago:20230604T000000
DTEND;TZID=America/Chicago:20230604T235959
DTSTAMP:20260424T072249
CREATED:20230522T113642Z
LAST-MODIFIED:20230522T113644Z
UID:17605-1685836800-1685923199@baptisttrumpet.com
SUMMARY:Homecoming at Kingsland
DESCRIPTION:Kingsland Baptist Church in Kingsland will host homecoming services on Sunday\, June 4 at 10:45 a.m. Captain Smead will be the speaker. Potluck lunch to follow. Rick Bolin serves as pastor.
URL:https://baptisttrumpet.com/event/homecoming-at-kingsland/
LOCATION:Kingsland Baptist Church\, 200 1st St.\, Kingsland\, AR\, 71652\, United States
ATTACH;FMTTYPE=image/jpeg:https://baptisttrumpet.com/wp-content/uploads/2022/04/Homecoming.jpg
END:VEVENT
BEGIN:VEVENT
DTSTART;TZID=America/Chicago:20230604T000000
DTEND;TZID=America/Chicago:20230604T235959
DTSTAMP:20260424T072249
CREATED:20230517T160010Z
LAST-MODIFIED:20230517T160011Z
UID:17600-1685836800-1685923199@baptisttrumpet.com
SUMMARY:Gospel Singing
DESCRIPTION:The Kinsman will be singing at the Union Baptist Church near Rosston on June 4 at 10:30 am.
URL:https://baptisttrumpet.com/event/gospel-singing-10/
LOCATION:Union Baptist Church- Rosston\, 1925 Hwy 53\, Rosston\, AR\, 71858\, United States
ATTACH;FMTTYPE=image/png:https://baptisttrumpet.com/wp-content/uploads/2022/03/GospelConcert.png
END:VEVENT
BEGIN:VEVENT
DTSTART;TZID=America/Chicago:20230603T000000
DTEND;TZID=America/Chicago:20230603T235959
DTSTAMP:20260424T072249
CREATED:20230207T185415Z
LAST-MODIFIED:20230207T185915Z
UID:16308-1685750400-1685836799@baptisttrumpet.com
SUMMARY:Hot Dogs and Hot Rods Car Show
DESCRIPTION:Life Song Baptist Church is hosting their 7th Annual Hot Dogs and Hot Rods Car Show Fundraiser benefitting Water for Christ. The event is free to the public and includes food\, music and classic cars.  \n\n\n\nTo register your car\, visit waterforchirst.com/events/hot-dogs-hot-rods or call 501.941.5742. \n\n\n\nDay of Show registration is $ 30 \n\n\n\nPre-registration closes June 2nd.
URL:https://baptisttrumpet.com/event/hot-dogs-and-hot-rods-car-show-2/
LOCATION:Lifesong Baptist Church- Greenbrier\, 56 Broadview St.\, Greenbrier\, AR\, 72058\, United States
ATTACH;FMTTYPE=image/jpeg:https://baptisttrumpet.com/wp-content/uploads/2022/03/208094562_232399515366197_4882702035517706489_n.jpeg
END:VEVENT
BEGIN:VEVENT
DTSTART;TZID=America/Chicago:20230530T000000
DTEND;TZID=America/Chicago:20230601T235959
DTSTAMP:20260424T072249
CREATED:20230517T154925Z
LAST-MODIFIED:20230517T155828Z
UID:17591-1685404800-1685663999@baptisttrumpet.com
SUMMARY:Dickinson Baptist to Hold Revival Services
DESCRIPTION:Dickinson Baptist Church near Hampton will hold revival services May 30-June 1\, 7 p.m. nightly. Rubin weaver will serve as evangelist.
URL:https://baptisttrumpet.com/event/dickinson-baptist-to-hold-revival-services/
LOCATION:Dickinson Baptist Church\, 1372 Calhoun 38\, Harrell\, 71745\, United States
ATTACH;FMTTYPE=image/jpeg:https://baptisttrumpet.com/wp-content/uploads/2022/02/revival.jpg
END:VEVENT
BEGIN:VEVENT
DTSTART;TZID=America/Chicago:20230529T000000
DTEND;TZID=America/Chicago:20230601T235959
DTSTAMP:20260424T072249
CREATED:20230307T175053Z
LAST-MODIFIED:20230411T162600Z
UID:16692-1685318400-1685663999@baptisttrumpet.com
SUMMARY:Union (Rosston) Hosts Revival Services
DESCRIPTION:Union Baptist Church in Rosston will host revival services May 29-21\, 7 p.m. nightly. Jim Moss is the evangelist. Joe Brown serves as pastor.
URL:https://baptisttrumpet.com/event/revival-services-union-baptist/
LOCATION:Union Baptist Church- Rosston\, 1925 Hwy 53\, Rosston\, AR\, 71858\, United States
ATTACH;FMTTYPE=image/jpeg:https://baptisttrumpet.com/wp-content/uploads/2022/02/revival.jpg
END:VEVENT
END:VCALENDAR