BEGIN:VCALENDAR
VERSION:2.0
PRODID:-//Baptist Trumpet - ECPv6.15.20//NONSGML v1.0//EN
CALSCALE:GREGORIAN
METHOD:PUBLISH
X-WR-CALNAME:Baptist Trumpet
X-ORIGINAL-URL:https://baptisttrumpet.com
X-WR-CALDESC:Events for Baptist Trumpet
REFRESH-INTERVAL;VALUE=DURATION:PT1H
X-Robots-Tag:noindex
X-PUBLISHED-TTL:PT1H
BEGIN:VTIMEZONE
TZID:America/Chicago
BEGIN:DAYLIGHT
TZOFFSETFROM:-0600
TZOFFSETTO:-0500
TZNAME:CDT
DTSTART:20230312T080000
END:DAYLIGHT
BEGIN:STANDARD
TZOFFSETFROM:-0500
TZOFFSETTO:-0600
TZNAME:CST
DTSTART:20231105T070000
END:STANDARD
BEGIN:DAYLIGHT
TZOFFSETFROM:-0600
TZOFFSETTO:-0500
TZNAME:CDT
DTSTART:20240310T080000
END:DAYLIGHT
BEGIN:STANDARD
TZOFFSETFROM:-0500
TZOFFSETTO:-0600
TZNAME:CST
DTSTART:20241103T070000
END:STANDARD
BEGIN:DAYLIGHT
TZOFFSETFROM:-0600
TZOFFSETTO:-0500
TZNAME:CDT
DTSTART:20250309T080000
END:DAYLIGHT
BEGIN:STANDARD
TZOFFSETFROM:-0500
TZOFFSETTO:-0600
TZNAME:CST
DTSTART:20251102T070000
END:STANDARD
BEGIN:DAYLIGHT
TZOFFSETFROM:-0600
TZOFFSETTO:-0500
TZNAME:CDT
DTSTART:20260308T080000
END:DAYLIGHT
BEGIN:STANDARD
TZOFFSETFROM:-0500
TZOFFSETTO:-0600
TZNAME:CST
DTSTART:20261101T070000
END:STANDARD
END:VTIMEZONE
BEGIN:VEVENT
DTSTART;TZID=America/Chicago:20250810T100000
DTEND;TZID=America/Chicago:20250810T140000
DTSTAMP:20260424T012339
CREATED:20250729T160339Z
LAST-MODIFIED:20250729T160340Z
UID:27529-1754820000-1754834400@baptisttrumpet.com
SUMMARY:Homecoming: Antioch\, Conway
DESCRIPTION:Aug. 10\, 10 a.m.; Celebrating 100 years; Conway Expo Center; meal to follow; Dr. Jason Aultman\, pastor.
URL:https://baptisttrumpet.com/event/homecoming-antioch-conway/
ATTACH;FMTTYPE=image/jpeg:https://baptisttrumpet.com/wp-content/uploads/2022/04/Homecoming.jpg
END:VEVENT
BEGIN:VEVENT
DTSTART;TZID=America/Chicago:20250810T100000
DTEND;TZID=America/Chicago:20250810T120000
DTSTAMP:20260424T012339
CREATED:20250729T160552Z
LAST-MODIFIED:20250729T160743Z
UID:27531-1754820000-1754827200@baptisttrumpet.com
SUMMARY:Homecoming: Zion\, Fordyce
DESCRIPTION:Aug. 10\, 10 a.m.; Celebrating 120 Years; Captain Smead\, music; Scott Smith\, pastor and speaker.
URL:https://baptisttrumpet.com/event/homecmoing-zion-fordyce/
ATTACH;FMTTYPE=image/jpeg:https://baptisttrumpet.com/wp-content/uploads/2022/04/Homecoming.jpg
END:VEVENT
BEGIN:VEVENT
DTSTART;TZID=America/Chicago:20250810T090000
DTEND;TZID=America/Chicago:20250810T120000
DTSTAMP:20260424T012339
CREATED:20250729T160228Z
LAST-MODIFIED:20250729T160229Z
UID:27527-1754816400-1754827200@baptisttrumpet.com
SUMMARY:Homecoming: Beacon\, Taylor
DESCRIPTION:Aug. 10\, 9 a.m.\, Sunday School; 10 a.m. worship\, 11 a.m. fellowship and singing; Karry Easley\, pastor.
URL:https://baptisttrumpet.com/event/homecoming-beacon-taylor/
ATTACH;FMTTYPE=image/jpeg:https://baptisttrumpet.com/wp-content/uploads/2022/04/Homecoming.jpg
END:VEVENT
BEGIN:VEVENT
DTSTART;TZID=America/Chicago:20250804T180000
DTEND;TZID=America/Chicago:20250807T203000
DTSTAMP:20260424T012339
CREATED:20250729T164020Z
LAST-MODIFIED:20250729T164021Z
UID:27542-1754330400-1754598600@baptisttrumpet.com
SUMMARY:VBS: Broadway\, Bay
DESCRIPTION:
URL:https://baptisttrumpet.com/event/vbs-broadway-bay/
CATEGORIES:VBS
ATTACH;FMTTYPE=image/png:https://baptisttrumpet.com/wp-content/uploads/2022/04/VBS-Column-Announcement.png
END:VEVENT
BEGIN:VEVENT
DTSTART;TZID=America/Chicago:20250803T173000
DTEND;TZID=America/Chicago:20250806T190000
DTSTAMP:20260424T012339
CREATED:20250716T195643Z
LAST-MODIFIED:20250716T195644Z
UID:27433-1754242200-1754506800@baptisttrumpet.com
SUMMARY:REVIVAL: Victory\, Hampton
DESCRIPTION:Aug. 3-6\, Sun. 5:30 p.m.\, Mon.-Wed. 7 p.m.; Rueben Weaver\, evangelist; Robbie Duncan\, pastor.
URL:https://baptisttrumpet.com/event/revival-victory-hampton-5/
ATTACH;FMTTYPE=image/jpeg:https://baptisttrumpet.com/wp-content/uploads/2022/02/revival.jpg
END:VEVENT
BEGIN:VEVENT
DTSTART;TZID=America/Chicago:20250803T173000
DTEND;TZID=America/Chicago:20250806T190000
DTSTAMP:20260424T012339
CREATED:20250716T195551Z
LAST-MODIFIED:20250716T195552Z
UID:27431-1754242200-1754506800@baptisttrumpet.com
SUMMARY:REVIVAL: County Line\, Marvell
DESCRIPTION:Aug. 3-6\, Sun. 5:30 p.m.\, Mon.-Wed. 7 p.m.; Bobby McPherson\, evangelist.
URL:https://baptisttrumpet.com/event/revival-county-line-marvell-2/
ATTACH;FMTTYPE=image/jpeg:https://baptisttrumpet.com/wp-content/uploads/2022/02/revival.jpg
END:VEVENT
BEGIN:VEVENT
DTSTART;TZID=America/Chicago:20250803T170000
DTEND;TZID=America/Chicago:20250806T200000
DTSTAMP:20260424T012339
CREATED:20250729T163929Z
LAST-MODIFIED:20250729T163930Z
UID:27540-1754240400-1754510400@baptisttrumpet.com
SUMMARY:VBS: Barney\, Barney
DESCRIPTION:Aug. 3-6\, 5 p.m. – 8 p.m.; Aug. 8\, 6 p.m. Closing Program; Camp Chaos.
URL:https://baptisttrumpet.com/event/vbs-barney-barney/
CATEGORIES:VBS
ATTACH;FMTTYPE=image/png:https://baptisttrumpet.com/wp-content/uploads/2022/04/VBS-Column-Announcement.png
END:VEVENT
BEGIN:VEVENT
DTSTART;TZID=America/Chicago:20250803T093000
DTEND;TZID=America/Chicago:20250803T140000
DTSTAMP:20260424T012339
CREATED:20250729T155908Z
LAST-MODIFIED:20250729T155910Z
UID:27525-1754213400-1754229600@baptisttrumpet.com
SUMMARY:Homecoming: Sand Springs\, Damascus
DESCRIPTION:9:30 a.m. singing; 10:30 a.m. message; potluck to follow; John Burleson\, pastor.
URL:https://baptisttrumpet.com/event/homecoming-sand-springs-damascus-2/
ATTACH;FMTTYPE=image/jpeg:https://baptisttrumpet.com/wp-content/uploads/2022/04/Homecoming.jpg
END:VEVENT
BEGIN:VEVENT
DTSTART;TZID=America/Chicago:20250802T080000
DTEND;TZID=America/Chicago:20250802T100000
DTSTAMP:20260424T012339
CREATED:20250715T211150Z
LAST-MODIFIED:20250715T211152Z
UID:27397-1754121600-1754128800@baptisttrumpet.com
SUMMARY:Greenbrier District Men's Breakfast
DESCRIPTION:Kaley Hill\, Quitman
URL:https://baptisttrumpet.com/event/greenbrier-district-mens-breakfast-2/
ATTACH;FMTTYPE=image/jpeg:https://baptisttrumpet.com/wp-content/uploads/2022/01/DistrictEvent.jpg
END:VEVENT
BEGIN:VEVENT
DTSTART;TZID=America/Chicago:20250727T060000
DTEND;TZID=America/Chicago:20250730T180000
DTSTAMP:20260424T012339
CREATED:20250716T195113Z
LAST-MODIFIED:20250716T195114Z
UID:27427-1753596000-1753898400@baptisttrumpet.com
SUMMARY:REVIVAL: Center Point\, Nashville
DESCRIPTION:July 27-30; 6 p.m.; John David Watson\, evangelist; Jaron Tipton\, pastor.
URL:https://baptisttrumpet.com/event/revival-center-point-nashville-4/
ATTACH;FMTTYPE=image/jpeg:https://baptisttrumpet.com/wp-content/uploads/2022/02/revival.jpg
END:VEVENT
BEGIN:VEVENT
DTSTART;TZID=America/Chicago:20250727T050000
DTEND;TZID=America/Chicago:20250730T190000
DTSTAMP:20260424T012339
CREATED:20250716T195249Z
LAST-MODIFIED:20250716T195250Z
UID:27429-1753592400-1753902000@baptisttrumpet.com
SUMMARY:REVIVAL: Temple\, Fordyce
DESCRIPTION:July 27-30; Sun. 5 p.m.\, Mon.-Wed. 7 p.m.; Jerry Burress\, pastor.
URL:https://baptisttrumpet.com/event/revival-temple-fordyce-2/
ATTACH;FMTTYPE=image/jpeg:https://baptisttrumpet.com/wp-content/uploads/2022/02/revival.jpg
END:VEVENT
BEGIN:VEVENT
DTSTART;TZID=America/Chicago:20250721T070000
DTEND;TZID=America/Chicago:20250725T190000
DTSTAMP:20260424T012339
CREATED:20250716T194914Z
LAST-MODIFIED:20250716T194915Z
UID:27425-1753081200-1753470000@baptisttrumpet.com
SUMMARY:REVIVAL: New Liberty\, Emmett
DESCRIPTION:July 21-25\, 7 p.m.; John Nations\, evangelist; Billy Chris Langston\, pastor.
URL:https://baptisttrumpet.com/event/revival-new-liberty-emmett/
ATTACH;FMTTYPE=image/jpeg:https://baptisttrumpet.com/wp-content/uploads/2022/02/revival.jpg
END:VEVENT
BEGIN:VEVENT
DTSTART;TZID=America/Chicago:20250720T080000
DTEND;TZID=America/Chicago:20250723T170000
DTSTAMP:20260424T012339
CREATED:20250716T194722Z
LAST-MODIFIED:20250716T194723Z
UID:27423-1752998400-1753290000@baptisttrumpet.com
SUMMARY:REVIVAL: Bluff Springs\, Rosston
DESCRIPTION:Sun. 5 p.m.-Damien Roders\, Mon. 7 p.m.-Neal Ridling\, Tues. 7 p.m.-James Cox\, Wed. 7 p.m.-Donnie Deaton; Donnie Dillard\, pastor.
URL:https://baptisttrumpet.com/event/revival-bluff-springs-rosston-4/
ATTACH;FMTTYPE=image/jpeg:https://baptisttrumpet.com/wp-content/uploads/2022/02/revival.jpg
END:VEVENT
BEGIN:VEVENT
DTSTART;TZID=America/Chicago:20250719T093000
DTEND;TZID=America/Chicago:20250719T140000
DTSTAMP:20260424T012339
CREATED:20250716T191922Z
LAST-MODIFIED:20250716T191924Z
UID:27408-1752917400-1752933600@baptisttrumpet.com
SUMMARY:Bible Conference
DESCRIPTION:Join the Conference at First Baptist Church\, Roland\, Okla. Lunch will be provided.
URL:https://baptisttrumpet.com/event/bible-conference/
ATTACH;FMTTYPE=image/jpeg:https://baptisttrumpet.com/wp-content/uploads/2022/02/bible_god_religion_christianity_faith_book_holy_belief-849520.jpg
END:VEVENT
BEGIN:VEVENT
DTSTART;TZID=America/Chicago:20250717T100000
DTEND;TZID=America/Chicago:20250717T140000
DTSTAMP:20260424T012339
CREATED:20250715T204254Z
LAST-MODIFIED:20250715T204256Z
UID:27395-1752746400-1752760800@baptisttrumpet.com
SUMMARY:Greenbrier District WMA
DESCRIPTION:Barbara Amy\, Speaker; Springhill\, Greenbrier
URL:https://baptisttrumpet.com/event/greenbrier-district-wma-9/
ATTACH;FMTTYPE=image/jpeg:https://baptisttrumpet.com/wp-content/uploads/2022/01/DistrictEvent.jpg
END:VEVENT
BEGIN:VEVENT
DTSTART;TZID=America/Chicago:20241112T080000
DTEND;TZID=America/Chicago:20241114T170000
DTSTAMP:20260424T012339
CREATED:20240214T172125Z
LAST-MODIFIED:20240214T172159Z
UID:21103-1731398400-1731603600@baptisttrumpet.com
SUMMARY:Celebration Adult Conference
DESCRIPTION:The Baptist Missionary Association Celebration conference is a worship celebration created for adults! Held at the beautiful Chateau On The Lake in Branson\, MO\, it’s a time to come together and enjoy fellowship\, Bible teaching\, music and entertainment. Coming November 12-14\, 2024!
URL:https://baptisttrumpet.com/event/celebration-adult-conference/
LOCATION:Chateau on the Lake – Branson\, Missouri\, 415 N State Hwy 265\, Branson\, MO\, 65616\, United States
ATTACH;FMTTYPE=image/jpeg:https://baptisttrumpet.com/wp-content/uploads/2024/02/Celebration2024-1024x576-1.jpg
END:VEVENT
BEGIN:VEVENT
DTSTART;TZID=America/Chicago:20241107T000000
DTEND;TZID=America/Chicago:20241108T235959
DTSTAMP:20260424T012339
CREATED:20240130T133945Z
LAST-MODIFIED:20240130T133946Z
UID:20722-1730937600-1731110399@baptisttrumpet.com
SUMMARY:BMA of Arkansas Annual Mtg.
DESCRIPTION:The annual meeting of the BMA of Arkansas is set for Thursday and Friday\, November 7-8. Messengers will gather at Central Baptist College in Conway.
URL:https://baptisttrumpet.com/event/bma-of-arkansas-annual-mtg/
LOCATION:Central Baptist College\, 1500 College Ave.\, Conway\, AR\, 72034\, United States
ATTACH;FMTTYPE=image/png:https://baptisttrumpet.com/wp-content/uploads/2022/03/BMA-of-Arkansas-Logo-BASIC-AR.png
END:VEVENT
BEGIN:VEVENT
DTSTART;TZID=America/Chicago:20241001T080000
DTEND;TZID=America/Chicago:20241003T170000
DTSTAMP:20260424T012339
CREATED:20240214T172310Z
LAST-MODIFIED:20240214T172425Z
UID:21106-1727769600-1727974800@baptisttrumpet.com
SUMMARY:Re:Charge Leader's Retreat
DESCRIPTION:Every church leader needs time away from ministry. Re:Charge Leader’s Retreat is a conference specifically designed to refresh and inspire church leaders for their work in ministry. With great preaching\, inspiring worship\, and encouraging breakouts\, Re:Charge Leader’s Retreat is perfect for pastors\, church staff and ministry volunteers. Re:Charge is October 1-3\, 2024\, at Calvary Baptist Church in Fayetteville\, AR.
URL:https://baptisttrumpet.com/event/recharge-leaders-retreat/
ATTACH;FMTTYPE=image/png:https://baptisttrumpet.com/wp-content/uploads/2024/02/ReChargeBLACK-1024x282-1.png
END:VEVENT
BEGIN:VEVENT
DTSTART;TZID=America/Chicago:20240914T000000
DTEND;TZID=America/Chicago:20240914T235959
DTSTAMP:20260424T012339
CREATED:20240130T133709Z
LAST-MODIFIED:20240130T133710Z
UID:20718-1726272000-1726358399@baptisttrumpet.com
SUMMARY:Student Ministry Workers Retreat
DESCRIPTION:The annual Student Ministry Workers Retreat is set for Saturday\, September 14 at Central Baptist College.
URL:https://baptisttrumpet.com/event/student-ministry-workers-retreat-5/
LOCATION:Central Baptist College\, 1500 College Ave.\, Conway\, AR\, 72034\, United States
ATTACH;FMTTYPE=image/jpeg:https://baptisttrumpet.com/wp-content/uploads/2024/01/SMM-Retreat.jpeg
END:VEVENT
BEGIN:VEVENT
DTSTART;TZID=America/Chicago:20240713T000000
DTEND;TZID=America/Chicago:20240713T235959
DTSTAMP:20260424T012339
CREATED:20240130T131426Z
LAST-MODIFIED:20240130T131427Z
UID:20700-1720828800-1720915199@baptisttrumpet.com
SUMMARY:United District WMA
DESCRIPTION:The United District WMA will gather on Saturday\, July 13 at Hattieville Baptist Church in Hattieville.
URL:https://baptisttrumpet.com/event/united-district-wma-4/
LOCATION:Hattieville Baptist Church – Hattieville\, 30 Russell Rd\, Hattieville\, AR\, 72063\, United States
ATTACH;FMTTYPE=image/jpeg:https://baptisttrumpet.com/wp-content/uploads/2022/01/DistrictEvent.jpg
END:VEVENT
BEGIN:VEVENT
DTSTART;TZID=America/Chicago:20240603T000000
DTEND;TZID=America/Chicago:20240605T235959
DTSTAMP:20260424T012339
CREATED:20230711T170713Z
LAST-MODIFIED:20230711T170715Z
UID:18125-1717372800-1717631999@baptisttrumpet.com
SUMMARY:SOAR 2024
DESCRIPTION:
URL:https://baptisttrumpet.com/event/soar-2024/
ATTACH;FMTTYPE=image/jpeg:https://baptisttrumpet.com/wp-content/uploads/2023/07/SOAR24Announcement.jpg
END:VEVENT
BEGIN:VEVENT
DTSTART;TZID=America/Chicago:20240416T000000
DTEND;TZID=America/Chicago:20240418T235959
DTSTAMP:20260424T012339
CREATED:20230502T122420Z
LAST-MODIFIED:20240130T134318Z
UID:17319-1713225600-1713484799@baptisttrumpet.com
SUMMARY:BMA National Meeting
DESCRIPTION:The 2024 BMA National Meeting is set for April 16-18 at Chateau on the Lake Resort in Branson\, Missouri. Click here for details.
URL:https://baptisttrumpet.com/event/bma-national-meeting-2/
LOCATION:Chateau on the Lake – Branson\, Missouri\, 415 N State Hwy 265\, Branson\, MO\, 65616\, United States
ATTACH;FMTTYPE=image/png:https://baptisttrumpet.com/wp-content/uploads/2022/03/512px-BMA-Logo-e1619105959690.png
END:VEVENT
BEGIN:VEVENT
DTSTART;TZID=America/Chicago:20240413T000000
DTEND;TZID=America/Chicago:20240413T235959
DTSTAMP:20260424T012339
CREATED:20240130T131230Z
LAST-MODIFIED:20240130T131248Z
UID:20696-1712966400-1713052799@baptisttrumpet.com
SUMMARY:Central Ark. Dist. WMA
DESCRIPTION:The Central Arkansas District WMA will meet on Saturday\, April 13\, at 10 a.m.\, at Park Place Baptist Church in Bryant.
URL:https://baptisttrumpet.com/event/central-ark-dist-wma/
LOCATION:Park Place Baptist Church\, 22208 I-30 Frontage Road\, Bryant\, Arkansas\, 72022\, United States
ATTACH;FMTTYPE=image/jpeg:https://baptisttrumpet.com/wp-content/uploads/2022/01/DistrictEvent.jpg
END:VEVENT
BEGIN:VEVENT
DTSTART;TZID=America/Chicago:20240406T080000
DTEND;TZID=America/Chicago:20240406T170000
DTSTAMP:20260424T012339
CREATED:20240130T130842Z
LAST-MODIFIED:20240130T130843Z
UID:20694-1712390400-1712422800@baptisttrumpet.com
SUMMARY:United District WMA
DESCRIPTION:The United District WMA will meet on Saturday\, April 6 at Grace Baptist Church in Russellville.
URL:https://baptisttrumpet.com/event/united-district-wma-3/
LOCATION:Grace Baptist Church- Russellville\, 1800 S Knoxville Ave\, Russellville\, AR\, 72802\, United States
ATTACH;FMTTYPE=image/jpeg:https://baptisttrumpet.com/wp-content/uploads/2022/01/DistrictEvent.jpg
END:VEVENT
BEGIN:VEVENT
DTSTART;TZID=America/Chicago:20240402T000000
DTEND;TZID=America/Chicago:20240402T235959
DTSTAMP:20260424T012339
CREATED:20240130T130448Z
LAST-MODIFIED:20240130T130449Z
UID:20689-1712016000-1712102399@baptisttrumpet.com
SUMMARY:SW Dist. WMA
DESCRIPTION:The Southwest District WMA will gather on Tuesday\, April 2 at First Baptist Church in Taylor. A meal will be served at 6 p.m. and the program presented at 7 p.m. This meeting will be in conjunction with the SW District Brotherhood.
URL:https://baptisttrumpet.com/event/sw-dist-wma/
LOCATION:First Baptist Church\, Taylor
ATTACH;FMTTYPE=image/jpeg:https://baptisttrumpet.com/wp-content/uploads/2022/01/DistrictEvent.jpg
END:VEVENT
BEGIN:VEVENT
DTSTART;TZID=America/Chicago:20240402T000000
DTEND;TZID=America/Chicago:20240402T235959
DTSTAMP:20260424T012339
CREATED:20240130T125917Z
LAST-MODIFIED:20240130T130642Z
UID:20686-1712016000-1712102399@baptisttrumpet.com
SUMMARY:Southwest Dist. Brotherhood
DESCRIPTION:The SW Arkansas District Brotherhood will meet on Tuesday\, April 2 at First Baptist Church in Taylor. A meal will be served at 6 p.m. and the program presented at 7 p.m.  This meeting will be in conjunction with the Southwest District WMA.
URL:https://baptisttrumpet.com/event/southwest-dist-brotherhood/
LOCATION:First Baptist Church\, Taylor
ATTACH;FMTTYPE=image/jpeg:https://baptisttrumpet.com/wp-content/uploads/2022/01/DistrictEvent.jpg
END:VEVENT
BEGIN:VEVENT
DTSTART;TZID=America/Chicago:20240301T000000
DTEND;TZID=America/Chicago:20240301T235959
DTSTAMP:20260424T012339
CREATED:20240130T133037Z
LAST-MODIFIED:20240130T133038Z
UID:20716-1709251200-1709337599@baptisttrumpet.com
SUMMARY:CBC Gala
DESCRIPTION:The annual Central Baptist College Gala is set for Friday\, March 1 at Antioch Baptist Church in Conway. The featured speaker is Dr. Jack Graham\, pastor of Prestonwood Baptist Church in Fort Worth\, Texas. All-proceeds fund CBC Scholarships.
URL:https://baptisttrumpet.com/event/cbc-gala/
LOCATION:Central Baptist College\, 1500 College Ave.\, Conway\, AR\, 72034\, United States
ATTACH;FMTTYPE=image/png:https://baptisttrumpet.com/wp-content/uploads/2023/12/Gala-Slider.png
END:VEVENT
BEGIN:VEVENT
DTSTART;TZID=America/Chicago:20240225T000000
DTEND;TZID=America/Chicago:20240225T235959
DTSTAMP:20260424T012339
CREATED:20240130T132710Z
LAST-MODIFIED:20240130T134036Z
UID:20712-1708819200-1708905599@baptisttrumpet.com
SUMMARY:World Missions Day
DESCRIPTION:World Missions Day is planned for Sunday\, February 25. Churches around the globe will pray\, talk about\, and give to world missions that day. Churches are encouraged to receive a  Jerry Kidd Mission Offering that will help fund BMA Global.
URL:https://baptisttrumpet.com/event/world-mission-day-2/
ATTACH;FMTTYPE=image/png:https://baptisttrumpet.com/wp-content/uploads/2023/12/2024-WMD-Banner.png
END:VEVENT
BEGIN:VEVENT
DTSTART;TZID=America/Chicago:20240224T000000
DTEND;TZID=America/Chicago:20240224T235959
DTSTAMP:20260424T012339
CREATED:20240130T125644Z
LAST-MODIFIED:20240130T125645Z
UID:20684-1708732800-1708819199@baptisttrumpet.com
SUMMARY:Greenbrier Dist. Men's Fellowship
DESCRIPTION:The Greenbrier Dist. Men’s Fellowship will meet at Immanuel Baptist Church in Greenbrier on Saturday\, February 24 at 8 a.m.
URL:https://baptisttrumpet.com/event/greenbrier-dist-mens-fellowship/
LOCATION:Immanuel Baptist Church- Greenbrier\, 61 Green Valley Dr.\, Greenbrier\, AR\, 72058\, United States
ATTACH;FMTTYPE=image/jpeg:https://baptisttrumpet.com/wp-content/uploads/2022/01/DistrictEvent.jpg
END:VEVENT
BEGIN:VEVENT
DTSTART;TZID=America/Chicago:20240223T000000
DTEND;TZID=America/Chicago:20240224T235959
DTSTAMP:20260424T012339
CREATED:20240130T132144Z
LAST-MODIFIED:20240130T132146Z
UID:20709-1708646400-1708819199@baptisttrumpet.com
SUMMARY:Galilean Spring Meeting
DESCRIPTION:The Arkansas State Galilean Spring Meeting and Basketball Tourney is set for Friday and Saturday\, February 23-24 at Central Baptist College. The featured speaker is Danny Paul\, pastor of Grace Baptist Church in Russellville.
URL:https://baptisttrumpet.com/event/galilean-spring-meeting/
LOCATION:Central Baptist College\, 1500 College Ave.\, Conway\, AR\, 72034\, United States
ATTACH;FMTTYPE=image/png:https://baptisttrumpet.com/wp-content/uploads/2022/02/Galilean-Logo6.png
END:VEVENT
END:VCALENDAR